BEGIN:VCALENDAR
VERSION:2.0
PRODID:-//English Dharma Group - ECPv6.15.3//NONSGML v1.0//EN
CALSCALE:GREGORIAN
METHOD:PUBLISH
X-WR-CALNAME:English Dharma Group
X-ORIGINAL-URL:https://edg.jadebuddha.org
X-WR-CALDESC:Events for English Dharma Group
REFRESH-INTERVAL;VALUE=DURATION:PT1H
X-Robots-Tag:noindex
X-PUBLISHED-TTL:PT1H
BEGIN:VTIMEZONE
TZID:America/Chicago
BEGIN:DAYLIGHT
TZOFFSETFROM:-0600
TZOFFSETTO:-0500
TZNAME:CDT
DTSTART:20260308T080000
END:DAYLIGHT
BEGIN:STANDARD
TZOFFSETFROM:-0500
TZOFFSETTO:-0600
TZNAME:CST
DTSTART:20261101T070000
END:STANDARD
END:VTIMEZONE
BEGIN:VEVENT
DTSTART;TZID=America/Chicago:20260503T100000
DTEND;TZID=America/Chicago:20260503T113000
DTSTAMP:20260424T184526
CREATED:20260406T014836Z
LAST-MODIFIED:20260406T014836Z
UID:6871-1777802400-1777807800@edg.jadebuddha.org
SUMMARY:Meditation & Dharma talk by	Venerable Samiddha
DESCRIPTION:Guided meditation (10AM) and Dharma talk (10:30AM).  Dharma talk will be given remotely via Zoom. But\, please join us at Kwan Yin Hall to participate in the Zoom session (projected onto screen) together with other Buddhist members.
URL:https://edg.jadebuddha.org/event/meditation-dharma-talk-byvenerable-samiddha/
LOCATION:Jade Buddha Temple\, 6969 Westbranch Drive\, Houston\, TX\, 77072\, United States
CATEGORIES:EDG Program
END:VEVENT
BEGIN:VEVENT
DTSTART;TZID=America/Chicago:20260510T100000
DTEND;TZID=America/Chicago:20260510T113000
DTSTAMP:20260424T184526
CREATED:20260406T014957Z
LAST-MODIFIED:20260406T014957Z
UID:6873-1778407200-1778412600@edg.jadebuddha.org
SUMMARY:Meditation & Dharma talk by	Bhikkhu Cintita
DESCRIPTION:Guided meditation (10AM) and Dharma talk (10:30AM).  Dharma talk will be given remotely via Zoom. But\, please join us at Kwan Yin Hall to participate in the Zoom session (projected onto screen) together with other Buddhist members.
URL:https://edg.jadebuddha.org/event/meditation-dharma-talk-bybhikkhu-cintita/
LOCATION:Jade Buddha Temple\, 6969 Westbranch Drive\, Houston\, TX\, 77072\, United States
CATEGORIES:EDG Program
END:VEVENT
BEGIN:VEVENT
DTSTART;TZID=America/Chicago:20260517T100000
DTEND;TZID=America/Chicago:20260517T113000
DTSTAMP:20260424T184526
CREATED:20260406T015111Z
LAST-MODIFIED:20260406T015111Z
UID:6875-1779012000-1779017400@edg.jadebuddha.org
SUMMARY:Meditation & Dharma talk by Ann Friedman
DESCRIPTION:Guided meditation (10AM) and Dharma talk (10:30AM).  Dharma talk will be given in person\, at Kwan Yin Hall. This will also be available via Zoom\, for persons that cannot attend.
URL:https://edg.jadebuddha.org/event/meditation-dharma-talk-by-ann-friedman-2/
LOCATION:Jade Buddha Temple\, 6969 Westbranch Drive\, Houston\, TX\, 77072\, United States
CATEGORIES:EDG Program
END:VEVENT
BEGIN:VEVENT
DTSTART;TZID=America/Chicago:20260524T100000
DTEND;TZID=America/Chicago:20260524T113000
DTSTAMP:20260424T184526
CREATED:20260406T015215Z
LAST-MODIFIED:20260406T015215Z
UID:6877-1779616800-1779622200@edg.jadebuddha.org
SUMMARY:Meditation & Dharma talk by	UNKNOWN AT THIS TIME
DESCRIPTION:
URL:https://edg.jadebuddha.org/event/meditation-dharma-talk-byunknown-at-this-time/
LOCATION:Jade Buddha Temple\, 6969 Westbranch Drive\, Houston\, TX\, 77072\, United States
CATEGORIES:EDG Program
END:VEVENT
BEGIN:VEVENT
DTSTART;TZID=America/Chicago:20260531T100000
DTEND;TZID=America/Chicago:20260531T113000
DTSTAMP:20260424T184526
CREATED:20260406T015320Z
LAST-MODIFIED:20260406T015320Z
UID:6879-1780221600-1780227000@edg.jadebuddha.org
SUMMARY:Meditation & Dharma talk by Eng Chew Ang
DESCRIPTION:Guided meditation (10AM) and Dharma talk (10:30AM).  Dharma talk will be given in person\, at Kwan Yin Hall. This will also be available via Zoom\, for persons that cannot attend.
URL:https://edg.jadebuddha.org/event/meditation-dharma-talk-by-eng-chew-ang-2/
LOCATION:Jade Buddha Temple\, 6969 Westbranch Drive\, Houston\, TX\, 77072\, United States
CATEGORIES:EDG Program
END:VEVENT
END:VCALENDAR