BEGIN:VCALENDAR
VERSION:2.0
PRODID:-//English Dharma Group - ECPv6.15.3//NONSGML v1.0//EN
CALSCALE:GREGORIAN
METHOD:PUBLISH
X-WR-CALNAME:English Dharma Group
X-ORIGINAL-URL:https://edg.jadebuddha.org
X-WR-CALDESC:Events for English Dharma Group
REFRESH-INTERVAL;VALUE=DURATION:PT1H
X-Robots-Tag:noindex
X-PUBLISHED-TTL:PT1H
BEGIN:VTIMEZONE
TZID:America/Chicago
BEGIN:DAYLIGHT
TZOFFSETFROM:-0600
TZOFFSETTO:-0500
TZNAME:CDT
DTSTART:20260308T080000
END:DAYLIGHT
BEGIN:STANDARD
TZOFFSETFROM:-0500
TZOFFSETTO:-0600
TZNAME:CST
DTSTART:20261101T070000
END:STANDARD
END:VTIMEZONE
BEGIN:VEVENT
DTSTART;TZID=America/Chicago:20260201T100000
DTEND;TZID=America/Chicago:20260201T113000
DTSTAMP:20260424T185451
CREATED:20260110T140053Z
LAST-MODIFIED:20260110T140053Z
UID:6724-1769940000-1769945400@edg.jadebuddha.org
SUMMARY:Meditation & Dharma talk by Venerable Samiddha
DESCRIPTION:Guided meditation (10AM) and Dharma talk (10:30AM).  Dharma talk will be given remotely via Zoom. But\, please join us at Kwan Yin Hall to participate in the Zoom session (projected onto screen) together with other Buddhist members.
URL:https://edg.jadebuddha.org/event/meditation-dharma-talk-by-venerable-samiddha-16/
LOCATION:Jade Buddha Temple\, 6969 Westbranch Drive\, Houston\, TX\, 77072\, United States
CATEGORIES:EDG Program
END:VEVENT
BEGIN:VEVENT
DTSTART;TZID=America/Chicago:20260208T100000
DTEND;TZID=America/Chicago:20260208T113000
DTSTAMP:20260424T185451
CREATED:20260110T124908Z
LAST-MODIFIED:20260110T124908Z
UID:6661-1770544800-1770550200@edg.jadebuddha.org
SUMMARY:Meditation & Dharma talk by Bhikkhu Cintita
DESCRIPTION:Guided meditation (10AM) and Dharma talk (10:30AM).  Dharma talk will be given remotely via Zoom. But\, please join us at Kwan Yin Hall to participate in the Zoom session (projected onto screen) together with other Buddhist members.
URL:https://edg.jadebuddha.org/event/meditation-dharma-talk-by-bhikkhu-cintita-4/
LOCATION:Jade Buddha Temple\, 6969 Westbranch Drive\, Houston\, TX\, 77072\, United States
CATEGORIES:EDG Program
END:VEVENT
BEGIN:VEVENT
DTSTART;TZID=America/Chicago:20260215T100000
DTEND;TZID=America/Chicago:20260215T113000
DTSTAMP:20260424T185451
CREATED:20260110T125204Z
LAST-MODIFIED:20260110T125204Z
UID:6663-1771149600-1771155000@edg.jadebuddha.org
SUMMARY:Meditation & Dharma talk by Venerable Shiou Huey
DESCRIPTION:Guided meditation (10AM) and Dharma talk (10:30AM).  Dharma talk will be given in person\, at Kwan Yin Hall. This will also be available via Zoom\, for persons that cannot attend.
URL:https://edg.jadebuddha.org/event/meditation-dharma-talk-by-venerable-shiou-huey-16/
LOCATION:Jade Buddha Temple\, 6969 Westbranch Drive\, Houston\, TX\, 77072\, United States
CATEGORIES:EDG Program
END:VEVENT
BEGIN:VEVENT
DTSTART;TZID=America/Chicago:20260222T100000
DTEND;TZID=America/Chicago:20260222T113000
DTSTAMP:20260424T185451
CREATED:20260110T125424Z
LAST-MODIFIED:20260110T125424Z
UID:6666-1771754400-1771759800@edg.jadebuddha.org
SUMMARY:Meditation & Dharma talk by ... To Be Announced
DESCRIPTION:Guided meditation (10AM) and Dharma talk (10:30AM).  Dharma talk will  be available via Zoom\, for persons that cannot attend.
URL:https://edg.jadebuddha.org/event/meditation-dharma-talk-by-to-be-announced-3/
LOCATION:Jade Buddha Temple\, 6969 Westbranch Drive\, Houston\, TX\, 77072\, United States
CATEGORIES:EDG Program
END:VEVENT
END:VCALENDAR