BEGIN:VCALENDAR
VERSION:2.0
PRODID:-//English Dharma Group - ECPv6.15.3//NONSGML v1.0//EN
CALSCALE:GREGORIAN
METHOD:PUBLISH
X-WR-CALNAME:English Dharma Group
X-ORIGINAL-URL:https://edg.jadebuddha.org
X-WR-CALDESC:Events for English Dharma Group
REFRESH-INTERVAL;VALUE=DURATION:PT1H
X-Robots-Tag:noindex
X-PUBLISHED-TTL:PT1H
BEGIN:VTIMEZONE
TZID:America/Chicago
BEGIN:DAYLIGHT
TZOFFSETFROM:-0600
TZOFFSETTO:-0500
TZNAME:CDT
DTSTART:20260308T080000
END:DAYLIGHT
BEGIN:STANDARD
TZOFFSETFROM:-0500
TZOFFSETTO:-0600
TZNAME:CST
DTSTART:20261101T070000
END:STANDARD
END:VTIMEZONE
BEGIN:VEVENT
DTSTART;TZID=America/Chicago:20260301T190000
DTEND;TZID=America/Chicago:20260301T203000
DTSTAMP:20260423T164457
CREATED:20260110T123047Z
LAST-MODIFIED:20260110T123047Z
UID:6643-1772391600-1772397000@edg.jadebuddha.org
SUMMARY:Nikaya Reading Class (Zoom)
DESCRIPTION:Nikaya Reading Class\n7:00PM Central time\nContact: nikaya.mgr@gmail.com
URL:https://edg.jadebuddha.org/event/nikaya-reading-class-zoom-80/
CATEGORIES:EDG Program
END:VEVENT
BEGIN:VEVENT
DTSTART;TZID=America/Chicago:20260304T180000
DTEND;TZID=America/Chicago:20260304T193000
DTSTAMP:20260423T164457
CREATED:20260110T134607Z
LAST-MODIFIED:20260110T134607Z
UID:6712-1772647200-1772652600@edg.jadebuddha.org
SUMMARY:Buddha’s Book Club (Zoom)
DESCRIPTION:Hosted by Bhikkhu Cintita at the Theravada Dhamma Society of Minnesota\nhttps://cintita.org/event-calendar/\nContact: tdsm.correspondence@gmail.com
URL:https://edg.jadebuddha.org/event/buddhas-book-club-zoom-31/
CATEGORIES:EDG Program
END:VEVENT
BEGIN:VEVENT
DTSTART;TZID=America/Chicago:20260307T090000
DTEND;TZID=America/Chicago:20260307T103000
DTSTAMP:20260423T164457
CREATED:20260110T132458Z
LAST-MODIFIED:20260110T132458Z
UID:6690-1772874000-1772879400@edg.jadebuddha.org
SUMMARY:vSMG Meditation and Book Study (Zoom)
DESCRIPTION:vSMG (Virtual Satellite Meditation Group) Meditation and Book Study\nGently guided Vipassana Group Meditation 9:00am Central Time\nBook Study 9:30am\nContact: vsmg.mgr@gmail.com
URL:https://edg.jadebuddha.org/event/vsmg-meditation-and-book-study-zoom-92/
CATEGORIES:EDG Program
END:VEVENT
BEGIN:VEVENT
DTSTART;TZID=America/Chicago:20260308T190000
DTEND;TZID=America/Chicago:20260308T203000
DTSTAMP:20260423T164457
CREATED:20260110T123138Z
LAST-MODIFIED:20260110T123138Z
UID:6645-1772996400-1773001800@edg.jadebuddha.org
SUMMARY:Nikaya Reading Class (Zoom)
DESCRIPTION:Nikaya Reading Class\n7:00PM Central time\nContact: nikaya.mgr@gmail.com
URL:https://edg.jadebuddha.org/event/nikaya-reading-class-zoom-81/
END:VEVENT
BEGIN:VEVENT
DTSTART;TZID=America/Chicago:20260311T180000
DTEND;TZID=America/Chicago:20260311T193000
DTSTAMP:20260423T164457
CREATED:20260110T134708Z
LAST-MODIFIED:20260110T134708Z
UID:6714-1773252000-1773257400@edg.jadebuddha.org
SUMMARY:Buddha’s Book Club (Zoom)
DESCRIPTION:Hosted by Bhikkhu Cintita at the Theravada Dhamma Society of Minnesota\nhttps://cintita.org/event-calendar/\nContact: tdsm.correspondence@gmail.com
URL:https://edg.jadebuddha.org/event/buddhas-book-club-zoom-32/
CATEGORIES:EDG Program
END:VEVENT
BEGIN:VEVENT
DTSTART;TZID=America/Chicago:20260314T090000
DTEND;TZID=America/Chicago:20260314T103000
DTSTAMP:20260423T164457
CREATED:20260110T132759Z
LAST-MODIFIED:20260110T132759Z
UID:6692-1773478800-1773484200@edg.jadebuddha.org
SUMMARY:vSMG Meditation and Book Study (Zoom)
DESCRIPTION:vSMG (Virtual Satellite Meditation Group) Meditation and Book Study\nGently guided Vipassana Group Meditation 9:00am Central Time\nBook Study 9:30am\nContact: vsmg.mgr@gmail.com
URL:https://edg.jadebuddha.org/event/vsmg-meditation-and-book-study-zoom-93/
CATEGORIES:EDG Program
END:VEVENT
BEGIN:VEVENT
DTSTART;TZID=America/Chicago:20260315T190000
DTEND;TZID=America/Chicago:20260315T203000
DTSTAMP:20260423T164457
CREATED:20260110T123233Z
LAST-MODIFIED:20260110T123233Z
UID:6647-1773601200-1773606600@edg.jadebuddha.org
SUMMARY:Nikaya Reading Class (Zoom)
DESCRIPTION:Nikaya Reading Class\n7:00PM Central time\nContact: nikaya.mgr@gmail.com
URL:https://edg.jadebuddha.org/event/nikaya-reading-class-zoom-82/
CATEGORIES:EDG Program
END:VEVENT
BEGIN:VEVENT
DTSTART;TZID=America/Chicago:20260318T180000
DTEND;TZID=America/Chicago:20260318T193000
DTSTAMP:20260423T164457
CREATED:20260110T134813Z
LAST-MODIFIED:20260110T134813Z
UID:6716-1773856800-1773862200@edg.jadebuddha.org
SUMMARY:Buddha’s Book Club (Zoom)
DESCRIPTION:Hosted by Bhikkhu Cintita at the Theravada Dhamma Society of Minnesota\nhttps://cintita.org/event-calendar/\nContact: tdsm.correspondence@gmail.com
URL:https://edg.jadebuddha.org/event/buddhas-book-club-zoom-33/
CATEGORIES:EDG Program
END:VEVENT
BEGIN:VEVENT
DTSTART;TZID=America/Chicago:20260321T090000
DTEND;TZID=America/Chicago:20260321T103000
DTSTAMP:20260423T164457
CREATED:20260110T132846Z
LAST-MODIFIED:20260110T132846Z
UID:6694-1774083600-1774089000@edg.jadebuddha.org
SUMMARY:vSMG Meditation and Book Study (Zoom)
DESCRIPTION:vSMG (Virtual Satellite Meditation Group) Meditation and Book Study\nGently guided Vipassana Group Meditation 9:00am Central Time\nBook Study 9:30am\nContact: vsmg.mgr@gmail.com
URL:https://edg.jadebuddha.org/event/vsmg-meditation-and-book-study-zoom-94/
CATEGORIES:EDG Program
END:VEVENT
BEGIN:VEVENT
DTSTART;TZID=America/Chicago:20260322T190000
DTEND;TZID=America/Chicago:20260322T203000
DTSTAMP:20260423T164457
CREATED:20260110T123319Z
LAST-MODIFIED:20260110T123319Z
UID:6649-1774206000-1774211400@edg.jadebuddha.org
SUMMARY:Nikaya Reading Class (Zoom)
DESCRIPTION:Nikaya Reading Class\n7:00PM Central time\nContact: nikaya.mgr@gmail.com
URL:https://edg.jadebuddha.org/event/nikaya-reading-class-zoom-83/
CATEGORIES:EDG Program
END:VEVENT
BEGIN:VEVENT
DTSTART;TZID=America/Chicago:20260325T180000
DTEND;TZID=America/Chicago:20260325T193000
DTSTAMP:20260423T164457
CREATED:20260110T134923Z
LAST-MODIFIED:20260110T134923Z
UID:6718-1774461600-1774467000@edg.jadebuddha.org
SUMMARY:Buddha’s Book Club (Zoom)
DESCRIPTION:Hosted by Bhikkhu Cintita at the Theravada Dhamma Society of Minnesota\nhttps://cintita.org/event-calendar/\nContact: tdsm.correspondence@gmail.com
URL:https://edg.jadebuddha.org/event/buddhas-book-club-zoom-34/
CATEGORIES:EDG Program
END:VEVENT
BEGIN:VEVENT
DTSTART;TZID=America/Chicago:20260328T090000
DTEND;TZID=America/Chicago:20260328T103000
DTSTAMP:20260423T164457
CREATED:20260110T132932Z
LAST-MODIFIED:20260324T014714Z
UID:6696-1774688400-1774693800@edg.jadebuddha.org
SUMMARY:vSMG Meditation and Book Study (Zoom)
DESCRIPTION:vSMG (Virtual Satellite Meditation Group). Gently guided Vipassana Group Meditation 9:00am Central Time\, followed by a Book Study at 9:30am. Contact: vsmg.mgr@gmail.com \n 
URL:https://edg.jadebuddha.org/event/vsmg-meditation-and-book-study-zoom-95/
CATEGORIES:EDG Program
END:VEVENT
BEGIN:VEVENT
DTSTART;TZID=America/Chicago:20260329T190000
DTEND;TZID=America/Chicago:20260329T203000
DTSTAMP:20260423T164457
CREATED:20260110T122828Z
LAST-MODIFIED:20260110T122828Z
UID:6641-1774810800-1774816200@edg.jadebuddha.org
SUMMARY:Nikaya Reading Class (Zoom)
DESCRIPTION:Nikaya Reading Class\n7:00PM Central time\nContact: nikaya.mgr@gmail.com
URL:https://edg.jadebuddha.org/event/nikaya-reading-class-zoom-79/
CATEGORIES:EDG Program
END:VEVENT
END:VCALENDAR