BEGIN:VCALENDAR
VERSION:2.0
PRODID:-//English Dharma Group - ECPv6.15.3//NONSGML v1.0//EN
CALSCALE:GREGORIAN
METHOD:PUBLISH
X-WR-CALNAME:English Dharma Group
X-ORIGINAL-URL:https://edg.jadebuddha.org
X-WR-CALDESC:Events for English Dharma Group
REFRESH-INTERVAL;VALUE=DURATION:PT1H
X-Robots-Tag:noindex
X-PUBLISHED-TTL:PT1H
BEGIN:VTIMEZONE
TZID:America/Chicago
BEGIN:DAYLIGHT
TZOFFSETFROM:-0600
TZOFFSETTO:-0500
TZNAME:CDT
DTSTART:20260308T080000
END:DAYLIGHT
BEGIN:STANDARD
TZOFFSETFROM:-0500
TZOFFSETTO:-0600
TZNAME:CST
DTSTART:20261101T070000
END:STANDARD
END:VTIMEZONE
BEGIN:VEVENT
DTSTART;TZID=America/Chicago:20260201T190000
DTEND;TZID=America/Chicago:20260201T203000
DTSTAMP:20260423T183501
CREATED:20251202T093602Z
LAST-MODIFIED:20251202T093602Z
UID:6598-1769972400-1769977800@edg.jadebuddha.org
SUMMARY:Nikaya Reading Class (Zoom)
DESCRIPTION:Nikaya Reading Class\n7:00PM Central time\nContact: nikaya.mgr@gmail.com
URL:https://edg.jadebuddha.org/event/nikaya-reading-class-zoom-75/
CATEGORIES:EDG Program
END:VEVENT
BEGIN:VEVENT
DTSTART;TZID=America/Chicago:20260204T180000
DTEND;TZID=America/Chicago:20260204T193000
DTSTAMP:20260423T183501
CREATED:20251202T100613Z
LAST-MODIFIED:20251202T100613Z
UID:6626-1770228000-1770233400@edg.jadebuddha.org
SUMMARY:Buddha’s Book Club (Zoom)
DESCRIPTION:Hosted by Bhikkhu Cintita at the Theravada Dhamma Society of Minnesota\nhttps://sitagu.org/mn/\nContact: tdsm.correspondence@gmail.com
URL:https://edg.jadebuddha.org/event/buddhas-book-club-zoom-26/
CATEGORIES:EDG Program
END:VEVENT
BEGIN:VEVENT
DTSTART;TZID=America/Chicago:20260207T090000
DTEND;TZID=America/Chicago:20260207T103000
DTSTAMP:20260423T183501
CREATED:20251202T094827Z
LAST-MODIFIED:20251202T094827Z
UID:6608-1770454800-1770460200@edg.jadebuddha.org
SUMMARY:vSMG Meditation and Book Study (Zoom)
DESCRIPTION:vSMG (Virtual Satellite Meditation Group) Meditation and Book Study\nGently guided Vipassana Group Meditation 9:00am Central Time\nBook Study 9:30am\nContact: vsmg.mgr@gmail.com
URL:https://edg.jadebuddha.org/event/vsmg-meditation-and-book-study-zoom-88/
CATEGORIES:EDG Program
END:VEVENT
BEGIN:VEVENT
DTSTART;TZID=America/Chicago:20260214T090000
DTEND;TZID=America/Chicago:20260214T103000
DTSTAMP:20260423T183501
CREATED:20260110T132212Z
LAST-MODIFIED:20260110T132212Z
UID:6684-1771059600-1771065000@edg.jadebuddha.org
SUMMARY:vSMG Meditation and Book Study (Zoom)
DESCRIPTION:vSMG (Virtual Satellite Meditation Group) Meditation and Book Study\nGently guided Vipassana Group Meditation 9:00am Central Time\nBook Study 9:30am\nContact: vsmg.mgr@gmail.com
URL:https://edg.jadebuddha.org/event/vsmg-meditation-and-book-study-zoom-89/
CATEGORIES:EDG Program
END:VEVENT
BEGIN:VEVENT
DTSTART;TZID=America/Chicago:20260215T190000
DTEND;TZID=America/Chicago:20260215T203000
DTSTAMP:20260423T183501
CREATED:20260110T120826Z
LAST-MODIFIED:20260110T121332Z
UID:6636-1771182000-1771187400@edg.jadebuddha.org
SUMMARY:Nikaya Reading Class (Zoom)
DESCRIPTION:Nikaya Reading Class\n7:00PM Central time\nContact: nikaya.mgr@gmail.com
URL:https://edg.jadebuddha.org/event/nikaya-reading-class-zoom-77/
CATEGORIES:EDG Program
END:VEVENT
BEGIN:VEVENT
DTSTART;TZID=America/Chicago:20260218T180000
DTEND;TZID=America/Chicago:20260218T193000
DTSTAMP:20260423T183501
CREATED:20260110T133601Z
LAST-MODIFIED:20260110T134101Z
UID:6704-1771437600-1771443000@edg.jadebuddha.org
SUMMARY:Buddha’s Book Club (Zoom)
DESCRIPTION:Hosted by Bhikkhu Cintita at the Theravada Dhamma Society of Minnesota\nhttps://cintita.org/event-calendar/\nContact: tdsm.correspondence@gmail.com
URL:https://edg.jadebuddha.org/event/buddhas-book-club-zoom-28/
CATEGORIES:EDG Program
END:VEVENT
BEGIN:VEVENT
DTSTART;TZID=America/Chicago:20260221T090000
DTEND;TZID=America/Chicago:20260221T103000
DTSTAMP:20260423T183501
CREATED:20260110T132310Z
LAST-MODIFIED:20260110T132310Z
UID:6686-1771664400-1771669800@edg.jadebuddha.org
SUMMARY:vSMG Meditation and Book Study (Zoom)
DESCRIPTION:vSMG (Virtual Satellite Meditation Group) Meditation and Book Study\nGently guided Vipassana Group Meditation 9:00am Central Time\nBook Study 9:30am\nContact: vsmg.mgr@gmail.com
URL:https://edg.jadebuddha.org/event/vsmg-meditation-and-book-study-zoom-90/
CATEGORIES:EDG Program
END:VEVENT
BEGIN:VEVENT
DTSTART;TZID=America/Chicago:20260222T190000
DTEND;TZID=America/Chicago:20260222T203000
DTSTAMP:20260423T183501
CREATED:20260110T122716Z
LAST-MODIFIED:20260110T122716Z
UID:6639-1771786800-1771792200@edg.jadebuddha.org
SUMMARY:Nikaya Reading Class (Zoom)
DESCRIPTION:Nikaya Reading Class\n7:00PM Central time\nContact: nikaya.mgr@gmail.com
URL:https://edg.jadebuddha.org/event/nikaya-reading-class-zoom-78/
CATEGORIES:EDG Program
END:VEVENT
BEGIN:VEVENT
DTSTART;TZID=America/Chicago:20260225T180000
DTEND;TZID=America/Chicago:20260225T193000
DTSTAMP:20260423T183501
CREATED:20260110T134507Z
LAST-MODIFIED:20260110T134507Z
UID:6710-1772042400-1772047800@edg.jadebuddha.org
SUMMARY:Buddha’s Book Club (Zoom)
DESCRIPTION:Hosted by Bhikkhu Cintita at the Theravada Dhamma Society of Minnesota\nhttps://cintita.org/event-calendar/\nContact: tdsm.correspondence@gmail.com
URL:https://edg.jadebuddha.org/event/buddhas-book-club-zoom-30/
CATEGORIES:EDG Program
END:VEVENT
BEGIN:VEVENT
DTSTART;TZID=America/Chicago:20260228T090000
DTEND;TZID=America/Chicago:20260228T103000
DTSTAMP:20260423T183501
CREATED:20260110T132408Z
LAST-MODIFIED:20260110T132408Z
UID:6688-1772269200-1772274600@edg.jadebuddha.org
SUMMARY:vSMG Meditation and Book Study (Zoom)
DESCRIPTION:vSMG (Virtual Satellite Meditation Group) Meditation and Book Study\nGently guided Vipassana Group Meditation 9:00am Central Time\nBook Study 9:30am\nContact: vsmg.mgr@gmail.com
URL:https://edg.jadebuddha.org/event/vsmg-meditation-and-book-study-zoom-91/
CATEGORIES:EDG Program
END:VEVENT
END:VCALENDAR