BEGIN:VCALENDAR
VERSION:2.0
PRODID:-//English Dharma Group - ECPv6.15.3//NONSGML v1.0//EN
CALSCALE:GREGORIAN
METHOD:PUBLISH
X-WR-CALNAME:English Dharma Group
X-ORIGINAL-URL:https://edg.jadebuddha.org
X-WR-CALDESC:Events for English Dharma Group
REFRESH-INTERVAL;VALUE=DURATION:PT1H
X-Robots-Tag:noindex
X-PUBLISHED-TTL:PT1H
BEGIN:VTIMEZONE
TZID:America/Chicago
BEGIN:DAYLIGHT
TZOFFSETFROM:-0600
TZOFFSETTO:-0500
TZNAME:CDT
DTSTART:20250309T080000
END:DAYLIGHT
BEGIN:STANDARD
TZOFFSETFROM:-0500
TZOFFSETTO:-0600
TZNAME:CST
DTSTART:20251102T070000
END:STANDARD
END:VTIMEZONE
BEGIN:VEVENT
DTSTART;TZID=America/Chicago:20251203T173000
DTEND;TZID=America/Chicago:20251203T193000
DTSTAMP:20260423T214853
CREATED:20251105T120025Z
LAST-MODIFIED:20251105T122010Z
UID:6542-1764783000-1764790200@edg.jadebuddha.org
SUMMARY:Buddha’s Book Club (Zoom)
DESCRIPTION:Hosted by Bhikkhu Cintita at the Theravada Dhamma Society of Minnesota\nhttps://cintita.org\nContact: tdsm.correspondence@gmail.com
URL:https://edg.jadebuddha.org/event/buddhas-book-club-zoom-17/
CATEGORIES:EDG Program
END:VEVENT
BEGIN:VEVENT
DTSTART;TZID=America/Chicago:20251206T090000
DTEND;TZID=America/Chicago:20251206T103000
DTSTAMP:20260423T214853
CREATED:20251105T114221Z
LAST-MODIFIED:20251105T114221Z
UID:6522-1765011600-1765017000@edg.jadebuddha.org
SUMMARY:vSMG Meditation and Book Study (Zoom)
DESCRIPTION:vSMG (Virtual Satellite Meditation Group) Meditation and Book Study\nGently guided Vipassana Group Meditation 9:00am Central Time\nBook Study 9:30am\nContact: vsmg.mgr@gmail.com
URL:https://edg.jadebuddha.org/event/vsmg-meditation-and-book-study-zoom-76/
CATEGORIES:EDG Program
END:VEVENT
BEGIN:VEVENT
DTSTART;TZID=America/Chicago:20251210T180000
DTEND;TZID=America/Chicago:20251210T193000
DTSTAMP:20260423T214853
CREATED:20251105T120118Z
LAST-MODIFIED:20251105T121937Z
UID:6543-1765389600-1765395000@edg.jadebuddha.org
SUMMARY:Buddha’s Book Club (Zoom)
DESCRIPTION:Hosted by Bhikkhu Cintita at the Theravada Dhamma Society of Minnesota\nhttps://cintita.org\nContact: tdsm.correspondence@gmail.com
URL:https://edg.jadebuddha.org/event/buddhas-book-club-zoom-18/
CATEGORIES:EDG Program
END:VEVENT
BEGIN:VEVENT
DTSTART;TZID=America/Chicago:20251213T090000
DTEND;TZID=America/Chicago:20251213T103000
DTSTAMP:20260423T214853
CREATED:20251105T114307Z
LAST-MODIFIED:20251105T114307Z
UID:6524-1765616400-1765621800@edg.jadebuddha.org
SUMMARY:vSMG Meditation and Book Study (Zoom)
DESCRIPTION:vSMG (Virtual Satellite Meditation Group) Meditation and Book Study\nGently guided Vipassana Group Meditation 9:00am Central Time\nBook Study 9:30am\nContact: vsmg.mgr@gmail.com
URL:https://edg.jadebuddha.org/event/vsmg-meditation-and-book-study-zoom-80/
CATEGORIES:EDG Program
END:VEVENT
BEGIN:VEVENT
DTSTART;TZID=America/Chicago:20251214T080000
DTEND;TZID=America/Chicago:20251214T170000
DTSTAMP:20260423T214853
CREATED:20251202T092530Z
LAST-MODIFIED:20251202T092530Z
UID:6587-1765699200-1765731600@edg.jadebuddha.org
SUMMARY:Nikaya Reading Class (Zoom)
DESCRIPTION:Nikaya Reading Class\n7:00PM Central time\nContact: nikaya.mgr@gmail.com
URL:https://edg.jadebuddha.org/event/nikaya-reading-class-zoom-72/
CATEGORIES:EDG Program
END:VEVENT
BEGIN:VEVENT
DTSTART;TZID=America/Chicago:20251217T180000
DTEND;TZID=America/Chicago:20251217T193000
DTSTAMP:20260423T214853
CREATED:20251105T120200Z
LAST-MODIFIED:20251105T121900Z
UID:6546-1765994400-1765999800@edg.jadebuddha.org
SUMMARY:Buddha’s Book Club (Zoom)
DESCRIPTION:Hosted by Bhikkhu Cintita at the Theravada Dhamma Society of Minnesota\nhttps://cintita.org\nContact: tdsm.correspondence@gmail.com
URL:https://edg.jadebuddha.org/event/buddhas-book-club-zoom-19/
CATEGORIES:EDG Program
END:VEVENT
BEGIN:VEVENT
DTSTART;TZID=America/Chicago:20251220T090000
DTEND;TZID=America/Chicago:20251220T103000
DTSTAMP:20260423T214853
CREATED:20251105T114402Z
LAST-MODIFIED:20251105T114402Z
UID:6526-1766221200-1766226600@edg.jadebuddha.org
SUMMARY:vSMG Meditation and Book Study (Zoom)
DESCRIPTION:vSMG (Virtual Satellite Meditation Group) Meditation and Book Study\nGently guided Vipassana Group Meditation 9:00am Central Time\nBook Study 9:30am\nContact: vsmg.mgr@gmail.com
URL:https://edg.jadebuddha.org/event/vsmg-meditation-and-book-study-zoom-81/
CATEGORIES:EDG Program
END:VEVENT
BEGIN:VEVENT
DTSTART;TZID=America/Chicago:20251221T190000
DTEND;TZID=America/Chicago:20251221T203000
DTSTAMP:20260423T214853
CREATED:20251202T092620Z
LAST-MODIFIED:20251202T092620Z
UID:6589-1766343600-1766349000@edg.jadebuddha.org
SUMMARY:Nikaya Reading Class (Zoom)
DESCRIPTION:Nikaya Reading Class\n7:00PM Central time\nContact: nikaya.mgr@gmail.com
URL:https://edg.jadebuddha.org/event/nikaya-reading-class-zoom-73/
CATEGORIES:EDG Program
END:VEVENT
BEGIN:VEVENT
DTSTART;TZID=America/Chicago:20251224T180000
DTEND;TZID=America/Chicago:20251224T193000
DTSTAMP:20260423T214853
CREATED:20251105T120250Z
LAST-MODIFIED:20251105T121827Z
UID:6548-1766599200-1766604600@edg.jadebuddha.org
SUMMARY:Buddha’s Book Club (Zoom)
DESCRIPTION:Hosted by Bhikkhu Cintita at the Theravada Dhamma Society of Minnesota\nhttps://cintita.org\nContact: tdsm.correspondence@gmail.com
URL:https://edg.jadebuddha.org/event/buddhas-book-club-zoom-20/
CATEGORIES:EDG Program
END:VEVENT
BEGIN:VEVENT
DTSTART;TZID=America/Chicago:20251227T090000
DTEND;TZID=America/Chicago:20251227T103000
DTSTAMP:20260423T214853
CREATED:20251105T114445Z
LAST-MODIFIED:20251105T114445Z
UID:6528-1766826000-1766831400@edg.jadebuddha.org
SUMMARY:vSMG Meditation and Book Study (Zoom)
DESCRIPTION:vSMG (Virtual Satellite Meditation Group) Meditation and Book Study\nGently guided Vipassana Group Meditation 9:00am Central Time\nBook Study 9:30am\nContact: vsmg.mgr@gmail.com
URL:https://edg.jadebuddha.org/event/vsmg-meditation-and-book-study-zoom-82/
CATEGORIES:EDG Program
END:VEVENT
BEGIN:VEVENT
DTSTART;TZID=America/Chicago:20251228T190000
DTEND;TZID=America/Chicago:20251228T203000
DTSTAMP:20260423T214853
CREATED:20251105T104605Z
LAST-MODIFIED:20251105T104605Z
UID:6509-1766948400-1766953800@edg.jadebuddha.org
SUMMARY:Nikaya Reading Class (Zoom)
DESCRIPTION:Nikaya Reading Class\n7:00PM Central time\nContact: nikaya.mgr@gmail.com
URL:https://edg.jadebuddha.org/event/nikaya-reading-class-zoom-70/
CATEGORIES:EDG Program
END:VEVENT
BEGIN:VEVENT
DTSTART;TZID=America/Chicago:20251231T180000
DTEND;TZID=America/Chicago:20251231T193000
DTSTAMP:20260423T214853
CREATED:20251105T120346Z
LAST-MODIFIED:20251105T121707Z
UID:6550-1767204000-1767209400@edg.jadebuddha.org
SUMMARY:Buddha’s Book Club (Zoom)
DESCRIPTION:Hosted by Bhikkhu Cintita at the Theravada Dhamma Society of Minnesota\nhttps://cintita.org\nContact: tdsm.correspondence@gmail.com
URL:https://edg.jadebuddha.org/event/buddhas-book-club-zoom-21/
CATEGORIES:EDG Program
END:VEVENT
END:VCALENDAR