BEGIN:VCALENDAR
VERSION:2.0
PRODID:-//English Dharma Group - ECPv6.15.3//NONSGML v1.0//EN
CALSCALE:GREGORIAN
METHOD:PUBLISH
X-ORIGINAL-URL:https://edg.jadebuddha.org
X-WR-CALDESC:Events for English Dharma Group
REFRESH-INTERVAL;VALUE=DURATION:PT1H
X-Robots-Tag:noindex
X-PUBLISHED-TTL:PT1H
BEGIN:VTIMEZONE
TZID:America/Chicago
BEGIN:DAYLIGHT
TZOFFSETFROM:-0600
TZOFFSETTO:-0500
TZNAME:CDT
DTSTART:20250309T080000
END:DAYLIGHT
BEGIN:STANDARD
TZOFFSETFROM:-0500
TZOFFSETTO:-0600
TZNAME:CST
DTSTART:20251102T070000
END:STANDARD
END:VTIMEZONE
BEGIN:VEVENT
DTSTART;TZID=America/Chicago:20251101T090000
DTEND;TZID=America/Chicago:20251101T103000
DTSTAMP:20260423T233139
CREATED:20250911T224053Z
LAST-MODIFIED:20250911T224053Z
UID:6411-1761987600-1761993000@edg.jadebuddha.org
SUMMARY:vSMG Meditation and Book Study (Zoom)
DESCRIPTION:vSMG (Virtual Satellite Meditation Group) Meditation and Book Study\nGently guided Vipassana Group Meditation 10:00am Central Time\nBook Study 10:30am\nContact: vsmg.mgr@gmail.com
URL:https://edg.jadebuddha.org/event/vsmg-meditation-and-book-study-zoom-74/
CATEGORIES:EDG Program
END:VEVENT
BEGIN:VEVENT
DTSTART;TZID=America/Chicago:20251102T190000
DTEND;TZID=America/Chicago:20251102T203000
DTSTAMP:20260423T233139
CREATED:20251013T132848Z
LAST-MODIFIED:20251013T135917Z
UID:6448-1762110000-1762115400@edg.jadebuddha.org
SUMMARY:Nikaya Reading Class (Zoom)
DESCRIPTION:Nikaya Reading Class\n7:00PM Central time\nContact: nikaya.mgr@gmail.com
URL:https://edg.jadebuddha.org/event/nikaya-reading-class-zoom-62/
CATEGORIES:EDG Program
END:VEVENT
BEGIN:VEVENT
DTSTART;TZID=America/Chicago:20251105T180000
DTEND;TZID=America/Chicago:20251105T193000
DTSTAMP:20260423T233139
CREATED:20251013T134939Z
LAST-MODIFIED:20251013T140245Z
UID:6466-1762365600-1762371000@edg.jadebuddha.org
SUMMARY:Buddha’s Book Club (Zoom)
DESCRIPTION:Hosted by Bhikkhu Cintita at the Theravada Dhamma Society of Minnesota\nhttps://sitagu.org/mn/\nContact: tdsm.correspondence@gmail.com
URL:https://edg.jadebuddha.org/event/buddhas-book-club-zoom-13/
CATEGORIES:EDG Program
END:VEVENT
BEGIN:VEVENT
DTSTART;TZID=America/Chicago:20251108T100000
DTEND;TZID=America/Chicago:20251108T113000
DTSTAMP:20260423T233139
CREATED:20251013T130612Z
LAST-MODIFIED:20251013T135742Z
UID:6430-1762596000-1762601400@edg.jadebuddha.org
SUMMARY:vSMG Meditation and Book Study (Zoom)
DESCRIPTION:vSMG (Virtual Satellite Meditation Group) Meditation and Book Study\nGently guided Vipassana Group Meditation 9:00am Central Time\nBook Study 9:30am\nContact: vsmg.mgr@gmail.com
URL:https://edg.jadebuddha.org/event/vsmg-meditation-and-book-study-zoom-75/
CATEGORIES:EDG Program
END:VEVENT
BEGIN:VEVENT
DTSTART;TZID=America/Chicago:20251109T190000
DTEND;TZID=America/Chicago:20251109T203000
DTSTAMP:20260423T233139
CREATED:20251013T133144Z
LAST-MODIFIED:20251013T135905Z
UID:6450-1762714800-1762720200@edg.jadebuddha.org
SUMMARY:Nikaya Reading Class (Zoom)
DESCRIPTION:Nikaya Reading Class\n7:00PM Central time\nContact: nikaya.mgr@gmail.com
URL:https://edg.jadebuddha.org/event/nikaya-reading-class-zoom-63/
CATEGORIES:EDG Program
END:VEVENT
BEGIN:VEVENT
DTSTART;TZID=America/Chicago:20251112T180000
DTEND;TZID=America/Chicago:20251112T193000
DTSTAMP:20260423T233139
CREATED:20251013T135051Z
LAST-MODIFIED:20251013T140236Z
UID:6468-1762970400-1762975800@edg.jadebuddha.org
SUMMARY:Buddha’s Book Club (Zoom)
DESCRIPTION:Hosted by Bhikkhu Cintita at the Theravada Dhamma Society of Minnesota\nhttps://sitagu.org/mn/\nContact: tdsm.correspondence@gmail.com
URL:https://edg.jadebuddha.org/event/buddhas-book-club-zoom-14/
CATEGORIES:EDG Program
END:VEVENT
BEGIN:VEVENT
DTSTART;TZID=America/Chicago:20251115T100000
DTEND;TZID=America/Chicago:20251115T113000
DTSTAMP:20260423T233139
CREATED:20251013T131037Z
LAST-MODIFIED:20251013T135732Z
UID:6434-1763200800-1763206200@edg.jadebuddha.org
SUMMARY:vSMG Meditation and Book Study (Zoom)
DESCRIPTION:vSMG (Virtual Satellite Meditation Group) Meditation and Book Study\nGently guided Vipassana Group Meditation 9:00am Central Time\nBook Study 9:30am\nContact: vsmg.mgr@gmail.com
URL:https://edg.jadebuddha.org/event/vsmg-meditation-and-book-study-zoom-77/
CATEGORIES:EDG Program
END:VEVENT
BEGIN:VEVENT
DTSTART;TZID=America/Chicago:20251116T190000
DTEND;TZID=America/Chicago:20251116T203000
DTSTAMP:20260423T233139
CREATED:20251013T133244Z
LAST-MODIFIED:20251013T135856Z
UID:6452-1763319600-1763325000@edg.jadebuddha.org
SUMMARY:Nikaya Reading Class (Zoom)
DESCRIPTION:Nikaya Reading Class\n7:00PM Central time\nContact: nikaya.mgr@gmail.com
URL:https://edg.jadebuddha.org/event/nikaya-reading-class-zoom-64/
CATEGORIES:EDG Program
END:VEVENT
BEGIN:VEVENT
DTSTART;TZID=America/Chicago:20251119T180000
DTEND;TZID=America/Chicago:20251119T193000
DTSTAMP:20260423T233139
CREATED:20251013T135153Z
LAST-MODIFIED:20251013T140227Z
UID:6470-1763575200-1763580600@edg.jadebuddha.org
SUMMARY:Buddha’s Book Club (Zoom)
DESCRIPTION:Hosted by Bhikkhu Cintita at the Theravada Dhamma Society of Minnesota\nhttps://sitagu.org/mn/\nContact: tdsm.correspondence@gmail.com
URL:https://edg.jadebuddha.org/event/buddhas-book-club-zoom-15/
CATEGORIES:EDG Program
END:VEVENT
BEGIN:VEVENT
DTSTART;TZID=America/Chicago:20251122T100000
DTEND;TZID=America/Chicago:20251122T113000
DTSTAMP:20260423T233139
CREATED:20251013T131148Z
LAST-MODIFIED:20251013T135722Z
UID:6436-1763805600-1763811000@edg.jadebuddha.org
SUMMARY:vSMG Meditation and Book Study (Zoom)
DESCRIPTION:vSMG (Virtual Satellite Meditation Group) Meditation and Book Study\nGently guided Vipassana Group Meditation 9:00am Central Time\nBook Study 9:30am\nContact: vsmg.mgr@gmail.com
URL:https://edg.jadebuddha.org/event/vsmg-meditation-and-book-study-zoom-78/
CATEGORIES:EDG Program
END:VEVENT
BEGIN:VEVENT
DTSTART;TZID=America/Chicago:20251123T190000
DTEND;TZID=America/Chicago:20251123T203000
DTSTAMP:20260423T233139
CREATED:20251013T133346Z
LAST-MODIFIED:20251013T135846Z
UID:6454-1763924400-1763929800@edg.jadebuddha.org
SUMMARY:Nikaya Reading Class (Zoom)
DESCRIPTION:Nikaya Reading Class\n7:00PM Central time\nContact: nikaya.mgr@gmail.com
URL:https://edg.jadebuddha.org/event/nikaya-reading-class-zoom-65/
CATEGORIES:EDG Program
END:VEVENT
BEGIN:VEVENT
DTSTART;TZID=America/Chicago:20251126T180000
DTEND;TZID=America/Chicago:20251126T193000
DTSTAMP:20260423T233139
CREATED:20251013T135304Z
LAST-MODIFIED:20251013T140218Z
UID:6472-1764180000-1764185400@edg.jadebuddha.org
SUMMARY:Buddha’s Book Club (Zoom)
DESCRIPTION:Hosted by Bhikkhu Cintita at the Theravada Dhamma Society of Minnesota\nhttps://sitagu.org/mn/\nContact: tdsm.correspondence@gmail.com
URL:https://edg.jadebuddha.org/event/buddhas-book-club-zoom-16/
CATEGORIES:EDG Program
END:VEVENT
BEGIN:VEVENT
DTSTART;TZID=America/Chicago:20251129T100000
DTEND;TZID=America/Chicago:20251129T113000
DTSTAMP:20260423T233139
CREATED:20251013T131254Z
LAST-MODIFIED:20251013T135703Z
UID:6438-1764410400-1764415800@edg.jadebuddha.org
SUMMARY:vSMG Meditation and Book Study (Zoom)
DESCRIPTION:vSMG (Virtual Satellite Meditation Group) Meditation and Book Study\nGently guided Vipassana Group Meditation 9:00am Central Time\nBook Study 9:30am\nContact: vsmg.mgr@gmail.com
URL:https://edg.jadebuddha.org/event/vsmg-meditation-and-book-study-zoom-79/
CATEGORIES:EDG Program
END:VEVENT
BEGIN:VEVENT
DTSTART;TZID=America/Chicago:20251130T190000
DTEND;TZID=America/Chicago:20251130T203000
DTSTAMP:20260423T233139
CREATED:20251013T133453Z
LAST-MODIFIED:20251013T135835Z
UID:6456-1764529200-1764534600@edg.jadebuddha.org
SUMMARY:Nikaya Reading Class (Zoom)
DESCRIPTION:Nikaya Reading Class\n7:00PM Central time\nContact: nikaya.mgr@gmail.com
URL:https://edg.jadebuddha.org/event/nikaya-reading-class-zoom-66/
CATEGORIES:EDG Program
END:VEVENT
END:VCALENDAR