BEGIN:VCALENDAR
VERSION:2.0
PRODID:-//English Dharma Group - ECPv6.15.3//NONSGML v1.0//EN
CALSCALE:GREGORIAN
METHOD:PUBLISH
X-WR-CALNAME:English Dharma Group
X-ORIGINAL-URL:https://edg.jadebuddha.org
X-WR-CALDESC:Events for English Dharma Group
REFRESH-INTERVAL;VALUE=DURATION:PT1H
X-Robots-Tag:noindex
X-PUBLISHED-TTL:PT1H
BEGIN:VTIMEZONE
TZID:America/Chicago
BEGIN:DAYLIGHT
TZOFFSETFROM:-0600
TZOFFSETTO:-0500
TZNAME:CDT
DTSTART:20250309T080000
END:DAYLIGHT
BEGIN:STANDARD
TZOFFSETFROM:-0500
TZOFFSETTO:-0600
TZNAME:CST
DTSTART:20251102T070000
END:STANDARD
END:VTIMEZONE
BEGIN:VEVENT
DTSTART;TZID=America/Chicago:20250302T100000
DTEND;TZID=America/Chicago:20250302T113000
DTSTAMP:20260425T055959
CREATED:20250113T153027Z
LAST-MODIFIED:20250113T153027Z
UID:5940-1740909600-1740915000@edg.jadebuddha.org
SUMMARY:Meditation & Dharma talk by Venerable Samiddha
DESCRIPTION:Guided meditation (10AM) and Dharma talk (10:30AM).  Dharma talk will be given remotely via Zoom. But\, please join us at Kwan Yin Hall to participate in the Zoom session (projected onto screen) together with other Buddhist members.
URL:https://edg.jadebuddha.org/event/meditation-dharma-talk-by-venerable-samiddha-7/
LOCATION:Jade Buddha Temple\, 6969 Westbranch Drive\, Houston\, TX\, 77072\, United States
CATEGORIES:EDG Program
END:VEVENT
BEGIN:VEVENT
DTSTART;TZID=America/Chicago:20250302T190000
DTEND;TZID=America/Chicago:20250302T200000
DTSTAMP:20260425T055959
CREATED:20250113T144056Z
LAST-MODIFIED:20250113T144056Z
UID:5912-1740942000-1740945600@edg.jadebuddha.org
SUMMARY:Nikaya Reading Class (Zoom)
DESCRIPTION:Nikaya Reading Class\n7:00PM Central time\nContact: nikaya.mgr@gmail.com
URL:https://edg.jadebuddha.org/event/nikaya-reading-class-zoom-38/
LOCATION:TX
CATEGORIES:EDG Program
END:VEVENT
BEGIN:VEVENT
DTSTART;TZID=America/Chicago:20250308T100000
DTEND;TZID=America/Chicago:20250308T233000
DTSTAMP:20260425T055959
CREATED:20250211T115455Z
LAST-MODIFIED:20250211T115455Z
UID:5997-1741428000-1741476600@edg.jadebuddha.org
SUMMARY:vSMG Meditation and Book Study (Zoom)
DESCRIPTION:vSMG (Virtual Satellite Meditation Group) Meditation and Book Study\nGently guided Vipassana Group Meditation 10:00am Central Time\nBook Study 10:30am\nContact: vsmg.mgr@gmail.com
URL:https://edg.jadebuddha.org/event/vsmg-meditation-and-book-study-zoom-40/
LOCATION:TX
CATEGORIES:EDG Program
END:VEVENT
BEGIN:VEVENT
DTSTART;TZID=America/Chicago:20250309T100000
DTEND;TZID=America/Chicago:20250309T113000
DTSTAMP:20260425T055959
CREATED:20250211T120937Z
LAST-MODIFIED:20250211T120937Z
UID:6009-1741514400-1741519800@edg.jadebuddha.org
SUMMARY:Meditation & Dharma talk by Venerable Ru Li
DESCRIPTION:Guided meditation (10AM) and Dharma talk (10:30AM).\nDharma talk will be given remotely via Zoom. But\, please join us at Kwan Yin Hall to participate in the Zoom session (projected onto screen) together with other Buddhist members
URL:https://edg.jadebuddha.org/event/meditation-dharma-talk-by-venerable-ru-li-3/
LOCATION:Jade Buddha Temple\, 6969 Westbranch Drive\, Houston\, TX\, 77072\, United States
CATEGORIES:EDG Program
END:VEVENT
BEGIN:VEVENT
DTSTART;TZID=America/Chicago:20250309T190000
DTEND;TZID=America/Chicago:20250309T203000
DTSTAMP:20260425T055959
CREATED:20250211T042958Z
LAST-MODIFIED:20250211T043118Z
UID:5971-1741546800-1741552200@edg.jadebuddha.org
SUMMARY:Nikaya Reading Class (Zoom)
DESCRIPTION:7:00PM Central time\nContact: nikaya.mgr@gmail.com
URL:https://edg.jadebuddha.org/event/nikaya-reading-class-2/
LOCATION:TX
CATEGORIES:EDG Program
END:VEVENT
BEGIN:VEVENT
DTSTART;TZID=America/Chicago:20250315T100000
DTEND;TZID=America/Chicago:20250315T233000
DTSTAMP:20260425T055959
CREATED:20250211T115544Z
LAST-MODIFIED:20250211T115616Z
UID:5999-1742032800-1742081400@edg.jadebuddha.org
SUMMARY:vSMG Meditation and Book Study (Zoom)
DESCRIPTION:vSMG (Virtual Satellite Meditation Group) Meditation and Book Study\nGently guided Vipassana Group Meditation 10:00am Central Time\nBook Study 10:30am\nContact: vsmg.mgr@gmail.com
URL:https://edg.jadebuddha.org/event/vsmg-meditation-and-book-study-zoom-41/
LOCATION:TX
CATEGORIES:EDG Program
END:VEVENT
BEGIN:VEVENT
DTSTART;TZID=America/Chicago:20250316T100000
DTEND;TZID=America/Chicago:20250316T130000
DTSTAMP:20260425T055959
CREATED:20250211T122017Z
LAST-MODIFIED:20250211T122017Z
UID:6017-1742119200-1742130000@edg.jadebuddha.org
SUMMARY:Bodhisattva Kwan Yin Birthday Ceremony (No weekly Meditation & Dharma talk today)
DESCRIPTION:The time listed is incorrect. \nWill update soon (FYI: 2/11/2025) \n 
URL:https://edg.jadebuddha.org/event/bodhisattva-kwan-yin-birthday-ceremony-no-weekly-meditation-dharma-talk-today/
LOCATION:Jade Buddha Temple\, 6969 Westbranch Drive\, Houston\, TX\, 77072\, United States
CATEGORIES:EDG Program
END:VEVENT
BEGIN:VEVENT
DTSTART;TZID=America/Chicago:20250316T190000
DTEND;TZID=America/Chicago:20250316T203000
DTSTAMP:20260425T055959
CREATED:20250211T043215Z
LAST-MODIFIED:20250211T043215Z
UID:5975-1742151600-1742157000@edg.jadebuddha.org
SUMMARY:Nikaya Reading Class (Zoom)
DESCRIPTION:7:00PM Central time\nContact: nikaya.mgr@gmail.com
URL:https://edg.jadebuddha.org/event/nikaya-reading-class-zoom-39/
LOCATION:TX
CATEGORIES:EDG Program
END:VEVENT
BEGIN:VEVENT
DTSTART;TZID=America/Chicago:20250322T100000
DTEND;TZID=America/Chicago:20250322T113000
DTSTAMP:20260425T055959
CREATED:20250211T115657Z
LAST-MODIFIED:20250211T115657Z
UID:6001-1742637600-1742643000@edg.jadebuddha.org
SUMMARY:vSMG Meditation and Book Study (Zoom)
DESCRIPTION:vSMG (Virtual Satellite Meditation Group) Meditation and Book Study\nGently guided Vipassana Group Meditation 10:00am Central Time\nBook Study 10:30am\nContact: vsmg.mgr@gmail.com
URL:https://edg.jadebuddha.org/event/vsmg-meditation-and-book-study-zoom-42/
LOCATION:TX
CATEGORIES:EDG Program
END:VEVENT
BEGIN:VEVENT
DTSTART;TZID=America/Chicago:20250323T100000
DTEND;TZID=America/Chicago:20250323T113000
DTSTAMP:20260425T055959
CREATED:20250211T121043Z
LAST-MODIFIED:20250211T121043Z
UID:6011-1742724000-1742729400@edg.jadebuddha.org
SUMMARY:Meditation & Dharma talk by Venerable Shiou Huey
DESCRIPTION:Guided meditation (10AM) and Dharma talk (10:30AM).\nDharma talk will be given remotely via Zoom. But\, please join us at Kwan Yin Hall to participate in the Zoom session (projected onto screen) together with other Buddhist members
URL:https://edg.jadebuddha.org/event/meditation-dharma-talk-by-venerable-shiou-huey-7/
LOCATION:Jade Buddha Temple\, 6969 Westbranch Drive\, Houston\, TX\, 77072\, United States
CATEGORIES:EDG Program
END:VEVENT
BEGIN:VEVENT
DTSTART;TZID=America/Chicago:20250323T190000
DTEND;TZID=America/Chicago:20250323T203000
DTSTAMP:20260425T055959
CREATED:20250211T043255Z
LAST-MODIFIED:20250211T043255Z
UID:5977-1742756400-1742761800@edg.jadebuddha.org
SUMMARY:Nikaya Reading Class (Zoom)
DESCRIPTION:7:00PM Central time\nContact: nikaya.mgr@gmail.com
URL:https://edg.jadebuddha.org/event/nikaya-reading-class-zoom-40/
LOCATION:TX
CATEGORIES:EDG Program
END:VEVENT
BEGIN:VEVENT
DTSTART;TZID=America/Chicago:20250329T100000
DTEND;TZID=America/Chicago:20250329T113000
DTSTAMP:20260425T055959
CREATED:20250211T115738Z
LAST-MODIFIED:20250211T115738Z
UID:6003-1743242400-1743247800@edg.jadebuddha.org
SUMMARY:vSMG Meditation and Book Study (Zoom)
DESCRIPTION:vSMG (Virtual Satellite Meditation Group) Meditation and Book Study\nGently guided Vipassana Group Meditation 10:00am Central Time\nBook Study 10:30am\nContact: vsmg.mgr@gmail.com
URL:https://edg.jadebuddha.org/event/vsmg-meditation-and-book-study-zoom-43/
LOCATION:TX
CATEGORIES:EDG Program
END:VEVENT
BEGIN:VEVENT
DTSTART;TZID=America/Chicago:20250330T100000
DTEND;TZID=America/Chicago:20250330T113000
DTSTAMP:20260425T055959
CREATED:20250211T121213Z
LAST-MODIFIED:20250211T121213Z
UID:6013-1743328800-1743334200@edg.jadebuddha.org
SUMMARY:Meditation & Dharma talk by Daniel Strain
DESCRIPTION:Guided meditation (10AM) and Dharma talk (10:30AM).\nDharma talk will be given in person\, at Kwan Yin Hall. This will also be available via Zoom\, for persons that cannot attend.
URL:https://edg.jadebuddha.org/event/meditation-dharma-talk-by-daniel-strain/
LOCATION:Jade Buddha Temple\, 6969 Westbranch Drive\, Houston\, TX\, 77072\, United States
CATEGORIES:EDG Program
END:VEVENT
BEGIN:VEVENT
DTSTART;TZID=America/Chicago:20250330T190000
DTEND;TZID=America/Chicago:20250330T203000
DTSTAMP:20260425T055959
CREATED:20250211T043425Z
LAST-MODIFIED:20250211T043425Z
UID:5981-1743361200-1743366600@edg.jadebuddha.org
SUMMARY:Nikaya Reading Class (Zoom)
DESCRIPTION:7:00PM Central time\nContact: nikaya.mgr@gmail.com
URL:https://edg.jadebuddha.org/event/nikaya-reading-class-zoom-42/
LOCATION:TX
CATEGORIES:EDG Program
END:VEVENT
BEGIN:VEVENT
DTSTART;TZID=America/Chicago:20250405T100000
DTEND;TZID=America/Chicago:20250405T113000
DTSTAMP:20260425T055959
CREATED:20250211T115815Z
LAST-MODIFIED:20250211T115815Z
UID:6005-1743847200-1743852600@edg.jadebuddha.org
SUMMARY:vSMG Meditation and Book Study (Zoom)
DESCRIPTION:vSMG (Virtual Satellite Meditation Group) Meditation and Book Study\nGently guided Vipassana Group Meditation 10:00am Central Time\nBook Study 10:30am\nContact: vsmg.mgr@gmail.com
URL:https://edg.jadebuddha.org/event/vsmg-meditation-and-book-study-zoom-44/
LOCATION:TX
CATEGORIES:EDG Program
END:VEVENT
BEGIN:VEVENT
DTSTART;TZID=America/Chicago:20250406T100000
DTEND;TZID=America/Chicago:20250406T113000
DTSTAMP:20260425T055959
CREATED:20250211T121413Z
LAST-MODIFIED:20250211T121413Z
UID:6015-1743933600-1743939000@edg.jadebuddha.org
SUMMARY:Meditation & Dharma talk by Venerable Samiddha
DESCRIPTION:Guided meditation (10AM) and Dharma talk (10:30AM).\nDharma talk will be given remotely via Zoom. But\, please join us at Kwan Yin Hall to participate in the Zoom session (projected onto screen) together with other Buddhist members.
URL:https://edg.jadebuddha.org/event/meditation-dharma-talk-by-venerable-samiddha-8/
LOCATION:Jade Buddha Temple\, 6969 Westbranch Drive\, Houston\, TX\, 77072\, United States
CATEGORIES:EDG Program
END:VEVENT
BEGIN:VEVENT
DTSTART;TZID=America/Chicago:20250406T190000
DTEND;TZID=America/Chicago:20250406T203000
DTSTAMP:20260425T055959
CREATED:20250211T043458Z
LAST-MODIFIED:20250211T043615Z
UID:5983-1743966000-1743971400@edg.jadebuddha.org
SUMMARY:Nikaya Reading Class (Zoom)
DESCRIPTION:7:00PM Central time\nContact: nikaya.mgr@gmail.com
URL:https://edg.jadebuddha.org/event/nikaya-reading-class-zoom-43/
LOCATION:TX
CATEGORIES:EDG Program
END:VEVENT
BEGIN:VEVENT
DTSTART;TZID=America/Chicago:20250412T100000
DTEND;TZID=America/Chicago:20250412T113000
DTSTAMP:20260425T055959
CREATED:20250319T105509Z
LAST-MODIFIED:20250319T105509Z
UID:6106-1744452000-1744457400@edg.jadebuddha.org
SUMMARY:vSMG Meditation and Book Study (Zoom)
DESCRIPTION:vSMG (Virtual Satellite Meditation Group) Meditation and Book Study\nGently guided Vipassana Group Meditation 10:00am Central Time\nBook Study 10:30am\nContact: vsmg.mgr@gmail.com
URL:https://edg.jadebuddha.org/event/vsmg-meditation-and-book-study-zoom-45/
LOCATION:TX
CATEGORIES:EDG Program
END:VEVENT
BEGIN:VEVENT
DTSTART;TZID=America/Chicago:20250413T100000
DTEND;TZID=America/Chicago:20250413T113000
DTSTAMP:20260425T055959
CREATED:20250319T104649Z
LAST-MODIFIED:20250319T104649Z
UID:6098-1744538400-1744543800@edg.jadebuddha.org
SUMMARY:Meditation & Dharma talk by Venerable Hung I
DESCRIPTION:Guided meditation (10AM) and Dharma talk (10:30AM).  Dharma talk will be given in person\, at Kwan Yin Hall. This will also be available via Zoom\, for persons that cannot attend.
URL:https://edg.jadebuddha.org/event/meditation-dharma-talk-by-venerable-hung-i-2/
LOCATION:Jade Buddha Temple\, 6969 Westbranch Drive\, Houston\, TX\, 77072\, United States
CATEGORIES:EDG Program
END:VEVENT
BEGIN:VEVENT
DTSTART;TZID=America/Chicago:20250413T190000
DTEND;TZID=America/Chicago:20250413T203000
DTSTAMP:20260425T055959
CREATED:20250319T103948Z
LAST-MODIFIED:20250319T103948Z
UID:6088-1744570800-1744576200@edg.jadebuddha.org
SUMMARY:Nikaya Reading Class (Zoom)
DESCRIPTION:Nikaya Reading Class\n7:00PM Central time\nContact: nikaya.mgr@gmail.com
URL:https://edg.jadebuddha.org/event/nikaya-reading-class-zoom-41/
LOCATION:TX
CATEGORIES:EDG Program
END:VEVENT
BEGIN:VEVENT
DTSTART;TZID=America/Chicago:20250419T100000
DTEND;TZID=America/Chicago:20250419T113000
DTSTAMP:20260425T055959
CREATED:20250319T105559Z
LAST-MODIFIED:20250319T105559Z
UID:6108-1745056800-1745062200@edg.jadebuddha.org
SUMMARY:vSMG Meditation and Book Study (Zoom)
DESCRIPTION:vSMG (Virtual Satellite Meditation Group) Meditation and Book Study\nGently guided Vipassana Group Meditation 10:00am Central Time\nBook Study 10:30am\nContact: vsmg.mgr@gmail.com
URL:https://edg.jadebuddha.org/event/vsmg-meditation-and-book-study-zoom-46/
LOCATION:TX
CATEGORIES:EDG Program
END:VEVENT
BEGIN:VEVENT
DTSTART;TZID=America/Chicago:20250420T100000
DTEND;TZID=America/Chicago:20250420T113000
DTSTAMP:20260425T055959
CREATED:20250319T104850Z
LAST-MODIFIED:20250319T104850Z
UID:6100-1745143200-1745148600@edg.jadebuddha.org
SUMMARY:Meditation & Dharma talk by Bhante Rahula
DESCRIPTION:Guided meditation (10AM) and Dharma talk (10:30AM).  Dharma talk will be given remotely via Zoom. But\, please join us at Kwan Yin Hall to participate in the Zoom session (projected onto screen) together with other Buddhist members.
URL:https://edg.jadebuddha.org/event/meditation-dharma-talk-by-bhante-rahula/
LOCATION:Jade Buddha Temple\, 6969 Westbranch Drive\, Houston\, TX\, 77072\, United States
CATEGORIES:EDG Program
END:VEVENT
BEGIN:VEVENT
DTSTART;TZID=America/Chicago:20250420T190000
DTEND;TZID=America/Chicago:20250420T200000
DTSTAMP:20260425T055959
CREATED:20250319T104049Z
LAST-MODIFIED:20250319T104049Z
UID:6090-1745175600-1745179200@edg.jadebuddha.org
SUMMARY:Nikaya Reading Class (Zoom)
DESCRIPTION:Nikaya Reading Class\n7:00PM Central time\nContact: nikaya.mgr@gmail.com
URL:https://edg.jadebuddha.org/event/nikaya-reading-class-zoom-44/
LOCATION:TX
CATEGORIES:EDG Program
END:VEVENT
BEGIN:VEVENT
DTSTART;TZID=America/Chicago:20250426T100000
DTEND;TZID=America/Chicago:20250426T113000
DTSTAMP:20260425T055959
CREATED:20250319T105648Z
LAST-MODIFIED:20250319T105648Z
UID:6110-1745661600-1745667000@edg.jadebuddha.org
SUMMARY:vSMG Meditation and Book Study (Zoom)
DESCRIPTION:vSMG (Virtual Satellite Meditation Group) Meditation and Book Study\nGently guided Vipassana Group Meditation 10:00am Central Time\nBook Study 10:30am\nContact: vsmg.mgr@gmail.com
URL:https://edg.jadebuddha.org/event/vsmg-meditation-and-book-study-zoom-47/
LOCATION:TX
CATEGORIES:EDG Program
END:VEVENT
BEGIN:VEVENT
DTSTART;TZID=America/Chicago:20250427T100000
DTEND;TZID=America/Chicago:20250427T113000
DTSTAMP:20260425T055959
CREATED:20250319T105007Z
LAST-MODIFIED:20250319T105027Z
UID:6102-1745748000-1745753400@edg.jadebuddha.org
SUMMARY:Meditation & Dharma talk by Venerable Shiou Huey
DESCRIPTION:
URL:https://edg.jadebuddha.org/event/meditation-dharma-talk-by-venerable-shiou-huey-8/
LOCATION:Jade Buddha Temple\, 6969 Westbranch Drive\, Houston\, TX\, 77072\, United States
CATEGORIES:EDG Program
END:VEVENT
BEGIN:VEVENT
DTSTART;TZID=America/Chicago:20250427T190000
DTEND;TZID=America/Chicago:20250427T203000
DTSTAMP:20260425T055959
CREATED:20250319T104237Z
LAST-MODIFIED:20250319T104237Z
UID:6094-1745780400-1745785800@edg.jadebuddha.org
SUMMARY:Nikaya Reading Class (Zoom)
DESCRIPTION:Nikaya Reading Class\n7:00PM Central time\nContact: nikaya.mgr@gmail.com
URL:https://edg.jadebuddha.org/event/nikaya-reading-class-zoom-46/
LOCATION:TX
CATEGORIES:EDG Program
END:VEVENT
BEGIN:VEVENT
DTSTART;TZID=America/Chicago:20250503T100000
DTEND;TZID=America/Chicago:20250503T113000
DTSTAMP:20260425T055959
CREATED:20250319T105731Z
LAST-MODIFIED:20250319T105731Z
UID:6112-1746266400-1746271800@edg.jadebuddha.org
SUMMARY:vSMG Meditation and Book Study (Zoom)
DESCRIPTION:vSMG (Virtual Satellite Meditation Group) Meditation and Book Study\nGently guided Vipassana Group Meditation 10:00am Central Time\nBook Study 10:30am\nContact: vsmg.mgr@gmail.com
URL:https://edg.jadebuddha.org/event/vsmg-meditation-and-book-study-zoom-48/
LOCATION:TX
CATEGORIES:EDG Program
END:VEVENT
BEGIN:VEVENT
DTSTART;TZID=America/Chicago:20250504T080000
DTEND;TZID=America/Chicago:20250504T170000
DTSTAMP:20260425T055959
CREATED:20250319T105136Z
LAST-MODIFIED:20250319T105136Z
UID:6104-1746345600-1746378000@edg.jadebuddha.org
SUMMARY:Shakyamuni Buddha Birthday Ceremony (No Meditation & Dharma talk today)
DESCRIPTION:
URL:https://edg.jadebuddha.org/event/shakyamuni-buddha-birthday-ceremony-no-meditation-dharma-talk-today/
LOCATION:Jade Buddha Temple\, 6969 Westbranch Drive\, Houston\, TX\, 77072\, United States
CATEGORIES:EDG Program
END:VEVENT
BEGIN:VEVENT
DTSTART;TZID=America/Chicago:20250510T100000
DTEND;TZID=America/Chicago:20250510T113000
DTSTAMP:20260425T055959
CREATED:20250417T014137Z
LAST-MODIFIED:20250417T014137Z
UID:6140-1746871200-1746876600@edg.jadebuddha.org
SUMMARY:vSMG Meditation and Book Study (Zoom)
DESCRIPTION:vSMG (Virtual Satellite Meditation Group) Meditation and Book Study\nGently guided Vipassana Group Meditation 10:00am Central Time\nBook Study 10:30am\nContact: vsmg.mgr@gmail.com
URL:https://edg.jadebuddha.org/event/vsmg-meditation-and-book-study-zoom-49/
LOCATION:TX
CATEGORIES:EDG Program
END:VEVENT
BEGIN:VEVENT
DTSTART;TZID=America/Chicago:20250511T100000
DTEND;TZID=America/Chicago:20250511T113000
DTSTAMP:20260425T055959
CREATED:20250417T011458Z
LAST-MODIFIED:20250511T120003Z
UID:6132-1746957600-1746963000@edg.jadebuddha.org
SUMMARY:Meditation & Dharma talk by Hunter White
DESCRIPTION:Guided meditation (10AM) and Dharma talk (10:30AM).  Dharma talk will be given in person\, at Kwan Yin Hall. This will also be available via Zoom\, for persons that cannot attend.
URL:https://edg.jadebuddha.org/event/meditation-dharma-talk-by-celeste-budwit-hunter/
LOCATION:Jade Buddha Temple\, 6969 Westbranch Drive\, Houston\, TX\, 77072\, United States
CATEGORIES:EDG Program
END:VEVENT
END:VCALENDAR