BEGIN:VCALENDAR
VERSION:2.0
PRODID:-//English Dharma Group - ECPv6.15.3//NONSGML v1.0//EN
CALSCALE:GREGORIAN
METHOD:PUBLISH
X-WR-CALNAME:English Dharma Group
X-ORIGINAL-URL:https://edg.jadebuddha.org
X-WR-CALDESC:Events for English Dharma Group
REFRESH-INTERVAL;VALUE=DURATION:PT1H
X-Robots-Tag:noindex
X-PUBLISHED-TTL:PT1H
BEGIN:VTIMEZONE
TZID:America/Chicago
BEGIN:DAYLIGHT
TZOFFSETFROM:-0600
TZOFFSETTO:-0500
TZNAME:CDT
DTSTART:20250309T080000
END:DAYLIGHT
BEGIN:STANDARD
TZOFFSETFROM:-0500
TZOFFSETTO:-0600
TZNAME:CST
DTSTART:20251102T070000
END:STANDARD
END:VTIMEZONE
BEGIN:VEVENT
DTSTART;TZID=America/Chicago:20250518T100000
DTEND;TZID=America/Chicago:20250518T113000
DTSTAMP:20260424T085935
CREATED:20250417T013622Z
LAST-MODIFIED:20250417T100409Z
UID:6134-1747562400-1747567800@edg.jadebuddha.org
SUMMARY:Meditation & Dharma talk by Bhikkhu Cintita
DESCRIPTION:Guided meditation (10AM) and Dharma talk (10:30AM).  Dharma talk will be given remotely via Zoom. But\, please join us at Kwan Yin Hall to participate in the Zoom session (projected onto screen) together with other Buddhist members.
URL:https://edg.jadebuddha.org/event/meditation-dharma-talk-by-bhikkhu-cintita/
LOCATION:Jade Buddha Temple\, 6969 Westbranch Drive\, Houston\, TX\, 77072\, United States
CATEGORIES:EDG Program
END:VEVENT
BEGIN:VEVENT
DTSTART;TZID=America/Chicago:20250518T190000
DTEND;TZID=America/Chicago:20250518T203000
DTSTAMP:20260424T085935
CREATED:20250417T010736Z
LAST-MODIFIED:20250417T010745Z
UID:6126-1747594800-1747600200@edg.jadebuddha.org
SUMMARY:Nikaya Reading Class
DESCRIPTION:7:00PM Central time\nContact: nikaya.mgr@gmail.com
URL:https://edg.jadebuddha.org/event/nikaya-reading-class-4/
LOCATION:TX
CATEGORIES:EDG Program
END:VEVENT
END:VCALENDAR