BEGIN:VCALENDAR
VERSION:2.0
PRODID:-//English Dharma Group - ECPv6.15.3//NONSGML v1.0//EN
CALSCALE:GREGORIAN
METHOD:PUBLISH
X-ORIGINAL-URL:https://edg.jadebuddha.org
X-WR-CALDESC:Events for English Dharma Group
REFRESH-INTERVAL;VALUE=DURATION:PT1H
X-Robots-Tag:noindex
X-PUBLISHED-TTL:PT1H
BEGIN:VTIMEZONE
TZID:America/Chicago
BEGIN:DAYLIGHT
TZOFFSETFROM:-0600
TZOFFSETTO:-0500
TZNAME:CDT
DTSTART:20250309T080000
END:DAYLIGHT
BEGIN:STANDARD
TZOFFSETFROM:-0500
TZOFFSETTO:-0600
TZNAME:CST
DTSTART:20251102T070000
END:STANDARD
END:VTIMEZONE
BEGIN:VEVENT
DTSTART;TZID=America/Chicago:20250105T100000
DTEND;TZID=America/Chicago:20250105T113000
DTSTAMP:20260424T144916
CREATED:20241108T024849Z
LAST-MODIFIED:20241109T180928Z
UID:5818-1736071200-1736076600@edg.jadebuddha.org
SUMMARY:Meditation & Dharma Talk - Venerable Samiddha
DESCRIPTION:Guided meditation (10AM) and Dharma talk (10:30AM).  Dharma talk will be given remotely via Zoom. But\, please join us at Kwan Yin Hall to participate in the Zoom session (projected onto screen) together with other Buddhist members.
URL:https://edg.jadebuddha.org/event/meditation-dharma-talk-canceled-due-to-grand-hall-ceremony/
LOCATION:Jade Buddha Temple\, 6969 Westbranch Drive\, Houston\, TX\, 77072\, United States
CATEGORIES:EDG Program
END:VEVENT
BEGIN:VEVENT
DTSTART;TZID=America/Chicago:20250105T190000
DTEND;TZID=America/Chicago:20250105T203000
DTSTAMP:20260424T144916
CREATED:20241108T023143Z
LAST-MODIFIED:20241108T023143Z
UID:5800-1736103600-1736109000@edg.jadebuddha.org
SUMMARY:Nikaya Reading Class (Zoom)
DESCRIPTION:Nikaya Reading Class\n7:00PM Central time\nContact: nikaya.mgr@gmail.com
URL:https://edg.jadebuddha.org/event/nikaya-reading-class-zoom-30/
LOCATION:TX
CATEGORIES:EDG Program
END:VEVENT
END:VCALENDAR