BEGIN:VCALENDAR
VERSION:2.0
PRODID:-//English Dharma Group - ECPv6.15.3//NONSGML v1.0//EN
CALSCALE:GREGORIAN
METHOD:PUBLISH
X-ORIGINAL-URL:https://edg.jadebuddha.org
X-WR-CALDESC:Events for English Dharma Group
REFRESH-INTERVAL;VALUE=DURATION:PT1H
X-Robots-Tag:noindex
X-PUBLISHED-TTL:PT1H
BEGIN:VTIMEZONE
TZID:America/Chicago
BEGIN:DAYLIGHT
TZOFFSETFROM:-0600
TZOFFSETTO:-0500
TZNAME:CDT
DTSTART:20260308T080000
END:DAYLIGHT
BEGIN:STANDARD
TZOFFSETFROM:-0500
TZOFFSETTO:-0600
TZNAME:CST
DTSTART:20261101T070000
END:STANDARD
END:VTIMEZONE
BEGIN:VEVENT
DTSTART;TZID=America/Chicago:20260103T090000
DTEND;TZID=America/Chicago:20260103T103000
DTSTAMP:20260423T183510
CREATED:20251105T114535Z
LAST-MODIFIED:20251105T114535Z
UID:6530-1767430800-1767436200@edg.jadebuddha.org
SUMMARY:vSMG Meditation and Book Study (Zoom)
DESCRIPTION:vSMG (Virtual Satellite Meditation Group) Meditation and Book Study\nGently guided Vipassana Group Meditation 9:00am Central Time\nBook Study 9:30am\nContact: vsmg.mgr@gmail.com
URL:https://edg.jadebuddha.org/event/vsmg-meditation-and-book-study-zoom-83/
LOCATION:TX
CATEGORIES:EDG Program
END:VEVENT
BEGIN:VEVENT
DTSTART;TZID=America/Chicago:20260104T190000
DTEND;TZID=America/Chicago:20260104T203000
DTSTAMP:20260423T183510
CREATED:20251105T104656Z
LAST-MODIFIED:20251105T104656Z
UID:6511-1767553200-1767558600@edg.jadebuddha.org
SUMMARY:Nikaya Reading Class (Zoom)
DESCRIPTION:Nikaya Reading Class\n7:00PM Central time\nContact: nikaya.mgr@gmail.com
URL:https://edg.jadebuddha.org/event/nikaya-reading-class-zoom-71/
LOCATION:TX
CATEGORIES:EDG Program
END:VEVENT
BEGIN:VEVENT
DTSTART;TZID=America/Chicago:20260107T180000
DTEND;TZID=America/Chicago:20260107T193000
DTSTAMP:20260423T183510
CREATED:20251105T120433Z
LAST-MODIFIED:20251105T121621Z
UID:6552-1767808800-1767814200@edg.jadebuddha.org
SUMMARY:Buddha’s Book Club (Zoom)
DESCRIPTION:Hosted by Bhikkhu Cintita at the Theravada Dhamma Society of Minnesota\nhttps://cintita.org\nContact: tdsm.correspondence@gmail.com
URL:https://edg.jadebuddha.org/event/buddhas-book-club-zoom-22/
LOCATION:TX
CATEGORIES:EDG Program
END:VEVENT
BEGIN:VEVENT
DTSTART;TZID=America/Chicago:20260110T080000
DTEND;TZID=America/Chicago:20260110T170000
DTSTAMP:20260423T183510
CREATED:20260110T132005Z
LAST-MODIFIED:20260110T132005Z
UID:6682-1768032000-1768064400@edg.jadebuddha.org
SUMMARY:Meditation & Dharma talk by ... To Be Announced
DESCRIPTION:Guided meditation (10AM) and Dharma talk (10:30AM).  Dharma talk will  be available via Zoom\, for persons that cannot attend.
URL:https://edg.jadebuddha.org/event/meditation-dharma-talk-by-to-be-announced-6/
LOCATION:TX
CATEGORIES:EDG Program
END:VEVENT
BEGIN:VEVENT
DTSTART;TZID=America/Chicago:20260110T090000
DTEND;TZID=America/Chicago:20260110T103000
DTSTAMP:20260423T183510
CREATED:20251202T094506Z
LAST-MODIFIED:20251202T094506Z
UID:6600-1768035600-1768041000@edg.jadebuddha.org
SUMMARY:vSMG Meditation and Book Study (Zoom)
DESCRIPTION:vSMG (Virtual Satellite Meditation Group) Meditation and Book Study\nGently guided Vipassana Group Meditation 9:00am Central Time\nBook Study 9:30am\nContact: vsmg.mgr@gmail.com
URL:https://edg.jadebuddha.org/event/vsmg-meditation-and-book-study-zoom-84/
LOCATION:TX
CATEGORIES:EDG Program
END:VEVENT
BEGIN:VEVENT
DTSTART;TZID=America/Chicago:20260111T070000
DTEND;TZID=America/Chicago:20260111T203000
DTSTAMP:20260423T183510
CREATED:20260110T120645Z
LAST-MODIFIED:20260110T120645Z
UID:6634-1768114800-1768163400@edg.jadebuddha.org
SUMMARY:Nikaya Reading Class (Zoom)
DESCRIPTION:Nikaya Reading Class\n7:00PM Central time\nContact: nikaya.mgr@gmail.com
URL:https://edg.jadebuddha.org/event/nikaya-reading-class-zoom-76/
LOCATION:TX
CATEGORIES:EDG Program
END:VEVENT
BEGIN:VEVENT
DTSTART;TZID=America/Chicago:20260111T100000
DTEND;TZID=America/Chicago:20260111T113000
DTSTAMP:20260423T183510
CREATED:20260110T124518Z
LAST-MODIFIED:20260110T125241Z
UID:6655-1768125600-1768131000@edg.jadebuddha.org
SUMMARY:Meditation & Dharma talk by Bhikkhu Cintita
DESCRIPTION:Guided meditation (10AM) and Dharma talk (10:30AM).  Dharma talk will be given remotely via Zoom. But\, please join us at Kwan Yin Hall to participate in the Zoom session (projected onto screen) together with other Buddhist members.
URL:https://edg.jadebuddha.org/event/meditation-dharma-talk-by-bhante-cintita-2/
LOCATION:Jade Buddha Temple\, 6969 Westbranch Drive\, Houston\, TX\, 77072\, United States
CATEGORIES:EDG Program
END:VEVENT
BEGIN:VEVENT
DTSTART;TZID=America/Chicago:20260114T180000
DTEND;TZID=America/Chicago:20260114T193000
DTSTAMP:20260423T183510
CREATED:20251202T100303Z
LAST-MODIFIED:20251202T100736Z
UID:6620-1768413600-1768419000@edg.jadebuddha.org
SUMMARY:Buddha’s Book Club (Zoom)
DESCRIPTION:Hosted by Bhikkhu Cintita at the Theravada Dhamma Society of Minnesota\nhttps://sitagu.org/mn/\nContact: tdsm.correspondence@gmail.com
URL:https://edg.jadebuddha.org/event/buddhas-book-club-zoom-23/
LOCATION:TX
CATEGORIES:EDG Program
END:VEVENT
BEGIN:VEVENT
DTSTART;TZID=America/Chicago:20260117T090000
DTEND;TZID=America/Chicago:20260117T103000
DTSTAMP:20260423T183510
CREATED:20251202T094607Z
LAST-MODIFIED:20251202T094607Z
UID:6602-1768640400-1768645800@edg.jadebuddha.org
SUMMARY:vSMG Meditation and Book Study (Zoom)
DESCRIPTION:vSMG (Virtual Satellite Meditation Group) Meditation and Book Study\nGently guided Vipassana Group Meditation 9:00am Central Time\nBook Study 9:30am\nContact: vsmg.mgr@gmail.com
URL:https://edg.jadebuddha.org/event/vsmg-meditation-and-book-study-zoom-85/
LOCATION:TX
CATEGORIES:EDG Program
END:VEVENT
BEGIN:VEVENT
DTSTART;TZID=America/Chicago:20260118T100000
DTEND;TZID=America/Chicago:20260118T113000
DTSTAMP:20260423T183510
CREATED:20260110T124629Z
LAST-MODIFIED:20260110T124629Z
UID:6657-1768730400-1768735800@edg.jadebuddha.org
SUMMARY:Meditation & Dharma talk by Daniel Strain
DESCRIPTION:Guided meditation (10AM) and Dharma talk (10:30AM).  Dharma talk will be given in person\, at Kwan Yin Hall. This will also be available via Zoom\, for persons that cannot attend.
URL:https://edg.jadebuddha.org/event/meditation-dharma-talk-by-daniel-strain-2/
LOCATION:Jade Buddha Temple\, 6969 Westbranch Drive\, Houston\, TX\, 77072\, United States
CATEGORIES:EDG Program
END:VEVENT
BEGIN:VEVENT
DTSTART;TZID=America/Chicago:20260118T190000
DTEND;TZID=America/Chicago:20260118T203000
DTSTAMP:20260423T183510
CREATED:20251202T093426Z
LAST-MODIFIED:20251202T093426Z
UID:6594-1768762800-1768768200@edg.jadebuddha.org
SUMMARY:Nikaya Reading Class (Zoom)
DESCRIPTION:Nikaya Reading Class\n7:00PM Central time\nContact: nikaya.mgr@gmail.com
URL:https://edg.jadebuddha.org/event/nikaya-reading-class-zoom-69/
LOCATION:TX
CATEGORIES:EDG Program
END:VEVENT
BEGIN:VEVENT
DTSTART;TZID=America/Chicago:20260121T180000
DTEND;TZID=America/Chicago:20260121T193000
DTSTAMP:20260423T183510
CREATED:20251202T100410Z
LAST-MODIFIED:20251202T100410Z
UID:6622-1769018400-1769023800@edg.jadebuddha.org
SUMMARY:Buddha’s Book Club (Zoom)
DESCRIPTION:Hosted by Bhikkhu Cintita at the Theravada Dhamma Society of Minnesota\nhttps://sitagu.org/mn/\nContact: tdsm.correspondence@gmail.com
URL:https://edg.jadebuddha.org/event/buddhas-book-club-zoom-24/
LOCATION:TX
CATEGORIES:EDG Program
END:VEVENT
BEGIN:VEVENT
DTSTART;TZID=America/Chicago:20260124T090000
DTEND;TZID=America/Chicago:20260124T103000
DTSTAMP:20260423T183510
CREATED:20251202T094701Z
LAST-MODIFIED:20251202T094701Z
UID:6604-1769245200-1769250600@edg.jadebuddha.org
SUMMARY:vSMG Meditation and Book Study (Zoom)
DESCRIPTION:vSMG (Virtual Satellite Meditation Group) Meditation and Book Study\nGently guided Vipassana Group Meditation 9:00am Central Time\nBook Study 9:30am\nContact: vsmg.mgr@gmail.com
URL:https://edg.jadebuddha.org/event/vsmg-meditation-and-book-study-zoom-86/
LOCATION:TX
CATEGORIES:EDG Program
END:VEVENT
BEGIN:VEVENT
DTSTART;TZID=America/Chicago:20260125T100000
DTEND;TZID=America/Chicago:20260125T113000
DTSTAMP:20260423T183510
CREATED:20260110T124749Z
LAST-MODIFIED:20260123T153208Z
UID:6659-1769335200-1769340600@edg.jadebuddha.org
SUMMARY:Meditation & Dharma CANCELLED DUE TO BAD WEATHER
DESCRIPTION:
URL:https://edg.jadebuddha.org/event/meditation-dharma-talk-by-hunter-white-2/
LOCATION:Jade Buddha Temple\, 6969 Westbranch Drive\, Houston\, TX\, 77072\, United States
CATEGORIES:EDG Program
END:VEVENT
BEGIN:VEVENT
DTSTART;TZID=America/Chicago:20260125T190000
DTEND;TZID=America/Chicago:20260125T203000
DTSTAMP:20260423T183510
CREATED:20251202T093514Z
LAST-MODIFIED:20251202T093737Z
UID:6596-1769367600-1769373000@edg.jadebuddha.org
SUMMARY:Nikaya Reading Class (Zoom)
DESCRIPTION:Nikaya Reading Class\n7:00PM Central time\nContact: nikaya.mgr@gmail.com
URL:https://edg.jadebuddha.org/event/nikaya-reading-class-zoom-74/
LOCATION:TX
CATEGORIES:EDG Program
END:VEVENT
BEGIN:VEVENT
DTSTART;TZID=America/Chicago:20260128T180000
DTEND;TZID=America/Chicago:20260128T193000
DTSTAMP:20260423T183510
CREATED:20251202T100515Z
LAST-MODIFIED:20251202T100515Z
UID:6624-1769623200-1769628600@edg.jadebuddha.org
SUMMARY:Buddha’s Book Club (Zoom)
DESCRIPTION:Hosted by Bhikkhu Cintita at the Theravada Dhamma Society of Minnesota\nhttps://sitagu.org/mn/\nContact: tdsm.correspondence@gmail.com
URL:https://edg.jadebuddha.org/event/buddhas-book-club-zoom-25/
LOCATION:TX
CATEGORIES:EDG Program
END:VEVENT
BEGIN:VEVENT
DTSTART;TZID=America/Chicago:20260131T090000
DTEND;TZID=America/Chicago:20260131T103000
DTSTAMP:20260423T183510
CREATED:20251202T094744Z
LAST-MODIFIED:20251202T094744Z
UID:6606-1769850000-1769855400@edg.jadebuddha.org
SUMMARY:vSMG Meditation and Book Study (Zoom)
DESCRIPTION:vSMG (Virtual Satellite Meditation Group) Meditation and Book Study\nGently guided Vipassana Group Meditation 9:00am Central Time\nBook Study 9:30am\nContact: vsmg.mgr@gmail.com
URL:https://edg.jadebuddha.org/event/vsmg-meditation-and-book-study-zoom-87/
LOCATION:TX
CATEGORIES:EDG Program
END:VEVENT
END:VCALENDAR