BEGIN:VCALENDAR
VERSION:2.0
PRODID:-//English Dharma Group - ECPv6.15.3//NONSGML v1.0//EN
CALSCALE:GREGORIAN
METHOD:PUBLISH
X-WR-CALNAME:English Dharma Group
X-ORIGINAL-URL:https://edg.jadebuddha.org
X-WR-CALDESC:Events for English Dharma Group
REFRESH-INTERVAL;VALUE=DURATION:PT1H
X-Robots-Tag:noindex
X-PUBLISHED-TTL:PT1H
BEGIN:VTIMEZONE
TZID:America/Chicago
BEGIN:DAYLIGHT
TZOFFSETFROM:-0600
TZOFFSETTO:-0500
TZNAME:CDT
DTSTART:20250309T080000
END:DAYLIGHT
BEGIN:STANDARD
TZOFFSETFROM:-0500
TZOFFSETTO:-0600
TZNAME:CST
DTSTART:20251102T070000
END:STANDARD
END:VTIMEZONE
BEGIN:VEVENT
DTSTART;TZID=America/Chicago:20250201T100000
DTEND;TZID=America/Chicago:20250201T113000
DTSTAMP:20260424T120105
CREATED:20241214T130737Z
LAST-MODIFIED:20241214T130737Z
UID:5856-1738404000-1738409400@edg.jadebuddha.org
SUMMARY:vSMG Meditation and Book Study (Zoom)
DESCRIPTION:vSMG (Virtual Satellite Meditation Group) Meditation and Book Study\nGently guided Vipassana Group Meditation 10:00am Central Time\nBook Study 10:30am\nContact: vsmg.mgr@gmail.com
URL:https://edg.jadebuddha.org/event/vsmg-meditation-and-book-study-zoom-35/
LOCATION:TX
CATEGORIES:EDG Program
END:VEVENT
BEGIN:VEVENT
DTSTART;TZID=America/Chicago:20250202T190000
DTEND;TZID=America/Chicago:20250202T203000
DTSTAMP:20260424T120105
CREATED:20241214T124612Z
LAST-MODIFIED:20241214T124612Z
UID:5839-1738522800-1738528200@edg.jadebuddha.org
SUMMARY:Nikaya Reading Class (Zoom)
DESCRIPTION:Nikaya Reading Class\n7:00PM Central time\nContact: nikaya.mgr@gmail.com
URL:https://edg.jadebuddha.org/event/nikaya-reading-class-zoom-34/
LOCATION:TX
CATEGORIES:EDG Program
END:VEVENT
BEGIN:VEVENT
DTSTART;TZID=America/Chicago:20250208T100000
DTEND;TZID=America/Chicago:20250208T113000
DTSTAMP:20260424T120105
CREATED:20250113T144317Z
LAST-MODIFIED:20250113T144317Z
UID:5914-1739008800-1739014200@edg.jadebuddha.org
SUMMARY:vSMG Meditation and Book Study (Zoom)
DESCRIPTION:vSMG (Virtual Satellite Meditation Group) Meditation and Book Study\nGently guided Vipassana Group Meditation 10:00am Central Time\nBook Study 10:30am\nContact: vsmg.mgr@gmail.com
URL:https://edg.jadebuddha.org/event/vsmg-meditation-and-book-study-zoom-36/
LOCATION:TX
CATEGORIES:EDG Program
END:VEVENT
BEGIN:VEVENT
DTSTART;TZID=America/Chicago:20250209T100000
DTEND;TZID=America/Chicago:20250209T113000
DTSTAMP:20260424T120105
CREATED:20250113T151443Z
LAST-MODIFIED:20250113T151443Z
UID:5930-1739095200-1739100600@edg.jadebuddha.org
SUMMARY:Meditation & Dharma talk by Venerable Tong Hong
DESCRIPTION:Guided meditation (10AM) and Dharma talk (10:30AM).  Dharma talk will be given in person\, at Kwan Yin Hall. This will also be available via Zoom\, for persons that cannot attend.
URL:https://edg.jadebuddha.org/event/meditation-dharma-talk-by-venerable-tong-hong-8/
LOCATION:Jade Buddha Temple\, 6969 Westbranch Drive\, Houston\, TX\, 77072\, United States
CATEGORIES:EDG Program
END:VEVENT
BEGIN:VEVENT
DTSTART;TZID=America/Chicago:20250215T100000
DTEND;TZID=America/Chicago:20250215T113000
DTSTAMP:20260424T120105
CREATED:20250113T144406Z
LAST-MODIFIED:20250113T144406Z
UID:5916-1739613600-1739619000@edg.jadebuddha.org
SUMMARY:vSMG Meditation and Book Study (Zoom)
DESCRIPTION:vSMG (Virtual Satellite Meditation Group) Meditation and Book Study\nGently guided Vipassana Group Meditation 10:00am Central Time\nBook Study 10:30am\nContact: vsmg.mgr@gmail.com
URL:https://edg.jadebuddha.org/event/vsmg-meditation-and-book-study-zoom-37/
LOCATION:TX
CATEGORIES:EDG Program
END:VEVENT
BEGIN:VEVENT
DTSTART;TZID=America/Chicago:20250216T100000
DTEND;TZID=America/Chicago:20250216T113000
DTSTAMP:20260424T120105
CREATED:20250113T151551Z
LAST-MODIFIED:20250113T151829Z
UID:5932-1739700000-1739705400@edg.jadebuddha.org
SUMMARY:Meditation & Dharma talk by Venerable Bhante Rahula
DESCRIPTION:Guided meditation (10AM) and Dharma talk (10:30AM).  Dharma talk will be given remotely via Zoom. But\, please join us at Kwan Yin Hall to participate in the Zoom session (projected onto screen) together with other Buddhist members.
URL:https://edg.jadebuddha.org/event/meditation-dharma-talk-by-venerable-tong-hong-9/
LOCATION:Jade Buddha Temple\, 6969 Westbranch Drive\, Houston\, TX\, 77072\, United States
CATEGORIES:EDG Program
END:VEVENT
BEGIN:VEVENT
DTSTART;TZID=America/Chicago:20250216T190000
DTEND;TZID=America/Chicago:20250216T203000
DTSTAMP:20260424T120105
CREATED:20250113T143910Z
LAST-MODIFIED:20250113T143910Z
UID:5908-1739732400-1739737800@edg.jadebuddha.org
SUMMARY:Nikaya Reading Class (Zoom)
DESCRIPTION:Nikaya Reading Class\n7:00PM Central time\nContact: nikaya.mgr@gmail.com
URL:https://edg.jadebuddha.org/event/nikaya-reading-class-zoom-36/
LOCATION:TX
CATEGORIES:EDG Program
END:VEVENT
BEGIN:VEVENT
DTSTART;TZID=America/Chicago:20250222T100000
DTEND;TZID=America/Chicago:20250222T113000
DTSTAMP:20260424T120105
CREATED:20250113T144533Z
LAST-MODIFIED:20250113T144533Z
UID:5918-1740218400-1740223800@edg.jadebuddha.org
SUMMARY:vSMG Meditation and Book Study (Zoom)
DESCRIPTION:vSMG (Virtual Satellite Meditation Group) Meditation and Book Study\nGently guided Vipassana Group Meditation 10:00am Central Time\nBook Study 10:30am\nContact: vsmg.mgr@gmail.com
URL:https://edg.jadebuddha.org/event/vsmg-meditation-and-book-study-zoom-38/
LOCATION:TX
CATEGORIES:EDG Program
END:VEVENT
BEGIN:VEVENT
DTSTART;TZID=America/Chicago:20250223T100000
DTEND;TZID=America/Chicago:20250223T113000
DTSTAMP:20260424T120105
CREATED:20250113T151709Z
LAST-MODIFIED:20250113T151956Z
UID:5934-1740304800-1740310200@edg.jadebuddha.org
SUMMARY:Meditation & Dharma talk by Venerable Shiou Huey
DESCRIPTION:Guided meditation (10AM) and Dharma talk (10:30AM).  Dharma talk will be given in person\, at Kwan Yin Hall. This will also be available via Zoom\, for persons that cannot attend.
URL:https://edg.jadebuddha.org/event/meditation-dharma-talk-by-venerable-shioui-huey/
LOCATION:TX
CATEGORIES:EDG Program
END:VEVENT
BEGIN:VEVENT
DTSTART;TZID=America/Chicago:20250223T190000
DTEND;TZID=America/Chicago:20250223T203000
DTSTAMP:20260424T120105
CREATED:20250113T144007Z
LAST-MODIFIED:20250113T144007Z
UID:5910-1740337200-1740342600@edg.jadebuddha.org
SUMMARY:Nikaya Reading Class (Zoom)
DESCRIPTION:Nikaya Reading Class\n7:00PM Central time\nContact: nikaya.mgr@gmail.com
URL:https://edg.jadebuddha.org/event/nikaya-reading-class-zoom-37/
LOCATION:TX
CATEGORIES:EDG Program
END:VEVENT
END:VCALENDAR