BEGIN:VCALENDAR
VERSION:2.0
PRODID:-//English Dharma Group - ECPv6.15.3//NONSGML v1.0//EN
CALSCALE:GREGORIAN
METHOD:PUBLISH
X-ORIGINAL-URL:https://edg.jadebuddha.org
X-WR-CALDESC:Events for English Dharma Group
REFRESH-INTERVAL;VALUE=DURATION:PT1H
X-Robots-Tag:noindex
X-PUBLISHED-TTL:PT1H
BEGIN:VTIMEZONE
TZID:America/Chicago
BEGIN:DAYLIGHT
TZOFFSETFROM:-0600
TZOFFSETTO:-0500
TZNAME:CDT
DTSTART:20240310T080000
END:DAYLIGHT
BEGIN:STANDARD
TZOFFSETFROM:-0500
TZOFFSETTO:-0600
TZNAME:CST
DTSTART:20241103T070000
END:STANDARD
END:VTIMEZONE
BEGIN:VEVENT
DTSTART;TZID=America/Chicago:20241102T100000
DTEND;TZID=America/Chicago:20241102T113000
DTSTAMP:20260424T161354
CREATED:20240911T142513Z
LAST-MODIFIED:20240911T142513Z
UID:5714-1730541600-1730547000@edg.jadebuddha.org
SUMMARY:vSMG Meditation and Book Study (Zoom)
DESCRIPTION:vSMG (Virtual Satellite Meditation Group) Meditation and Book Study\nGently guided Vipassana Group Meditation 10:00am Central Time\nBook Study 10:30am\nContact: vsmg.mgr@gmail.com
URL:https://edg.jadebuddha.org/event/vsmg-meditation-and-book-study-zoom-23/
LOCATION:TX
CATEGORIES:EDG Program
END:VEVENT
BEGIN:VEVENT
DTSTART;TZID=America/Chicago:20241103T100000
DTEND;TZID=America/Chicago:20241103T113000
DTSTAMP:20260424T161354
CREATED:20240911T144015Z
LAST-MODIFIED:20240911T144015Z
UID:5730-1730628000-1730633400@edg.jadebuddha.org
SUMMARY:Meditation & Dharma talk by Venerable Samiddha
DESCRIPTION:Guided meditation (10AM) and Dharma talk (10:30AM).  Dharma talk will be given remotely via Zoom. But\, please join us at Kwan Yin Hall to participate in the Zoom session (projected onto screen) together with other Buddhist members.
URL:https://edg.jadebuddha.org/event/meditation-dharma-talk-by-venerable-samiddha-5/
LOCATION:Jade Buddha Temple\, 6969 Westbranch Drive\, Houston\, TX\, 77072\, United States
CATEGORIES:EDG Program
END:VEVENT
BEGIN:VEVENT
DTSTART;TZID=America/Chicago:20241103T190000
DTEND;TZID=America/Chicago:20241103T203000
DTSTAMP:20260424T161354
CREATED:20240911T143206Z
LAST-MODIFIED:20240911T143206Z
UID:5722-1730660400-1730665800@edg.jadebuddha.org
SUMMARY:Nikaya Reading Class (Zoom)
DESCRIPTION:Nikaya Reading Class\n7:00PM Central time\nContact: nikaya.mgr@gmail.com
URL:https://edg.jadebuddha.org/event/nikaya-reading-class-zoom-21/
LOCATION:TX
CATEGORIES:EDG Program
END:VEVENT
BEGIN:VEVENT
DTSTART;TZID=America/Chicago:20241109T100000
DTEND;TZID=America/Chicago:20241109T113000
DTSTAMP:20260424T161354
CREATED:20241012T145229Z
LAST-MODIFIED:20241012T145229Z
UID:5744-1731146400-1731151800@edg.jadebuddha.org
SUMMARY:vSMG Meditation and Book Study (Zoom)
DESCRIPTION:vSMG (Virtual Satellite Meditation Group) Meditation and Book Study\nGently guided Vipassana Group Meditation 10:00am Central Time\nBook Study 10:30am\nContact: vsmg.mgr@gmail.com
URL:https://edg.jadebuddha.org/event/vsmg-meditation-and-book-study-zoom-24/
LOCATION:TX
CATEGORIES:EDG Program
END:VEVENT
BEGIN:VEVENT
DTSTART;TZID=America/Chicago:20241110T100000
DTEND;TZID=America/Chicago:20241110T113000
DTSTAMP:20260424T161354
CREATED:20241012T150638Z
LAST-MODIFIED:20241012T150638Z
UID:5766-1731232800-1731238200@edg.jadebuddha.org
SUMMARY:Meditation & Dharma talk by Venerable Tong Hong
DESCRIPTION:Guided meditation (10AM) and Dharma talk (10:30AM).  Dharma talk will be given in person\, at Kwan Yin Hall. This will also be available via Zoom\, for persons that cannot attend.
URL:https://edg.jadebuddha.org/event/meditation-dharma-talk-by-venerable-tong-hong-6/
LOCATION:Jade Buddha Temple\, 6969 Westbranch Drive\, Houston\, TX\, 77072\, United States
CATEGORIES:EDG Program
END:VEVENT
BEGIN:VEVENT
DTSTART;TZID=America/Chicago:20241110T190000
DTEND;TZID=America/Chicago:20241110T203000
DTSTAMP:20260424T161354
CREATED:20241012T144749Z
LAST-MODIFIED:20241012T144749Z
UID:5736-1731265200-1731270600@edg.jadebuddha.org
SUMMARY:Nikaya Reading Class (Zoom)
DESCRIPTION:Nikaya Reading Class\n7:00PM Central time\nContact: nikaya.mgr@gmail.com
URL:https://edg.jadebuddha.org/event/nikaya-reading-class-zoom-22/
LOCATION:TX
CATEGORIES:EDG Program
END:VEVENT
BEGIN:VEVENT
DTSTART;TZID=America/Chicago:20241116T100000
DTEND;TZID=America/Chicago:20241116T113000
DTSTAMP:20260424T161354
CREATED:20241012T145335Z
LAST-MODIFIED:20241028T124300Z
UID:5746-1731751200-1731756600@edg.jadebuddha.org
SUMMARY:vSMG Meditation and Book Study (Zoom) - Canceled due to Annual Fundraising Bazaar
DESCRIPTION:vSMG (Virtual Satellite Meditation Group) Meditation and Book Study\nGently guided Vipassana Group Meditation 10:00am Central Time\nBook Study 10:30am\nContact: vsmg.mgr@gmail.com
URL:https://edg.jadebuddha.org/event/vsmg-meditation-and-book-study-zoom-25/
LOCATION:TX
CATEGORIES:EDG Program
END:VEVENT
BEGIN:VEVENT
DTSTART;TZID=America/Chicago:20241117T100000
DTEND;TZID=America/Chicago:20241117T113000
DTSTAMP:20260424T161354
CREATED:20241012T150921Z
LAST-MODIFIED:20241027T173212Z
UID:5768-1731837600-1731843000@edg.jadebuddha.org
SUMMARY:Temple Annual Cleaning
DESCRIPTION:No EDG Program on this Sunday
URL:https://edg.jadebuddha.org/event/temple-annual-cleaning/
LOCATION:Jade Buddha Temple\, 6969 Westbranch Drive\, Houston\, TX\, 77072\, United States
CATEGORIES:EDG Program
END:VEVENT
BEGIN:VEVENT
DTSTART;TZID=America/Chicago:20241117T190000
DTEND;TZID=America/Chicago:20241117T203000
DTSTAMP:20260424T161354
CREATED:20241012T144900Z
LAST-MODIFIED:20241012T144900Z
UID:5738-1731870000-1731875400@edg.jadebuddha.org
SUMMARY:Nikaya Reading Class (Zoom)
DESCRIPTION:Nikaya Reading Class\n7:00PM Central time\nContact: nikaya.mgr@gmail.com
URL:https://edg.jadebuddha.org/event/nikaya-reading-class-zoom-23/
LOCATION:TX
CATEGORIES:EDG Program
END:VEVENT
BEGIN:VEVENT
DTSTART;TZID=America/Chicago:20241123T100000
DTEND;TZID=America/Chicago:20241123T113000
DTSTAMP:20260424T161354
CREATED:20241012T145415Z
LAST-MODIFIED:20241012T145415Z
UID:5748-1732356000-1732361400@edg.jadebuddha.org
SUMMARY:vSMG Meditation and Book Study (Zoom)
DESCRIPTION:vSMG (Virtual Satellite Meditation Group) Meditation and Book Study\nGently guided Vipassana Group Meditation 10:00am Central Time\nBook Study 10:30am\nContact: vsmg.mgr@gmail.com
URL:https://edg.jadebuddha.org/event/vsmg-meditation-and-book-study-zoom-26/
LOCATION:TX
CATEGORIES:EDG Program
END:VEVENT
BEGIN:VEVENT
DTSTART;TZID=America/Chicago:20241124T100000
DTEND;TZID=America/Chicago:20241124T113000
DTSTAMP:20260424T161354
CREATED:20241012T151107Z
LAST-MODIFIED:20241012T151107Z
UID:5770-1732442400-1732447800@edg.jadebuddha.org
SUMMARY:Meditation & Dharma talk by Venerable Shiou Huey
DESCRIPTION:Guided meditation (10AM) and Dharma talk (10:30AM).  Dharma talk will be given in person\, at Kwan Yin Hall. This will also be available via Zoom\, for persons that cannot attend.
URL:https://edg.jadebuddha.org/event/meditation-dharma-talk-by-venerable-shiou-huey-5/
LOCATION:Jade Buddha Temple\, 6969 Westbranch Drive\, Houston\, TX\, 77072\, United States
CATEGORIES:EDG Program
END:VEVENT
BEGIN:VEVENT
DTSTART;TZID=America/Chicago:20241124T190000
DTEND;TZID=America/Chicago:20241124T203000
DTSTAMP:20260424T161354
CREATED:20241012T144956Z
LAST-MODIFIED:20241012T144956Z
UID:5740-1732474800-1732480200@edg.jadebuddha.org
SUMMARY:Nikaya Reading Class (Zoom)
DESCRIPTION:Nikaya Reading Class\n7:00PM Central time\nContact: nikaya.mgr@gmail.com
URL:https://edg.jadebuddha.org/event/nikaya-reading-class-zoom-24/
LOCATION:TX
CATEGORIES:EDG Program
END:VEVENT
BEGIN:VEVENT
DTSTART;TZID=America/Chicago:20241130T100000
DTEND;TZID=America/Chicago:20241130T103000
DTSTAMP:20260424T161354
CREATED:20241012T145457Z
LAST-MODIFIED:20241012T145457Z
UID:5750-1732960800-1732962600@edg.jadebuddha.org
SUMMARY:vSMG Meditation and Book Study (Zoom)
DESCRIPTION:vSMG (Virtual Satellite Meditation Group) Meditation and Book Study\nGently guided Vipassana Group Meditation 10:00am Central Time\nBook Study 10:30am\nContact: vsmg.mgr@gmail.com
URL:https://edg.jadebuddha.org/event/vsmg-meditation-and-book-study-zoom-27/
LOCATION:TX
CATEGORIES:EDG Program
END:VEVENT
END:VCALENDAR