BEGIN:VCALENDAR
VERSION:2.0
PRODID:-//English Dharma Group - ECPv6.15.3//NONSGML v1.0//EN
CALSCALE:GREGORIAN
METHOD:PUBLISH
X-WR-CALNAME:English Dharma Group
X-ORIGINAL-URL:http://edg.jadebuddha.org
X-WR-CALDESC:Events for English Dharma Group
REFRESH-INTERVAL;VALUE=DURATION:PT1H
X-Robots-Tag:noindex
X-PUBLISHED-TTL:PT1H
BEGIN:VTIMEZONE
TZID:America/Chicago
BEGIN:DAYLIGHT
TZOFFSETFROM:-0600
TZOFFSETTO:-0500
TZNAME:CDT
DTSTART:20250309T080000
END:DAYLIGHT
BEGIN:STANDARD
TZOFFSETFROM:-0500
TZOFFSETTO:-0600
TZNAME:CST
DTSTART:20251102T070000
END:STANDARD
END:VTIMEZONE
BEGIN:VEVENT
DTSTART;TZID=America/Chicago:20251026T190000
DTEND;TZID=America/Chicago:20251026T203000
DTSTAMP:20260424T062311
CREATED:20250911T224612Z
LAST-MODIFIED:20250911T224612Z
UID:6419-1761505200-1761510600@edg.jadebuddha.org
SUMMARY:Nikaya Reading Class (Zoom)
DESCRIPTION:Nikaya Reading Class\n7:00PM Central time\nContact: nikaya.mgr@gmail.com
URL:http://edg.jadebuddha.org/event/nikaya-reading-class-zoom-61/
LOCATION:TX
END:VEVENT
BEGIN:VEVENT
DTSTART;TZID=America/Chicago:20251026T100000
DTEND;TZID=America/Chicago:20251026T113000
DTSTAMP:20260424T062311
CREATED:20250911T230137Z
LAST-MODIFIED:20250911T230137Z
UID:6427-1761472800-1761478200@edg.jadebuddha.org
SUMMARY:Meditation & Dharma talk by Venerable Shiou Huey
DESCRIPTION:Guided meditation (10AM) and Dharma talk (10:30AM).  Dharma talk will be given in person\, at Kwan Yin Hall. This will also be available via Zoom\, for persons that cannot attend.
URL:http://edg.jadebuddha.org/event/meditation-dharma-talk-by-venerable-shiou-huey-14/
LOCATION:Jade Buddha Temple\, 6969 Westbranch Drive\, Houston\, TX\, 77072\, United States
CATEGORIES:EDG Program
END:VEVENT
BEGIN:VEVENT
DTSTART;TZID=America/Chicago:20251025T090000
DTEND;TZID=America/Chicago:20251025T140000
DTSTAMP:20260424T062311
CREATED:20250911T223408Z
LAST-MODIFIED:20250911T223408Z
UID:6399-1761382800-1761400800@edg.jadebuddha.org
SUMMARY:ABC Saturday Meditation
DESCRIPTION:American Bodhi Center (ABC) Saturday Meditation guided by Ven. Tong Hong\nFor more information see the ABC website (See “View Venue Website”\, below).
URL:http://edg.jadebuddha.org/event/abc-saturday-meditation-66/
LOCATION:American Bodhi Center\, 29123 Mellman Rd\, Hempstead\, TX\, 77445\, United States
CATEGORIES:Retreat
END:VEVENT
BEGIN:VEVENT
DTSTART;TZID=America/Chicago:20251025T090000
DTEND;TZID=America/Chicago:20251025T103000
DTSTAMP:20260424T062311
CREATED:20250911T224005Z
LAST-MODIFIED:20250911T224005Z
UID:6409-1761382800-1761388200@edg.jadebuddha.org
SUMMARY:vSMG Meditation and Book Study (Zoom)
DESCRIPTION:vSMG (Virtual Satellite Meditation Group) Meditation and Book Study\nGently guided Vipassana Group Meditation 10:00am Central Time\nBook Study 10:30am\nContact: vsmg.mgr@gmail.com
URL:http://edg.jadebuddha.org/event/vsmg-meditation-and-book-study-zoom-73/
LOCATION:TX
CATEGORIES:EDG Program
END:VEVENT
BEGIN:VEVENT
DTSTART;TZID=America/Chicago:20251022T180000
DTEND;TZID=America/Chicago:20251022T193000
DTSTAMP:20260424T062311
CREATED:20250911T222548Z
LAST-MODIFIED:20250911T222612Z
UID:6393-1761156000-1761161400@edg.jadebuddha.org
SUMMARY:Buddha’s Book Club (Zoom)
DESCRIPTION:Hosted by Bhikkhu Cintita at the Theravada Dhamma Society of Minnesota\nhttps://sitagu.org/mn/\nContact: tdsm.correspondence@gmail.com
URL:http://edg.jadebuddha.org/event/buddhas-book-club-zoom-11/
LOCATION:TX
CATEGORIES:EDG Program
END:VEVENT
BEGIN:VEVENT
DTSTART;TZID=America/Chicago:20251019T190000
DTEND;TZID=America/Chicago:20251019T203000
DTSTAMP:20260424T062311
CREATED:20250911T224528Z
LAST-MODIFIED:20250911T224528Z
UID:6417-1760900400-1760905800@edg.jadebuddha.org
SUMMARY:Nikaya Reading Class (Zoom)
DESCRIPTION:Nikaya Reading Class\n7:00PM Central time\nContact: nikaya.mgr@gmail.com
URL:http://edg.jadebuddha.org/event/nikaya-reading-class-zoom-60/
LOCATION:TX
CATEGORIES:EDG Program
END:VEVENT
BEGIN:VEVENT
DTSTART;TZID=America/Chicago:20251019T100000
DTEND;TZID=America/Chicago:20251019T113000
DTSTAMP:20260424T062311
CREATED:20250911T230020Z
LAST-MODIFIED:20250911T230020Z
UID:6425-1760868000-1760873400@edg.jadebuddha.org
SUMMARY:Meditation & Dharma talk by Bhante Rahula
DESCRIPTION:Guided meditation (10AM) and Dharma talk (10:30AM).  Dharma talk will be given remotely via Zoom. But\, please join us at Kwan Yin Hall to participate in the Zoom session (projected onto screen) together with other Buddhist members.
URL:http://edg.jadebuddha.org/event/meditation-dharma-talk-by-bhante-rahula-5/
LOCATION:Jade Buddha Temple\, 6969 Westbranch Drive\, Houston\, TX\, 77072\, United States
CATEGORIES:EDG Program
END:VEVENT
BEGIN:VEVENT
DTSTART;TZID=America/Chicago:20251018T090000
DTEND;TZID=America/Chicago:20251018T103000
DTSTAMP:20260424T062311
CREATED:20250911T223905Z
LAST-MODIFIED:20250911T223905Z
UID:6407-1760778000-1760783400@edg.jadebuddha.org
SUMMARY:vSMG Meditation and Book Study (Zoom)
DESCRIPTION:vSMG (Virtual Satellite Meditation Group) Meditation and Book Study\nGently guided Vipassana Group Meditation 10:00am Central Time\nBook Study 10:30am\nContact: vsmg.mgr@gmail.com
URL:http://edg.jadebuddha.org/event/vsmg-meditation-and-book-study-zoom-72/
LOCATION:TX
CATEGORIES:EDG Program
END:VEVENT
BEGIN:VEVENT
DTSTART;TZID=America/Chicago:20251015T180000
DTEND;TZID=America/Chicago:20251015T193000
DTSTAMP:20260424T062311
CREATED:20250911T222426Z
LAST-MODIFIED:20250911T222426Z
UID:6391-1760551200-1760556600@edg.jadebuddha.org
SUMMARY:Buddha’s Book Club (Zoom)
DESCRIPTION:Hosted by Bhikkhu Cintita at the Theravada Dhamma Society of Minnesota\nhttps://sitagu.org/mn/\nContact: tdsm.correspondence@gmail.com
URL:http://edg.jadebuddha.org/event/buddhas-book-club-zoom-10/
LOCATION:TX
CATEGORIES:EDG Program
END:VEVENT
BEGIN:VEVENT
DTSTART;TZID=America/Chicago:20251012T190000
DTEND;TZID=America/Chicago:20251012T203000
DTSTAMP:20260424T062311
CREATED:20250911T224411Z
LAST-MODIFIED:20250911T224411Z
UID:6415-1760295600-1760301000@edg.jadebuddha.org
SUMMARY:Nikaya Reading Class (Zoom)
DESCRIPTION:Nikaya Reading Class\n7:00PM Central time\nContact: nikaya.mgr@gmail.com
URL:http://edg.jadebuddha.org/event/nikaya-reading-class-zoom-59/
LOCATION:TX
CATEGORIES:EDG Program
END:VEVENT
BEGIN:VEVENT
DTSTART;TZID=America/Chicago:20251012T100000
DTEND;TZID=America/Chicago:20251012T113000
DTSTAMP:20260424T062311
CREATED:20250911T225922Z
LAST-MODIFIED:20250911T225922Z
UID:6423-1760263200-1760268600@edg.jadebuddha.org
SUMMARY:Meditation & Dharma talk by - TO BE ANNOUNCED
DESCRIPTION:Guided meditation (10AM) and Dharma talk (10:30AM).  Dharma talk will be given remotely via Zoom. But\, please join us at Kwan Yin Hall to participate in the Zoom session (projected onto screen) together with other Buddhist members.
URL:http://edg.jadebuddha.org/event/meditation-dharma-talk-by-to-be-announced-2/
LOCATION:Jade Buddha Temple\, 6969 Westbranch Drive\, Houston\, TX\, 77072\, United States
CATEGORIES:EDG Program
END:VEVENT
BEGIN:VEVENT
DTSTART;TZID=America/Chicago:20251011T090000
DTEND;TZID=America/Chicago:20251011T103000
DTSTAMP:20260424T062311
CREATED:20250911T223812Z
LAST-MODIFIED:20250911T230755Z
UID:6405-1760173200-1760178600@edg.jadebuddha.org
SUMMARY:vSMG Meditation and Book Study (Zoom)
DESCRIPTION:vSMG (Virtual Satellite Meditation Group) Meditation and Book Study\nGently guided Vipassana Group Meditation 10:00am Central Time\nBook Study 10:30am\nContact: vsmg.mgr@gmail.com
URL:http://edg.jadebuddha.org/event/vsmg-meditation-and-book-study-zoom-71/
LOCATION:TX
CATEGORIES:EDG Program
END:VEVENT
BEGIN:VEVENT
DTSTART;TZID=America/Chicago:20251008T180000
DTEND;TZID=America/Chicago:20251008T193000
DTSTAMP:20260424T062311
CREATED:20250911T222258Z
LAST-MODIFIED:20250911T222258Z
UID:6389-1759946400-1759951800@edg.jadebuddha.org
SUMMARY:Buddha’s Book Club (Zoom)
DESCRIPTION:Hosted by Bhikkhu Cintita at the Theravada Dhamma Society of Minnesota\nhttps://sitagu.org/mn/\nContact: tdsm.correspondence@gmail.com
URL:http://edg.jadebuddha.org/event/buddhas-book-club-zoom-9/
LOCATION:TX
CATEGORIES:EDG Program
END:VEVENT
BEGIN:VEVENT
DTSTART;TZID=America/Chicago:20251005T190000
DTEND;TZID=America/Chicago:20251005T203000
DTSTAMP:20260424T062311
CREATED:20250911T224314Z
LAST-MODIFIED:20250911T224314Z
UID:6413-1759690800-1759696200@edg.jadebuddha.org
SUMMARY:Nikaya Reading Class (Zoom)
DESCRIPTION:Nikaya Reading Class\n7:00PM Central time\nContact: nikaya.mgr@gmail.com
URL:http://edg.jadebuddha.org/event/nikaya-reading-class-zoom-58/
LOCATION:TX
CATEGORIES:EDG Program
END:VEVENT
BEGIN:VEVENT
DTSTART;TZID=America/Chicago:20251005T100000
DTEND;TZID=America/Chicago:20251005T113000
DTSTAMP:20260424T062311
CREATED:20250911T225807Z
LAST-MODIFIED:20250911T225807Z
UID:6421-1759658400-1759663800@edg.jadebuddha.org
SUMMARY:Meditation & Dharma talk by Venerable Samiddha
DESCRIPTION:Guided meditation (10AM) and Dharma talk (10:30AM).  Dharma talk will be given remotely via Zoom. But\, please join us at Kwan Yin Hall to participate in the Zoom session (projected onto screen) together with other Buddhist members.
URL:http://edg.jadebuddha.org/event/meditation-dharma-talk-by-venerable-samiddha-11/
LOCATION:Jade Buddha Temple\, 6969 Westbranch Drive\, Houston\, TX\, 77072\, United States
CATEGORIES:EDG Program
END:VEVENT
BEGIN:VEVENT
DTSTART;TZID=America/Chicago:20251004T090000
DTEND;TZID=America/Chicago:20251004T140000
DTSTAMP:20260424T062311
CREATED:20250911T223116Z
LAST-MODIFIED:20250911T223213Z
UID:6397-1759568400-1759586400@edg.jadebuddha.org
SUMMARY:ABC Saturday Meditation
DESCRIPTION:American Bodhi Center (ABC) Saturday Meditation guided by Ven. Tong Hong\nFor more information see the ABC website (See “View Venue Website”\, below)
URL:http://edg.jadebuddha.org/event/abc-saturday-meditation-65/
LOCATION:American Bodhi Center\, 29123 Mellman Rd\, Hempstead\, TX\, 77445\, United States
CATEGORIES:Retreat
END:VEVENT
BEGIN:VEVENT
DTSTART;TZID=America/Chicago:20251004T090000
DTEND;TZID=America/Chicago:20251004T103000
DTSTAMP:20260424T062311
CREATED:20250911T223659Z
LAST-MODIFIED:20250911T223659Z
UID:6403-1759568400-1759573800@edg.jadebuddha.org
SUMMARY:vSMG Meditation and Book Study (Zoom)
DESCRIPTION:vSMG (Virtual Satellite Meditation Group) Meditation and Book Study\nGently guided Vipassana Group Meditation 10:00am Central Time\nBook Study 10:30am\nContact: vsmg.mgr@gmail.com
URL:http://edg.jadebuddha.org/event/vsmg-meditation-and-book-study-zoom-70/
LOCATION:TX
CATEGORIES:EDG Program
END:VEVENT
BEGIN:VEVENT
DTSTART;TZID=America/Chicago:20251001T180000
DTEND;TZID=America/Chicago:20251001T193000
DTSTAMP:20260424T062311
CREATED:20250911T222146Z
LAST-MODIFIED:20250911T222146Z
UID:6387-1759341600-1759347000@edg.jadebuddha.org
SUMMARY:Buddha’s Book Club (Zoom)
DESCRIPTION:Hosted by Bhikkhu Cintita at the Theravada Dhamma Society of Minnesota\nhttps://sitagu.org/mn/\nContact: tdsm.correspondence@gmail.com
URL:http://edg.jadebuddha.org/event/buddhas-book-club-zoom-8/
LOCATION:TX
CATEGORIES:EDG Program
END:VEVENT
BEGIN:VEVENT
DTSTART;TZID=America/Chicago:20250928T100000
DTEND;TZID=America/Chicago:20250928T113000
DTSTAMP:20260424T062311
CREATED:20250813T120406Z
LAST-MODIFIED:20250813T120406Z
UID:6352-1759053600-1759059000@edg.jadebuddha.org
SUMMARY:Meditation & Dharma talk by Venerable Shiou Huey
DESCRIPTION:Guided meditation (10AM) and Dharma talk (10:30AM).  Dharma talk will be given in person\, at Kwan Yin Hall. This will also be available via Zoom\, for persons that cannot attend.
URL:http://edg.jadebuddha.org/event/meditation-dharma-talk-by-venerable-shiou-huey-13/
LOCATION:Jade Buddha Temple\, 6969 Westbranch Drive\, Houston\, TX\, 77072\, United States
CATEGORIES:EDG Program
END:VEVENT
BEGIN:VEVENT
DTSTART;TZID=America/Chicago:20250927T090000
DTEND;TZID=America/Chicago:20250927T140000
DTSTAMP:20260424T062311
CREATED:20250813T122231Z
LAST-MODIFIED:20250813T122231Z
UID:6368-1758963600-1758981600@edg.jadebuddha.org
SUMMARY:ABC Saturday Meditation
DESCRIPTION:American Bodhi Center (ABC) Saturday Meditation guided by Ven. Tong Hong\nFor more information see the ABC website (See “View Venue Website”\, below)
URL:http://edg.jadebuddha.org/event/abc-saturday-meditation-64/
LOCATION:American Bodhi Center\, 29123 Mellman Rd\, Hempstead\, TX\, 77445\, United States
CATEGORIES:Retreat
END:VEVENT
BEGIN:VEVENT
DTSTART;TZID=America/Chicago:20250927T090000
DTEND;TZID=America/Chicago:20250927T103000
DTSTAMP:20260424T062311
CREATED:20250813T121231Z
LAST-MODIFIED:20250813T121231Z
UID:6360-1758963600-1758969000@edg.jadebuddha.org
SUMMARY:vSMG Meditation and Book Study (Zoom)
DESCRIPTION:vSMG (Virtual Satellite Meditation Group) Meditation and Book Study\nGently guided Vipassana Group Meditation 9:00am Central Time\nBook Study 9:30am\nContact: vsmg.mgr@gmail.com
URL:http://edg.jadebuddha.org/event/vsmg-meditation-and-book-study-zoom-69/
LOCATION:TX
CATEGORIES:EDG Program
END:VEVENT
BEGIN:VEVENT
DTSTART;TZID=America/Chicago:20250924T180000
DTEND;TZID=America/Chicago:20250924T193000
DTSTAMP:20260424T062311
CREATED:20250813T123006Z
LAST-MODIFIED:20250813T123006Z
UID:6377-1758736800-1758742200@edg.jadebuddha.org
SUMMARY:Buddha’s Book Club (Zoom)
DESCRIPTION:Hosted by Bhikkhu Cintita at the Theravada Dhamma Society of Minnesota\nhttps://sitagu.org/mn/\nContact: tdsm.correspondence@gmail.com
URL:http://edg.jadebuddha.org/event/buddhas-book-club-zoom-6/
LOCATION:TX
CATEGORIES:EDG Program
END:VEVENT
BEGIN:VEVENT
DTSTART;TZID=America/Chicago:20250921T100000
DTEND;TZID=America/Chicago:20250921T113000
DTSTAMP:20260424T062311
CREATED:20250813T120249Z
LAST-MODIFIED:20250813T124224Z
UID:6350-1758448800-1758454200@edg.jadebuddha.org
SUMMARY:Meditation & Dharma talk by Bhikkhu Cintita
DESCRIPTION:Guided meditation (10AM) and Dharma talk (10:30AM).  Dharma talk will be given remotely via Zoom. But\, please join us at Kwan Yin Hall to participate in the Zoom session (projected onto screen) together with other Buddhist members.
URL:http://edg.jadebuddha.org/event/meditation-dharma-talk-by-bhikkhu-cintita-3/
LOCATION:Jade Buddha Temple\, 6969 Westbranch Drive\, Houston\, TX\, 77072\, United States
CATEGORIES:EDG Program
END:VEVENT
BEGIN:VEVENT
DTSTART;TZID=America/Chicago:20250920T090000
DTEND;TZID=America/Chicago:20250920T140000
DTSTAMP:20260424T062311
CREATED:20250813T122103Z
LAST-MODIFIED:20250813T122103Z
UID:6366-1758358800-1758376800@edg.jadebuddha.org
SUMMARY:ABC Saturday Meditation
DESCRIPTION:American Bodhi Center (ABC) Saturday Meditation guided by Ven. Tong Hong\nFor more information see the ABC website (See “View Venue Website”\, below)
URL:http://edg.jadebuddha.org/event/abc-saturday-meditation-63/
LOCATION:American Bodhi Center\, 29123 Mellman Rd\, Hempstead\, TX\, 77445\, United States
CATEGORIES:Retreat
END:VEVENT
BEGIN:VEVENT
DTSTART;TZID=America/Chicago:20250920T090000
DTEND;TZID=America/Chicago:20250920T103000
DTSTAMP:20260424T062311
CREATED:20250813T120831Z
LAST-MODIFIED:20250813T120831Z
UID:6356-1758358800-1758364200@edg.jadebuddha.org
SUMMARY:vSMG Meditation and Book Study (Zoom)
DESCRIPTION:vSMG (Virtual Satellite Meditation Group) Meditation and Book Study\nGently guided Vipassana Group Meditation 9:00am Central Time\nBook Study 9:30am\nContact: vsmg.mgr@gmail.com
URL:http://edg.jadebuddha.org/event/vsmg-meditation-and-book-study-zoom-67/
LOCATION:TX
CATEGORIES:EDG Program
END:VEVENT
BEGIN:VEVENT
DTSTART;TZID=America/Chicago:20250917T180000
DTEND;TZID=America/Chicago:20250917T193000
DTSTAMP:20260424T062311
CREATED:20250813T122852Z
LAST-MODIFIED:20250813T122852Z
UID:6375-1758132000-1758137400@edg.jadebuddha.org
SUMMARY:Buddha’s Book Club (Zoom)
DESCRIPTION:Hosted by Bhikkhu Cintita at the Theravada Dhamma Society of Minnesota\nhttps://sitagu.org/mn/\nContact: tdsm.correspondence@gmail.com
URL:http://edg.jadebuddha.org/event/buddhas-book-club-zoom-5/
LOCATION:TX
CATEGORIES:EDG Program
END:VEVENT
BEGIN:VEVENT
DTSTART;TZID=America/Chicago:20250914T100000
DTEND;TZID=America/Chicago:20250914T113000
DTSTAMP:20260424T062311
CREATED:20250813T120124Z
LAST-MODIFIED:20250813T120124Z
UID:6348-1757844000-1757849400@edg.jadebuddha.org
SUMMARY:Meditation & Dharma talk by Ann Friedman
DESCRIPTION:Guided meditation (10AM) and Dharma talk (10:30AM).  Dharma talk will be given in person\, at Kwan Yin Hall. This will also be available via Zoom\, for persons that cannot attend.
URL:http://edg.jadebuddha.org/event/meditation-dharma-talk-by-ann-friedman/
LOCATION:Jade Buddha Temple\, 6969 Westbranch Drive\, Houston\, TX\, 77072\, United States
CATEGORIES:EDG Program
END:VEVENT
BEGIN:VEVENT
DTSTART;TZID=America/Chicago:20250913T090000
DTEND;TZID=America/Chicago:20250913T140000
DTSTAMP:20260424T062311
CREATED:20250813T121957Z
LAST-MODIFIED:20250813T121957Z
UID:6364-1757754000-1757772000@edg.jadebuddha.org
SUMMARY:ABC Saturday Meditation
DESCRIPTION:American Bodhi Center (ABC) Saturday Meditation guided by Ven. Tong Hong\nFor more information see the ABC website (See “View Venue Website”\, below)
URL:http://edg.jadebuddha.org/event/abc-saturday-meditation-62/
LOCATION:American Bodhi Center\, 29123 Mellman Rd\, Hempstead\, TX\, 77445\, United States
CATEGORIES:Retreat
END:VEVENT
BEGIN:VEVENT
DTSTART;TZID=America/Chicago:20250913T090000
DTEND;TZID=America/Chicago:20250913T103000
DTSTAMP:20260424T062311
CREATED:20250813T121121Z
LAST-MODIFIED:20250813T121121Z
UID:6358-1757754000-1757759400@edg.jadebuddha.org
SUMMARY:vSMG Meditation and Book Study (Zoom)
DESCRIPTION:vSMG (Virtual Satellite Meditation Group) Meditation and Book Study\nGently guided Vipassana Group Meditation 9:00am Central Time\nBook Study 9:30am\nContact: vsmg.mgr@gmail.com
URL:http://edg.jadebuddha.org/event/vsmg-meditation-and-book-study-zoom-68/
LOCATION:TX
CATEGORIES:EDG Program
END:VEVENT
BEGIN:VEVENT
DTSTART;TZID=America/Chicago:20250910T180000
DTEND;TZID=America/Chicago:20250910T193000
DTSTAMP:20260424T062311
CREATED:20250813T123701Z
LAST-MODIFIED:20250813T123701Z
UID:6379-1757527200-1757532600@edg.jadebuddha.org
SUMMARY:Buddha’s Book Club (Zoom)
DESCRIPTION:Hosted by Bhikkhu Cintita at the Theravada Dhamma Society of Minnesota\nhttps://sitagu.org/mn/\nContact: tdsm.correspondence@gmail.com
URL:http://edg.jadebuddha.org/event/buddhas-book-club-zoom-7/
LOCATION:TX
CATEGORIES:EDG Program
END:VEVENT
END:VCALENDAR