BEGIN:VCALENDAR
VERSION:2.0
PRODID:-//English Dharma Group - ECPv6.15.3//NONSGML v1.0//EN
CALSCALE:GREGORIAN
METHOD:PUBLISH
X-WR-CALNAME:English Dharma Group
X-ORIGINAL-URL:http://edg.jadebuddha.org
X-WR-CALDESC:Events for English Dharma Group
REFRESH-INTERVAL;VALUE=DURATION:PT1H
X-Robots-Tag:noindex
X-PUBLISHED-TTL:PT1H
BEGIN:VTIMEZONE
TZID:America/Chicago
BEGIN:DAYLIGHT
TZOFFSETFROM:-0600
TZOFFSETTO:-0500
TZNAME:CDT
DTSTART:20240310T080000
END:DAYLIGHT
BEGIN:STANDARD
TZOFFSETFROM:-0500
TZOFFSETTO:-0600
TZNAME:CST
DTSTART:20241103T070000
END:STANDARD
END:VTIMEZONE
BEGIN:VEVENT
DTSTART;TZID=America/Chicago:20240817T100000
DTEND;TZID=America/Chicago:20240817T113000
DTSTAMP:20260425T232750
CREATED:20240726T094530Z
LAST-MODIFIED:20240726T094530Z
UID:5627-1723888800-1723894200@edg.jadebuddha.org
SUMMARY:vSMG Meditation and Book Study (Zoom)
DESCRIPTION:vSMG (Virtual Satellite Meditation Group) Meditation and Book Study\nGently guided Vipassana Group Meditation 10:00am Central Time\nBook Study 10:30am\nContact: vsmg.mgr@gmail.com
URL:http://edg.jadebuddha.org/event/vsmg-meditation-and-book-study-zoom-11/
CATEGORIES:EDG Program
END:VEVENT
BEGIN:VEVENT
DTSTART;TZID=America/Chicago:20240817T090000
DTEND;TZID=America/Chicago:20240817T140000
DTSTAMP:20260425T232750
CREATED:20240726T094655Z
LAST-MODIFIED:20240726T094655Z
UID:5629-1723885200-1723903200@edg.jadebuddha.org
SUMMARY:ABC Saturday Meditation
DESCRIPTION:American Bodhi Center Saturday Meditation guided by Ven. Tong Hong
URL:http://edg.jadebuddha.org/event/abc-saturday-meditation-10/
LOCATION:American Bodhi Center\, 29123 Mellman Rd\, Hempstead\, TX\, 77445\, United States
CATEGORIES:Retreat
END:VEVENT
BEGIN:VEVENT
DTSTART;TZID=America/Chicago:20240811T190000
DTEND;TZID=America/Chicago:20240811T203000
DTSTAMP:20260425T232750
CREATED:20240725T112703Z
LAST-MODIFIED:20240725T112703Z
UID:5615-1723402800-1723408200@edg.jadebuddha.org
SUMMARY:Nikaya Reading Class (Zoom)
DESCRIPTION:Nikaya Reading Class\n7:00PM Central time\nContact: nikaya.mgr@gmail.com
URL:http://edg.jadebuddha.org/event/nikaya-reading-class-zoom-9/
CATEGORIES:EDG Program
END:VEVENT
BEGIN:VEVENT
DTSTART;TZID=America/Chicago:20240811T100000
DTEND;TZID=America/Chicago:20240811T113000
DTSTAMP:20260425T232750
CREATED:20240725T112856Z
LAST-MODIFIED:20240725T112856Z
UID:5617-1723370400-1723375800@edg.jadebuddha.org
SUMMARY:Meditation & Dharma talk by Venerable Tong Hong
DESCRIPTION:Guided meditation (10AM) and Dharma talk (10:30AM).  Dharma talk will be given in person\, at Kwan Yin Hall. This will also be available via Zoom\, for persons that cannot attend.
URL:http://edg.jadebuddha.org/event/meditation-dharma-talk-by-venerable-tong-hong-3/
LOCATION:Jade Buddha Temple\, 6969 Westbranch Drive\, Houston\, TX\, 77072\, United States
END:VEVENT
BEGIN:VEVENT
DTSTART;TZID=America/Chicago:20240810T100000
DTEND;TZID=America/Chicago:20240810T233000
DTSTAMP:20260425T232750
CREATED:20240726T093513Z
LAST-MODIFIED:20240726T093513Z
UID:5621-1723284000-1723332600@edg.jadebuddha.org
SUMMARY:vSMG Meditation and Book Study (Zoom)
DESCRIPTION:vSMG (Virtual Satellite Meditation Group) Meditation and Book Study\nGently guided Vipassana Group Meditation 10:00am Central Time\nBook Study 10:30am\nContact: vsmg.mgr@gmail.com
URL:http://edg.jadebuddha.org/event/vsmg-meditation-and-book-study-zoom-10/
CATEGORIES:EDG Program
END:VEVENT
BEGIN:VEVENT
DTSTART;TZID=America/Chicago:20240810T090000
DTEND;TZID=America/Chicago:20240810T140000
DTSTAMP:20260425T232750
CREATED:20240726T093616Z
LAST-MODIFIED:20240726T094836Z
UID:5623-1723280400-1723298400@edg.jadebuddha.org
SUMMARY:ABC Saturday Meditation
DESCRIPTION:American Bodhi Center Saturday Meditation guided by Ven. Tong Hong
URL:http://edg.jadebuddha.org/event/abc-saturday-meditation-9/
LOCATION:American Bodhi Center\, 29123 Mellman Rd\, Hempstead\, TX\, 77445\, United States
CATEGORIES:Retreat
END:VEVENT
BEGIN:VEVENT
DTSTART;TZID=America/Chicago:20240804T190000
DTEND;TZID=America/Chicago:20240804T203000
DTSTAMP:20260425T232750
CREATED:20240725T112503Z
LAST-MODIFIED:20240725T112503Z
UID:5613-1722798000-1722803400@edg.jadebuddha.org
SUMMARY:Nikaya Reading Class (Zoom)
DESCRIPTION:Nikaya Reading Class\n7:00PM Central time\nContact: nikaya.mgr@gmail.com
URL:http://edg.jadebuddha.org/event/nikaya-reading-class-zoom-8/
CATEGORIES:EDG Program
END:VEVENT
BEGIN:VEVENT
DTSTART;TZID=America/Chicago:20240804T100000
DTEND;TZID=America/Chicago:20240804T233000
DTSTAMP:20260425T232750
CREATED:20240725T112233Z
LAST-MODIFIED:20240730T103156Z
UID:5611-1722765600-1722814200@edg.jadebuddha.org
SUMMARY:Meditation & Dharma talk by Eng-Chew Ang
DESCRIPTION:Guided meditation (10AM) and Dharma talk (10:30AM).  Dharma talk will be given in person\, at Kwan Yin Hall. This will also be available via Zoom\, for persons that cannot attend.
URL:http://edg.jadebuddha.org/event/meditation-dharma-talk-by-eng-chew-ang/
LOCATION:Jade Buddha Temple\, 6969 Westbranch Drive\, Houston\, TX\, 77072\, United States
CATEGORIES:EDG Program
END:VEVENT
BEGIN:VEVENT
DTSTART;TZID=America/Chicago:20240803T100000
DTEND;TZID=America/Chicago:20240803T113000
DTSTAMP:20260425T232750
CREATED:20240725T111957Z
LAST-MODIFIED:20240725T111957Z
UID:5609-1722679200-1722684600@edg.jadebuddha.org
SUMMARY:vSMG Meditation and Book Study (Zoom)
DESCRIPTION:vSMG (Virtual Satellite Meditation Group) Meditation and Book Study\nGently guided Vipassana Group Meditation 10:00am Central Time\nBook Study 10:30am\nContact: vsmg.mgr@gmail.com
URL:http://edg.jadebuddha.org/event/vsmg-meditation-and-book-study-zoom-9/
CATEGORIES:EDG Program
END:VEVENT
BEGIN:VEVENT
DTSTART;TZID=America/Chicago:20240803T090000
DTEND;TZID=America/Chicago:20240803T140000
DTSTAMP:20260425T232750
CREATED:20240725T111733Z
LAST-MODIFIED:20240725T111733Z
UID:5607-1722675600-1722693600@edg.jadebuddha.org
SUMMARY:ABC Saturday Meditation
DESCRIPTION:American Bodhi Center Saturday Meditation guided by Ven. Tong Hong
URL:http://edg.jadebuddha.org/event/abc-saturday-meditation-8/
LOCATION:American Bodhi Center\, 29123 Mellman Rd\, Hempstead\, TX\, 77445\, United States
CATEGORIES:Retreat
END:VEVENT
BEGIN:VEVENT
DTSTART;TZID=America/Chicago:20240728T190000
DTEND;TZID=America/Chicago:20240728T203000
DTSTAMP:20260425T232750
CREATED:20240701T194219Z
LAST-MODIFIED:20240701T194219Z
UID:5557-1722193200-1722198600@edg.jadebuddha.org
SUMMARY:Nikaya Reading Class (Zoom)
DESCRIPTION:Nikaya Reading Class\n7:00PM Central time\nContact: nikaya.mgr@gmail.com
URL:http://edg.jadebuddha.org/event/nikaya-reading-class-zoom-7/
END:VEVENT
BEGIN:VEVENT
DTSTART;TZID=America/Chicago:20240728T100000
DTEND;TZID=America/Chicago:20240728T113000
DTSTAMP:20260425T232750
CREATED:20240701T194346Z
LAST-MODIFIED:20240707T213430Z
UID:5559-1722160800-1722166200@edg.jadebuddha.org
SUMMARY:Meditation & Dharma talk by Bhante Cintita
DESCRIPTION:Guided meditation (10AM) and Dharma talk (10:30AM).  Dharma talk will be given remotely via Zoom. But\, please join us at Kwan Yin Hall to participate in the Zoom session (projected onto screen) together with other Dharma friends.
URL:http://edg.jadebuddha.org/event/meditation-dharma-talk-by-venerable-shiou-huey/
LOCATION:Jade Buddha Temple\, 6969 Westbranch Drive\, Houston\, TX\, 77072\, United States
END:VEVENT
BEGIN:VEVENT
DTSTART;TZID=America/Chicago:20240727T100000
DTEND;TZID=America/Chicago:20240727T113000
DTSTAMP:20260425T232750
CREATED:20240701T194115Z
LAST-MODIFIED:20240701T194115Z
UID:5555-1722074400-1722079800@edg.jadebuddha.org
SUMMARY:vSMG Meditation and Book Study (Zoom)
DESCRIPTION:vSMG (Virtual Satellite Meditation Group) Meditation and Book Study\nGently guided Vipassana Group Meditation 10:00am Central Time\nBook Study 10:30am\nContact: vsmg.mgr@gmail.com
URL:http://edg.jadebuddha.org/event/vsmg-meditation-and-book-study-zoom-8/
END:VEVENT
BEGIN:VEVENT
DTSTART;TZID=America/Chicago:20240727T090000
DTEND;TZID=America/Chicago:20240727T140000
DTSTAMP:20260425T232750
CREATED:20240701T193945Z
LAST-MODIFIED:20240701T193945Z
UID:5553-1722070800-1722088800@edg.jadebuddha.org
SUMMARY:ABC Saturday Meditation
DESCRIPTION:American Bodhi Center Saturday Meditation guided by Ven. Tong Hong
URL:http://edg.jadebuddha.org/event/abc-saturday-meditation-4/
LOCATION:American Bodhi Center\, 29123 Mellman Rd\, Hempstead\, TX\, 77445\, United States
END:VEVENT
BEGIN:VEVENT
DTSTART;TZID=America/Chicago:20240721T190000
DTEND;TZID=America/Chicago:20240721T203000
DTSTAMP:20260425T232750
CREATED:20240612T115846Z
LAST-MODIFIED:20240612T115846Z
UID:5534-1721588400-1721593800@edg.jadebuddha.org
SUMMARY:Nikaya Reading Class (Zoom)
DESCRIPTION:Nikaya Reading Class\n7:00PM Central time\nContact: nikaya.mgr@gmail.com
URL:http://edg.jadebuddha.org/event/nikaya-reading-class-zoom-6/
CATEGORIES:EDG Program
END:VEVENT
BEGIN:VEVENT
DTSTART;TZID=America/Chicago:20240721T100000
DTEND;TZID=America/Chicago:20240721T113000
DTSTAMP:20260425T232750
CREATED:20240612T120020Z
LAST-MODIFIED:20240707T213354Z
UID:5536-1721556000-1721561400@edg.jadebuddha.org
SUMMARY:Meditation & Dharma talk by Venerable Shiou Huey
DESCRIPTION:Guided meditation (10AM) and Dharma talk (10:30AM).  Dharma talk will be given in person\, at Kwan Yin Hall. This will also be available via Zoom\, for members who cannot attend.
URL:http://edg.jadebuddha.org/event/meditation-dharma-talk-by-venerable-hung-i/
LOCATION:Jade Buddha Temple\, 6969 Westbranch Drive\, Houston\, TX\, 77072\, United States
CATEGORIES:EDG Program
END:VEVENT
BEGIN:VEVENT
DTSTART;TZID=America/Chicago:20240720T100000
DTEND;TZID=America/Chicago:20240720T113000
DTSTAMP:20260425T232750
CREATED:20240612T120132Z
LAST-MODIFIED:20240612T120132Z
UID:5538-1721469600-1721475000@edg.jadebuddha.org
SUMMARY:vSMG Meditation and Book Study (Zoom)
DESCRIPTION:vSMG (Virtual Satellite Meditation Group) Meditation and Book Study\nGently guided Vipassana Group Meditation 10:00am Central Time\nBook Study 10:30am\nContact: vsmg.mgr@gmail.com
URL:http://edg.jadebuddha.org/event/vsmg-meditation-and-book-study-zoom-7/
CATEGORIES:EDG Program
END:VEVENT
BEGIN:VEVENT
DTSTART;TZID=America/Chicago:20240720T090000
DTEND;TZID=America/Chicago:20240720T140000
DTSTAMP:20260425T232750
CREATED:20240612T120229Z
LAST-MODIFIED:20240612T120229Z
UID:5540-1721466000-1721484000@edg.jadebuddha.org
SUMMARY:ABC Saturday Meditation
DESCRIPTION:American Bodhi Center Saturday Meditation guided by Ven. Tong Hong
URL:http://edg.jadebuddha.org/event/abc-saturday-meditation-7/
LOCATION:American Bodhi Center\, 29123 Mellman Rd\, Hempstead\, TX\, 77445\, United States
CATEGORIES:Retreat
END:VEVENT
BEGIN:VEVENT
DTSTART;TZID=America/Chicago:20240714T190000
DTEND;TZID=America/Chicago:20240714T203000
DTSTAMP:20260425T232750
CREATED:20240612T115245Z
LAST-MODIFIED:20240612T115245Z
UID:5526-1720983600-1720989000@edg.jadebuddha.org
SUMMARY:Nikaya Reading Class (Zoom)
DESCRIPTION:Nikaya Reading Class\n7:00PM Central time\nContact: nikaya.mgr@gmail.com
URL:http://edg.jadebuddha.org/event/nikaya-reading-class-zoom-5/
CATEGORIES:EDG Program
END:VEVENT
BEGIN:VEVENT
DTSTART;TZID=America/Chicago:20240714T100000
DTEND;TZID=America/Chicago:20240714T113000
DTSTAMP:20260425T232750
CREATED:20240612T115448Z
LAST-MODIFIED:20240713T020501Z
UID:5528-1720951200-1720956600@edg.jadebuddha.org
SUMMARY:Meditation & Dharma talk by Venerable Tong Hong - Canceled
DESCRIPTION:Our EDG program scheduled for this Sunday\, both in-person and via Zoom\, is canceled. \nJade Buddha Temple is currently without power due to Hurricane Beryl. \nWe will resume our Dharma program next Sunday\, July 21st. \nPlease stay safe and take care!
URL:http://edg.jadebuddha.org/event/meditation-dharma-talk-by-venerable-tong-hong-2/
LOCATION:Jade Buddha Temple\, 6969 Westbranch Drive\, Houston\, TX\, 77072\, United States
CATEGORIES:EDG Program
END:VEVENT
BEGIN:VEVENT
DTSTART;TZID=America/Chicago:20240713T100000
DTEND;TZID=America/Chicago:20240713T113000
DTSTAMP:20260425T232750
CREATED:20240612T115552Z
LAST-MODIFIED:20240612T115552Z
UID:5530-1720864800-1720870200@edg.jadebuddha.org
SUMMARY:vSMG Meditation and Book Study (Zoom)
DESCRIPTION:vSMG (Virtual Satellite Meditation Group) Meditation and Book Study\nGently guided Vipassana Group Meditation 10:00am Central Time\nBook Study 10:30am\nContact: vsmg.mgr@gmail.com
URL:http://edg.jadebuddha.org/event/vsmg-meditation-and-book-study-zoom-6/
CATEGORIES:EDG Program
END:VEVENT
BEGIN:VEVENT
DTSTART;TZID=America/Chicago:20240713T090000
DTEND;TZID=America/Chicago:20240713T140000
DTSTAMP:20260425T232750
CREATED:20240612T115652Z
LAST-MODIFIED:20240612T115652Z
UID:5532-1720861200-1720879200@edg.jadebuddha.org
SUMMARY:ABC Saturday Meditation
DESCRIPTION:American Bodhi Center Saturday Meditation guided by Ven. Tong Hong
URL:http://edg.jadebuddha.org/event/abc-saturday-meditation-6/
LOCATION:American Bodhi Center\, 29123 Mellman Rd\, Hempstead\, TX\, 77445\, United States
CATEGORIES:Retreat
END:VEVENT
BEGIN:VEVENT
DTSTART;TZID=America/Chicago:20240707T190000
DTEND;TZID=America/Chicago:20240707T203000
DTSTAMP:20260425T232750
CREATED:20240612T114528Z
LAST-MODIFIED:20240612T114528Z
UID:5518-1720378800-1720384200@edg.jadebuddha.org
SUMMARY:Nikaya Reading Class (Zoom)
DESCRIPTION:Nikaya Reading Class\n7:00PM Central time\nContact: nikaya.mgr@gmail.com
URL:http://edg.jadebuddha.org/event/nikaya-reading-class-zoom-4/
CATEGORIES:EDG Program
END:VEVENT
BEGIN:VEVENT
DTSTART;TZID=America/Chicago:20240707T100000
DTEND;TZID=America/Chicago:20240707T113000
DTSTAMP:20260425T232750
CREATED:20240612T114843Z
LAST-MODIFIED:20240612T114843Z
UID:5520-1720346400-1720351800@edg.jadebuddha.org
SUMMARY:Meditation & Dharma talk by Venerable Samiddha
DESCRIPTION:Guided meditation (10AM) and Dharma talk (10:30AM).  Dharma talk will be given remotely via Zoom. But\, please join us at Kwan Yin Hall to participate in the Zoom session (projected onto screen) together with other Buddhist members.
URL:http://edg.jadebuddha.org/event/meditation-dharma-talk-by-venerable-samiddha/
LOCATION:Jade Buddha Temple\, 6969 Westbranch Drive\, Houston\, TX\, 77072\, United States
CATEGORIES:EDG Program
END:VEVENT
BEGIN:VEVENT
DTSTART;TZID=America/Chicago:20240706T100000
DTEND;TZID=America/Chicago:20240706T113000
DTSTAMP:20260425T232750
CREATED:20240612T114955Z
LAST-MODIFIED:20240612T114955Z
UID:5522-1720260000-1720265400@edg.jadebuddha.org
SUMMARY:vSMG Meditation and Book Study (Zoom)
DESCRIPTION:vSMG (Virtual Satellite Meditation Group) Meditation and Book Study\nGently guided Vipassana Group Meditation 10:00am Central Time\nBook Study 10:30am\nContact: vsmg.mgr@gmail.com
URL:http://edg.jadebuddha.org/event/vsmg-meditation-and-book-study-zoom-5/
CATEGORIES:EDG Program
END:VEVENT
BEGIN:VEVENT
DTSTART;TZID=America/Chicago:20240706T090000
DTEND;TZID=America/Chicago:20240706T140000
DTSTAMP:20260425T232750
CREATED:20240612T115048Z
LAST-MODIFIED:20240612T115048Z
UID:5524-1720256400-1720274400@edg.jadebuddha.org
SUMMARY:ABC Saturday Meditation
DESCRIPTION:American Bodhi Center Saturday Meditation guided by Ven. Tong Hong
URL:http://edg.jadebuddha.org/event/abc-saturday-meditation-5/
LOCATION:American Bodhi Center\, 29123 Mellman Rd\, Hempstead\, TX\, 77445\, United States
CATEGORIES:Retreat
END:VEVENT
BEGIN:VEVENT
DTSTART;TZID=America/Chicago:20240630T190000
DTEND;TZID=America/Chicago:20240630T203000
DTSTAMP:20260425T232750
CREATED:20240612T113429Z
LAST-MODIFIED:20240612T113429Z
UID:5509-1719774000-1719779400@edg.jadebuddha.org
SUMMARY:Nikaya Reading Class (Zoom)
DESCRIPTION:Nikaya Reading Class\n7:00PM Central time\nContact: nikaya.mgr@gmail.com
URL:http://edg.jadebuddha.org/event/nikaya-reading-class-zoom-3/
CATEGORIES:EDG Program
END:VEVENT
BEGIN:VEVENT
DTSTART;TZID=America/Chicago:20240630T100000
DTEND;TZID=America/Chicago:20240630T113000
DTSTAMP:20260425T232750
CREATED:20240612T114057Z
LAST-MODIFIED:20240612T114057Z
UID:5511-1719741600-1719747000@edg.jadebuddha.org
SUMMARY:Meditation & Dharma talk by Venerable Ru Li
DESCRIPTION:Guided meditation (10AM) and Dharma talk (10:30AM).  Dharma talk will be given remotely via Zoom. But\, please join us at Kwan Yin Hall to participate in the Zoom session (projected onto screen) together with other Buddhist members.
URL:http://edg.jadebuddha.org/event/meditation-dharma-talk-by-venerable-ru-li/
LOCATION:Jade Buddha Temple\, 6969 Westbranch Drive\, Houston\, TX\, 77072\, United States
CATEGORIES:EDG Program
END:VEVENT
BEGIN:VEVENT
DTSTART;TZID=America/Chicago:20240629T100000
DTEND;TZID=America/Chicago:20240629T113000
DTSTAMP:20260425T232750
CREATED:20240612T114243Z
LAST-MODIFIED:20240612T114243Z
UID:5514-1719655200-1719660600@edg.jadebuddha.org
SUMMARY:vSMG Meditation and Book Study (Zoom)
DESCRIPTION:vSMG (Virtual Satellite Meditation Group) Meditation and Book Study\nGently guided Vipassana Group Meditation 10:00am Central Time\nBook Study 10:30am\nContact: vsmg.mgr@gmail.com
URL:http://edg.jadebuddha.org/event/vsmg-meditation-and-book-study-zoom-4/
CATEGORIES:EDG Program
END:VEVENT
BEGIN:VEVENT
DTSTART;TZID=America/Chicago:20240628T080000
DTEND;TZID=America/Chicago:20240701T170000
DTSTAMP:20260425T232750
CREATED:20240612T120934Z
LAST-MODIFIED:20240612T120934Z
UID:5542-1719561600-1719853200@edg.jadebuddha.org
SUMMARY:BYC Summer Camp at American Bodhi Center
DESCRIPTION:The American Bodhi Center offers several opportunities for youth\, both locally and from abroad\, for extended study.
URL:http://edg.jadebuddha.org/event/byc-summer-camp-at-american-bodhi-center/
LOCATION:American Bodhi Center\, 29123 Mellman Rd\, Hempstead\, TX\, 77445\, United States
CATEGORIES:Retreat
END:VEVENT
END:VCALENDAR