BEGIN:VCALENDAR
VERSION:2.0
PRODID:-//English Dharma Group - ECPv6.15.3//NONSGML v1.0//EN
CALSCALE:GREGORIAN
METHOD:PUBLISH
X-WR-CALNAME:English Dharma Group
X-ORIGINAL-URL:http://edg.jadebuddha.org
X-WR-CALDESC:Events for English Dharma Group
REFRESH-INTERVAL;VALUE=DURATION:PT1H
X-Robots-Tag:noindex
X-PUBLISHED-TTL:PT1H
BEGIN:VTIMEZONE
TZID:America/Chicago
BEGIN:DAYLIGHT
TZOFFSETFROM:-0600
TZOFFSETTO:-0500
TZNAME:CDT
DTSTART:20240310T080000
END:DAYLIGHT
BEGIN:STANDARD
TZOFFSETFROM:-0500
TZOFFSETTO:-0600
TZNAME:CST
DTSTART:20241103T070000
END:STANDARD
BEGIN:DAYLIGHT
TZOFFSETFROM:-0600
TZOFFSETTO:-0500
TZNAME:CDT
DTSTART:20250309T080000
END:DAYLIGHT
BEGIN:STANDARD
TZOFFSETFROM:-0500
TZOFFSETTO:-0600
TZNAME:CST
DTSTART:20251102T070000
END:STANDARD
END:VTIMEZONE
BEGIN:VEVENT
DTSTART;TZID=America/Chicago:20250125T090000
DTEND;TZID=America/Chicago:20250125T140000
DTSTAMP:20260425T093446
CREATED:20241214T131444Z
LAST-MODIFIED:20241214T132517Z
UID:5862-1737795600-1737813600@edg.jadebuddha.org
SUMMARY:ABC Saturday Meditation
DESCRIPTION:American Bodhi Center (ABC) Saturday Meditation guided by Ven. Tong Hong\nFor more information see the ABC website
URL:http://edg.jadebuddha.org/event/abc-saturday-meditation-30/
LOCATION:American Bodhi Center\, 29123 Mellman Rd\, Hempstead\, TX\, 77445\, United States
CATEGORIES:Retreat
END:VEVENT
BEGIN:VEVENT
DTSTART;TZID=America/Chicago:20250119T190000
DTEND;TZID=America/Chicago:20250119T203000
DTSTAMP:20260425T093446
CREATED:20241214T124347Z
LAST-MODIFIED:20241214T124347Z
UID:5835-1737313200-1737318600@edg.jadebuddha.org
SUMMARY:Nikaya Reading Class (Zoom)
DESCRIPTION:Nikaya Reading Class\n7:00PM Central time\nContact: nikaya.mgr@gmail.com
URL:http://edg.jadebuddha.org/event/nikaya-reading-class-zoom-32/
CATEGORIES:EDG Program
END:VEVENT
BEGIN:VEVENT
DTSTART;TZID=America/Chicago:20250119T100000
DTEND;TZID=America/Chicago:20250119T113000
DTSTAMP:20260425T093446
CREATED:20241214T125925Z
LAST-MODIFIED:20241214T125954Z
UID:5846-1737280800-1737286200@edg.jadebuddha.org
SUMMARY:Meditation & Dharma talk by Bhante Cintita
DESCRIPTION:Guided meditation (10AM) and Dharma talk (10:30AM).  Dharma talk will be given remotely via Zoom. But\, please join us at Kwan Yin Hall to participate in the Zoom session (projected onto screen) together with other Buddhist members.
URL:http://edg.jadebuddha.org/event/meditation-dharma-talk-by-bhante-cintita/
LOCATION:Jade Buddha Temple\, 6969 Westbranch Drive\, Houston\, TX\, 77072\, United States
CATEGORIES:EDG Program
END:VEVENT
BEGIN:VEVENT
DTSTART;TZID=America/Chicago:20250118T100000
DTEND;TZID=America/Chicago:20250118T113000
DTSTAMP:20260425T093446
CREATED:20241214T130556Z
LAST-MODIFIED:20241214T130623Z
UID:5852-1737194400-1737199800@edg.jadebuddha.org
SUMMARY:vSMG Meditation and Book Study (Zoom)
DESCRIPTION:vSMG (Virtual Satellite Meditation Group) Meditation and Book Study\nGently guided Vipassana Group Meditation 10:00am Central Time\nBook Study 10:30am\nContact: vsmg.mgr@gmail.com
URL:http://edg.jadebuddha.org/event/vsmg-meditation-and-book-study-zoom-33/
CATEGORIES:EDG Program
END:VEVENT
BEGIN:VEVENT
DTSTART;TZID=America/Chicago:20250118T090000
DTEND;TZID=America/Chicago:20250118T140000
DTSTAMP:20260425T093446
CREATED:20241214T131014Z
LAST-MODIFIED:20241214T132641Z
UID:5860-1737190800-1737208800@edg.jadebuddha.org
SUMMARY:ABC Saturday Meditation
DESCRIPTION:American Bodhi Center (ABC) Saturday Meditation guided by Ven. Tong Hong\nFor more information see the ABC website
URL:http://edg.jadebuddha.org/event/abc-saturday-meditation-29/
LOCATION:American Bodhi Center\, 29123 Mellman Rd\, Hempstead\, TX\, 77445\, United States
CATEGORIES:Retreat
END:VEVENT
BEGIN:VEVENT
DTSTART;TZID=America/Chicago:20250112T190000
DTEND;TZID=America/Chicago:20250112T203000
DTSTAMP:20260425T093446
CREATED:20241214T124259Z
LAST-MODIFIED:20241214T124259Z
UID:5833-1736708400-1736713800@edg.jadebuddha.org
SUMMARY:Nikaya Reading Class (Zoom)
DESCRIPTION:Nikaya Reading Class\n7:00PM Central time\nContact: nikaya.mgr@gmail.com
URL:http://edg.jadebuddha.org/event/nikaya-reading-class-zoom-31/
CATEGORIES:EDG Program
END:VEVENT
BEGIN:VEVENT
DTSTART;TZID=America/Chicago:20250112T100000
DTEND;TZID=America/Chicago:20250112T113000
DTSTAMP:20260425T093446
CREATED:20241214T125754Z
LAST-MODIFIED:20241214T125754Z
UID:5844-1736676000-1736681400@edg.jadebuddha.org
SUMMARY:Meditation & Dharma talk by Bhante Kovida
DESCRIPTION:Guided meditation (10AM) and Dharma talk (10:30AM).  Dharma talk will be given in person\, at Kwan Yin Hall. This will also be available via Zoom\, for persons that cannot attend.
URL:http://edg.jadebuddha.org/event/meditation-dharma-talk-by-bhante-kovida-2/
LOCATION:Jade Buddha Temple\, 6969 Westbranch Drive\, Houston\, TX\, 77072\, United States
CATEGORIES:EDG Program
END:VEVENT
BEGIN:VEVENT
DTSTART;TZID=America/Chicago:20250111T100000
DTEND;TZID=America/Chicago:20250111T113000
DTSTAMP:20260425T093446
CREATED:20241214T130518Z
LAST-MODIFIED:20241214T130518Z
UID:5850-1736589600-1736595000@edg.jadebuddha.org
SUMMARY:vSMG Meditation and Book Study (Zoom)
DESCRIPTION:vSMG (Virtual Satellite Meditation Group) Meditation and Book Study\nGently guided Vipassana Group Meditation 10:00am Central Time\nBook Study 10:30am\nContact: vsmg.mgr@gmail.com
URL:http://edg.jadebuddha.org/event/vsmg-meditation-and-book-study-zoom-31/
CATEGORIES:EDG Program
END:VEVENT
BEGIN:VEVENT
DTSTART;TZID=America/Chicago:20250111T090000
DTEND;TZID=America/Chicago:20250111T140000
DTSTAMP:20260425T093446
CREATED:20241214T130904Z
LAST-MODIFIED:20241214T132915Z
UID:5858-1736586000-1736604000@edg.jadebuddha.org
SUMMARY:ABC Saturday Meditation
DESCRIPTION:American Bodhi Center (ABC) Saturday Meditation guided by Ven. Tong Hong\nFor more information see the ABC website
URL:http://edg.jadebuddha.org/event/abc-saturday-meditation-28/
LOCATION:Jade Buddha Temple\, 6969 Westbranch Drive\, Houston\, TX\, 77072\, United States
CATEGORIES:Retreat
END:VEVENT
BEGIN:VEVENT
DTSTART;TZID=America/Chicago:20250105T190000
DTEND;TZID=America/Chicago:20250105T203000
DTSTAMP:20260425T093446
CREATED:20241108T023143Z
LAST-MODIFIED:20241108T023143Z
UID:5800-1736103600-1736109000@edg.jadebuddha.org
SUMMARY:Nikaya Reading Class (Zoom)
DESCRIPTION:Nikaya Reading Class\n7:00PM Central time\nContact: nikaya.mgr@gmail.com
URL:http://edg.jadebuddha.org/event/nikaya-reading-class-zoom-30/
CATEGORIES:EDG Program
END:VEVENT
BEGIN:VEVENT
DTSTART;TZID=America/Chicago:20250105T100000
DTEND;TZID=America/Chicago:20250105T113000
DTSTAMP:20260425T093446
CREATED:20241108T024849Z
LAST-MODIFIED:20241109T180928Z
UID:5818-1736071200-1736076600@edg.jadebuddha.org
SUMMARY:Meditation & Dharma Talk - Venerable Samiddha
DESCRIPTION:Guided meditation (10AM) and Dharma talk (10:30AM).  Dharma talk will be given remotely via Zoom. But\, please join us at Kwan Yin Hall to participate in the Zoom session (projected onto screen) together with other Buddhist members.
URL:http://edg.jadebuddha.org/event/meditation-dharma-talk-canceled-due-to-grand-hall-ceremony/
LOCATION:Jade Buddha Temple\, 6969 Westbranch Drive\, Houston\, TX\, 77072\, United States
CATEGORIES:EDG Program
END:VEVENT
BEGIN:VEVENT
DTSTART;TZID=America/Chicago:20250104T100000
DTEND;TZID=America/Chicago:20250104T113000
DTSTAMP:20260425T093446
CREATED:20241108T023540Z
LAST-MODIFIED:20241108T023540Z
UID:5808-1735984800-1735990200@edg.jadebuddha.org
SUMMARY:vSMG Meditation and Book Study (Zoom)
DESCRIPTION:vSMG (Virtual Satellite Meditation Group) Meditation and Book Study\nGently guided Vipassana Group Meditation 10:00am Central Time\nBook Study 10:30am\nContact: vsmg.mgr@gmail.com
URL:http://edg.jadebuddha.org/event/vsmg-meditation-and-book-study-zoom-32/
CATEGORIES:EDG Program
END:VEVENT
BEGIN:VEVENT
DTSTART;TZID=America/Chicago:20250104T090000
DTEND;TZID=America/Chicago:20250104T140000
DTSTAMP:20260425T093446
CREATED:20241108T024403Z
LAST-MODIFIED:20241214T133026Z
UID:5816-1735981200-1735999200@edg.jadebuddha.org
SUMMARY:ABC Saturday Meditation
DESCRIPTION:American Bodhi Center (ABC) Saturday Meditation guided by Ven. Tong Hong\nFor more information see the ABC website
URL:http://edg.jadebuddha.org/event/abc-saturday-meditation-27/
LOCATION:American Bodhi Center\, 29123 Mellman Rd\, Hempstead\, TX\, 77445\, United States
CATEGORIES:Retreat
END:VEVENT
BEGIN:VEVENT
DTSTART;TZID=America/Chicago:20241229T190000
DTEND;TZID=America/Chicago:20241229T203000
DTSTAMP:20260425T093446
CREATED:20241108T023051Z
LAST-MODIFIED:20241108T023051Z
UID:5798-1735498800-1735504200@edg.jadebuddha.org
SUMMARY:Nikaya Reading Class (Zoom)
DESCRIPTION:Nikaya Reading Class\n7:00PM Central time\nContact: nikaya.mgr@gmail.com
URL:http://edg.jadebuddha.org/event/nikaya-reading-class-zoom-29/
CATEGORIES:EDG Program
END:VEVENT
BEGIN:VEVENT
DTSTART;TZID=America/Chicago:20241229T100000
DTEND;TZID=America/Chicago:20241229T113000
DTSTAMP:20260425T093446
CREATED:20241214T123956Z
LAST-MODIFIED:20241214T125618Z
UID:5831-1735466400-1735471800@edg.jadebuddha.org
SUMMARY:Meditation & Dharma talk by Bhante Kovida
DESCRIPTION:Guided meditation (10AM) and Dharma talk (10:30AM).  Dharma talk will be given in person\, at Kwan Yin Hall. This will also be available via Zoom\, for persons that cannot attend.
URL:http://edg.jadebuddha.org/event/meditation-dharma-talk-by-bhante-kovida/
LOCATION:Jade Buddha Temple\, 6969 Westbranch Drive\, Houston\, TX\, 77072\, United States
CATEGORIES:EDG Program
END:VEVENT
BEGIN:VEVENT
DTSTART;TZID=America/Chicago:20241228T090000
DTEND;TZID=America/Chicago:20241228T140000
DTSTAMP:20260425T093446
CREATED:20241108T024320Z
LAST-MODIFIED:20241108T024320Z
UID:5814-1735376400-1735394400@edg.jadebuddha.org
SUMMARY:ABC Saturday Meditation
DESCRIPTION:American Bodhi Center Saturday Meditation guided by Ven. Tong Hong
URL:http://edg.jadebuddha.org/event/abc-saturday-meditation-26/
LOCATION:American Bodhi Center\, 29123 Mellman Rd\, Hempstead\, TX\, 77445\, United States
CATEGORIES:Retreat
END:VEVENT
BEGIN:VEVENT
DTSTART;TZID=America/Chicago:20241222T190000
DTEND;TZID=America/Chicago:20241222T203000
DTSTAMP:20260425T093446
CREATED:20241108T022955Z
LAST-MODIFIED:20241108T022955Z
UID:5796-1734894000-1734899400@edg.jadebuddha.org
SUMMARY:Nikaya Reading Class (Zoom)
DESCRIPTION:Nikaya Reading Class\n7:00PM Central time\nContact: nikaya.mgr@gmail.com
URL:http://edg.jadebuddha.org/event/nikaya-reading-class-zoom-28/
CATEGORIES:EDG Program
END:VEVENT
BEGIN:VEVENT
DTSTART;TZID=America/Chicago:20241222T100000
DTEND;TZID=America/Chicago:20241222T103000
DTSTAMP:20260425T093446
CREATED:20241108T035159Z
LAST-MODIFIED:20241108T035159Z
UID:5822-1734861600-1734863400@edg.jadebuddha.org
SUMMARY:Meditation & Dharma talk by Venerable Shiou Huey
DESCRIPTION:Guided meditation (10AM) and Dharma talk (10:30AM).  Dharma talk will be given in person\, at Kwan Yin Hall. This will also be available via Zoom\, for persons that cannot attend.
URL:http://edg.jadebuddha.org/event/meditation-dharma-talk-by-venerable-shiou-huey-6/
LOCATION:Jade Buddha Temple\, 6969 Westbranch Drive\, Houston\, TX\, 77072\, United States
CATEGORIES:EDG Program
END:VEVENT
BEGIN:VEVENT
DTSTART;TZID=America/Chicago:20241221T100000
DTEND;TZID=America/Chicago:20241221T113000
DTSTAMP:20260425T093446
CREATED:20241108T023410Z
LAST-MODIFIED:20241108T023410Z
UID:5804-1734775200-1734780600@edg.jadebuddha.org
SUMMARY:vSMG Meditation and Book Study (Zoom)
DESCRIPTION:vSMG (Virtual Satellite Meditation Group) Meditation and Book Study\nGently guided Vipassana Group Meditation 10:00am Central Time\nBook Study 10:30am\nContact: vsmg.mgr@gmail.com
URL:http://edg.jadebuddha.org/event/vsmg-meditation-and-book-study-zoom-30/
CATEGORIES:EDG Program
END:VEVENT
BEGIN:VEVENT
DTSTART;TZID=America/Chicago:20241221T090000
DTEND;TZID=America/Chicago:20241221T140000
DTSTAMP:20260425T093446
CREATED:20241108T023854Z
LAST-MODIFIED:20241108T023854Z
UID:5812-1734771600-1734789600@edg.jadebuddha.org
SUMMARY:ABC Saturday Meditation
DESCRIPTION:American Bodhi Center Saturday Meditation guided by Ven. Tong Hong
URL:http://edg.jadebuddha.org/event/abc-saturday-meditation-25/
LOCATION:American Bodhi Center\, 29123 Mellman Rd\, Hempstead\, TX\, 77445\, United States
CATEGORIES:Retreat
END:VEVENT
BEGIN:VEVENT
DTSTART;TZID=America/Chicago:20241215T190000
DTEND;TZID=America/Chicago:20241215T203000
DTSTAMP:20260425T093446
CREATED:20241108T022848Z
LAST-MODIFIED:20241108T022848Z
UID:5794-1734289200-1734294600@edg.jadebuddha.org
SUMMARY:Nikaya Reading Class (Zoom)
DESCRIPTION:Nikaya Reading Class\n7:00PM Central time\nContact: nikaya.mgr@gmail.com
URL:http://edg.jadebuddha.org/event/nikaya-reading-class-zoom-27/
CATEGORIES:EDG Program
END:VEVENT
BEGIN:VEVENT
DTSTART;TZID=America/Chicago:20241215T100000
DTEND;TZID=America/Chicago:20241215T113000
DTSTAMP:20260425T093446
CREATED:20241108T035010Z
LAST-MODIFIED:20241108T035010Z
UID:5820-1734256800-1734262200@edg.jadebuddha.org
SUMMARY:Meditation & Dharma talk by Venerable Dr. Dhammadipa
DESCRIPTION:Guided meditation (10AM) and Dharma talk (10:30AM).  Dharma talk will be given remotely via Zoom. But\, please join us at Kwan Yin Hall to participate in the Zoom session (projected onto screen) together with other Buddhist members.
URL:http://edg.jadebuddha.org/event/meditation-dharma-talk-by-venerable-dr-dhammadipa/
LOCATION:Jade Buddha Temple\, 6969 Westbranch Drive\, Houston\, TX\, 77072\, United States
CATEGORIES:EDG Program
END:VEVENT
BEGIN:VEVENT
DTSTART;TZID=America/Chicago:20241214T100000
DTEND;TZID=America/Chicago:20241214T113000
DTSTAMP:20260425T093446
CREATED:20241108T023322Z
LAST-MODIFIED:20241108T023322Z
UID:5802-1734170400-1734175800@edg.jadebuddha.org
SUMMARY:vSMG Meditation and Book Study (Zoom)
DESCRIPTION:vSMG (Virtual Satellite Meditation Group) Meditation and Book Study\nGently guided Vipassana Group Meditation 10:00am Central Time\nBook Study 10:30am\nContact: vsmg.mgr@gmail.com
URL:http://edg.jadebuddha.org/event/vsmg-meditation-and-book-study-zoom-29/
CATEGORIES:EDG Program
END:VEVENT
BEGIN:VEVENT
DTSTART;TZID=America/Chicago:20241214T090000
DTEND;TZID=America/Chicago:20241214T140000
DTSTAMP:20260425T093446
CREATED:20241108T023756Z
LAST-MODIFIED:20241108T023756Z
UID:5810-1734166800-1734184800@edg.jadebuddha.org
SUMMARY:ABC Saturday Meditation
DESCRIPTION:American Bodhi Center Saturday Meditation guided by Ven. Tong Hong
URL:http://edg.jadebuddha.org/event/abc-saturday-meditation-24/
LOCATION:American Bodhi Center\, 29123 Mellman Rd\, Hempstead\, TX\, 77445\, United States
CATEGORIES:Retreat
END:VEVENT
BEGIN:VEVENT
DTSTART;TZID=America/Chicago:20241208T190000
DTEND;TZID=America/Chicago:20241208T203000
DTSTAMP:20260425T093446
CREATED:20241012T150423Z
LAST-MODIFIED:20241012T150423Z
UID:5764-1733684400-1733689800@edg.jadebuddha.org
SUMMARY:Nikaya Reading Class (Zoom)
DESCRIPTION:Nikaya Reading Class\n7:00PM Central time\nContact: nikaya.mgr@gmail.com
URL:http://edg.jadebuddha.org/event/nikaya-reading-class-zoom-26/
CATEGORIES:EDG Program
END:VEVENT
BEGIN:VEVENT
DTSTART;TZID=America/Chicago:20241208T100000
DTEND;TZID=America/Chicago:20241208T113000
DTSTAMP:20260425T093446
CREATED:20241012T151455Z
LAST-MODIFIED:20241012T151455Z
UID:5774-1733652000-1733657400@edg.jadebuddha.org
SUMMARY:Meditation & Dharma talk by Venerable Tong Hong
DESCRIPTION:Guided meditation (10AM) and Dharma talk (10:30AM).  Dharma talk will be given in person\, at Kwan Yin Hall. This will also be available via Zoom\, for persons that cannot attend.
URL:http://edg.jadebuddha.org/event/meditation-dharma-talk-by-venerable-tong-hong-7/
LOCATION:Jade Buddha Temple\, 6969 Westbranch Drive\, Houston\, TX\, 77072\, United States
CATEGORIES:EDG Program
END:VEVENT
BEGIN:VEVENT
DTSTART;TZID=America/Chicago:20241207T100000
DTEND;TZID=America/Chicago:20241207T113000
DTSTAMP:20260425T093446
CREATED:20241012T145535Z
LAST-MODIFIED:20241012T145535Z
UID:5752-1733565600-1733571000@edg.jadebuddha.org
SUMMARY:vSMG Meditation and Book Study (Zoom)
DESCRIPTION:vSMG (Virtual Satellite Meditation Group) Meditation and Book Study\nGently guided Vipassana Group Meditation 10:00am Central Time\nBook Study 10:30am\nContact: vsmg.mgr@gmail.com
URL:http://edg.jadebuddha.org/event/vsmg-meditation-and-book-study-zoom-28/
CATEGORIES:EDG Program
END:VEVENT
BEGIN:VEVENT
DTSTART;TZID=America/Chicago:20241207T090000
DTEND;TZID=America/Chicago:20241207T140000
DTSTAMP:20260425T093446
CREATED:20241012T150235Z
LAST-MODIFIED:20241012T150235Z
UID:5762-1733562000-1733580000@edg.jadebuddha.org
SUMMARY:ABC Saturday Meditation
DESCRIPTION:American Bodhi Center Saturday Meditation guided by Ven. Tong Hong
URL:http://edg.jadebuddha.org/event/abc-saturday-meditation-23/
LOCATION:American Bodhi Center\, 29123 Mellman Rd\, Hempstead\, TX\, 77445\, United States
CATEGORIES:Retreat
END:VEVENT
BEGIN:VEVENT
DTSTART;TZID=America/Chicago:20241201T190000
DTEND;TZID=America/Chicago:20241201T203000
DTSTAMP:20260425T093446
CREATED:20241012T145048Z
LAST-MODIFIED:20241012T145048Z
UID:5742-1733079600-1733085000@edg.jadebuddha.org
SUMMARY:Nikaya Reading Class (Zoom)
DESCRIPTION:Nikaya Reading Class\n7:00PM Central time\nContact: nikaya.mgr@gmail.com
URL:http://edg.jadebuddha.org/event/nikaya-reading-class-zoom-25/
CATEGORIES:EDG Program
END:VEVENT
BEGIN:VEVENT
DTSTART;TZID=America/Chicago:20241201T100000
DTEND;TZID=America/Chicago:20241201T113000
DTSTAMP:20260425T093446
CREATED:20241012T151222Z
LAST-MODIFIED:20241012T151222Z
UID:5772-1733047200-1733052600@edg.jadebuddha.org
SUMMARY:Meditation & Dharma talk by Venerable Samiddha
DESCRIPTION:Guided meditation (10AM) and Dharma talk (10:30AM).  Dharma talk will be given remotely via Zoom. But\, please join us at Kwan Yin Hall to participate in the Zoom session (projected onto screen) together with other Buddhist members.
URL:http://edg.jadebuddha.org/event/meditation-dharma-talk-by-venerable-samiddha-6/
LOCATION:Jade Buddha Temple\, 6969 Westbranch Drive\, Houston\, TX\, 77072\, United States
CATEGORIES:EDG Program
END:VEVENT
END:VCALENDAR