BEGIN:VCALENDAR
VERSION:2.0
PRODID:-//English Dharma Group - ECPv6.15.3//NONSGML v1.0//EN
CALSCALE:GREGORIAN
METHOD:PUBLISH
X-WR-CALNAME:English Dharma Group
X-ORIGINAL-URL:http://edg.jadebuddha.org
X-WR-CALDESC:Events for English Dharma Group
REFRESH-INTERVAL;VALUE=DURATION:PT1H
X-Robots-Tag:noindex
X-PUBLISHED-TTL:PT1H
BEGIN:VTIMEZONE
TZID:America/Chicago
BEGIN:DAYLIGHT
TZOFFSETFROM:-0600
TZOFFSETTO:-0500
TZNAME:CDT
DTSTART:20260308T080000
END:DAYLIGHT
BEGIN:STANDARD
TZOFFSETFROM:-0500
TZOFFSETTO:-0600
TZNAME:CST
DTSTART:20261101T070000
END:STANDARD
END:VTIMEZONE
BEGIN:VEVENT
DTSTART;TZID=America/Chicago:20260307T090000
DTEND;TZID=America/Chicago:20260307T103000
DTSTAMP:20260423T171553
CREATED:20260110T132458Z
LAST-MODIFIED:20260110T132458Z
UID:6690-1772874000-1772879400@edg.jadebuddha.org
SUMMARY:vSMG Meditation and Book Study (Zoom)
DESCRIPTION:vSMG (Virtual Satellite Meditation Group) Meditation and Book Study\nGently guided Vipassana Group Meditation 9:00am Central Time\nBook Study 9:30am\nContact: vsmg.mgr@gmail.com
URL:http://edg.jadebuddha.org/event/vsmg-meditation-and-book-study-zoom-92/
LOCATION:TX
CATEGORIES:EDG Program
END:VEVENT
BEGIN:VEVENT
DTSTART;TZID=America/Chicago:20260308T100000
DTEND;TZID=America/Chicago:20260308T113000
DTSTAMP:20260423T171553
CREATED:20260110T130253Z
LAST-MODIFIED:20260110T130253Z
UID:6670-1772964000-1772969400@edg.jadebuddha.org
SUMMARY:Meditation & Dharma talk by Bhikkhu Cintita
DESCRIPTION:Guided meditation (10AM) and Dharma talk (10:30AM).  Dharma talk will be given remotely via Zoom. But\, please join us at Kwan Yin Hall to participate in the Zoom session (projected onto screen) together with other Buddhist members.
URL:http://edg.jadebuddha.org/event/meditation-dharma-talk-by-bhikkhu-cintita-5/
LOCATION:Jade Buddha Temple\, 6969 Westbranch Drive\, Houston\, TX\, 77072\, United States
CATEGORIES:EDG Program
END:VEVENT
BEGIN:VEVENT
DTSTART;TZID=America/Chicago:20260308T190000
DTEND;TZID=America/Chicago:20260308T203000
DTSTAMP:20260423T171553
CREATED:20260110T123138Z
LAST-MODIFIED:20260110T123138Z
UID:6645-1772996400-1773001800@edg.jadebuddha.org
SUMMARY:Nikaya Reading Class (Zoom)
DESCRIPTION:Nikaya Reading Class\n7:00PM Central time\nContact: nikaya.mgr@gmail.com
URL:http://edg.jadebuddha.org/event/nikaya-reading-class-zoom-81/
LOCATION:TX
END:VEVENT
BEGIN:VEVENT
DTSTART;TZID=America/Chicago:20260311T180000
DTEND;TZID=America/Chicago:20260311T193000
DTSTAMP:20260423T171553
CREATED:20260110T134708Z
LAST-MODIFIED:20260110T134708Z
UID:6714-1773252000-1773257400@edg.jadebuddha.org
SUMMARY:Buddha’s Book Club (Zoom)
DESCRIPTION:Hosted by Bhikkhu Cintita at the Theravada Dhamma Society of Minnesota\nhttps://cintita.org/event-calendar/\nContact: tdsm.correspondence@gmail.com
URL:http://edg.jadebuddha.org/event/buddhas-book-club-zoom-32/
LOCATION:TX
CATEGORIES:EDG Program
END:VEVENT
BEGIN:VEVENT
DTSTART;TZID=America/Chicago:20260314T090000
DTEND;TZID=America/Chicago:20260314T103000
DTSTAMP:20260423T171553
CREATED:20260110T132759Z
LAST-MODIFIED:20260110T132759Z
UID:6692-1773478800-1773484200@edg.jadebuddha.org
SUMMARY:vSMG Meditation and Book Study (Zoom)
DESCRIPTION:vSMG (Virtual Satellite Meditation Group) Meditation and Book Study\nGently guided Vipassana Group Meditation 9:00am Central Time\nBook Study 9:30am\nContact: vsmg.mgr@gmail.com
URL:http://edg.jadebuddha.org/event/vsmg-meditation-and-book-study-zoom-93/
LOCATION:TX
CATEGORIES:EDG Program
END:VEVENT
BEGIN:VEVENT
DTSTART;TZID=America/Chicago:20260315T100000
DTEND;TZID=America/Chicago:20260315T113000
DTSTAMP:20260423T171553
CREATED:20260110T130403Z
LAST-MODIFIED:20260324T014255Z
UID:6672-1773568800-1773574200@edg.jadebuddha.org
SUMMARY:Meditation & Dharma talk by Celeste Budwit-Hunter
DESCRIPTION:Guided meditation (10AM) and Dharma talk (10:30AM). Dharma talk will be delivered in person at Kwan Yin Hall. Also available via Zoom.
URL:http://edg.jadebuddha.org/event/meditation-dharma-talk-by-shiou-huey/
LOCATION:Jade Buddha Temple\, 6969 Westbranch Drive\, Houston\, TX\, 77072\, United States
CATEGORIES:EDG Program
END:VEVENT
BEGIN:VEVENT
DTSTART;TZID=America/Chicago:20260315T190000
DTEND;TZID=America/Chicago:20260315T203000
DTSTAMP:20260423T171553
CREATED:20260110T123233Z
LAST-MODIFIED:20260110T123233Z
UID:6647-1773601200-1773606600@edg.jadebuddha.org
SUMMARY:Nikaya Reading Class (Zoom)
DESCRIPTION:Nikaya Reading Class\n7:00PM Central time\nContact: nikaya.mgr@gmail.com
URL:http://edg.jadebuddha.org/event/nikaya-reading-class-zoom-82/
LOCATION:TX
CATEGORIES:EDG Program
END:VEVENT
BEGIN:VEVENT
DTSTART;TZID=America/Chicago:20260318T180000
DTEND;TZID=America/Chicago:20260318T193000
DTSTAMP:20260423T171553
CREATED:20260110T134813Z
LAST-MODIFIED:20260110T134813Z
UID:6716-1773856800-1773862200@edg.jadebuddha.org
SUMMARY:Buddha’s Book Club (Zoom)
DESCRIPTION:Hosted by Bhikkhu Cintita at the Theravada Dhamma Society of Minnesota\nhttps://cintita.org/event-calendar/\nContact: tdsm.correspondence@gmail.com
URL:http://edg.jadebuddha.org/event/buddhas-book-club-zoom-33/
LOCATION:TX
CATEGORIES:EDG Program
END:VEVENT
BEGIN:VEVENT
DTSTART;TZID=America/Chicago:20260321T090000
DTEND;TZID=America/Chicago:20260321T103000
DTSTAMP:20260423T171553
CREATED:20260110T132846Z
LAST-MODIFIED:20260110T132846Z
UID:6694-1774083600-1774089000@edg.jadebuddha.org
SUMMARY:vSMG Meditation and Book Study (Zoom)
DESCRIPTION:vSMG (Virtual Satellite Meditation Group) Meditation and Book Study\nGently guided Vipassana Group Meditation 9:00am Central Time\nBook Study 9:30am\nContact: vsmg.mgr@gmail.com
URL:http://edg.jadebuddha.org/event/vsmg-meditation-and-book-study-zoom-94/
LOCATION:TX
CATEGORIES:EDG Program
END:VEVENT
BEGIN:VEVENT
DTSTART;TZID=America/Chicago:20260322T100000
DTEND;TZID=America/Chicago:20260322T113000
DTSTAMP:20260423T171553
CREATED:20260110T130518Z
LAST-MODIFIED:20260324T014052Z
UID:6674-1774173600-1774179000@edg.jadebuddha.org
SUMMARY:Meditation & Dharma talk by Bhante Rahula
DESCRIPTION:Guided meditation (10AM) and Dharma talk (10:30AM). Dharma talk will be available in-person and via Zoom.
URL:http://edg.jadebuddha.org/event/meditation-dharma-talk-by-to-be-announced-4/
LOCATION:Jade Buddha Temple\, 6969 Westbranch Drive\, Houston\, TX\, 77072\, United States
CATEGORIES:EDG Program
END:VEVENT
BEGIN:VEVENT
DTSTART;TZID=America/Chicago:20260322T190000
DTEND;TZID=America/Chicago:20260322T203000
DTSTAMP:20260423T171553
CREATED:20260110T123319Z
LAST-MODIFIED:20260110T123319Z
UID:6649-1774206000-1774211400@edg.jadebuddha.org
SUMMARY:Nikaya Reading Class (Zoom)
DESCRIPTION:Nikaya Reading Class\n7:00PM Central time\nContact: nikaya.mgr@gmail.com
URL:http://edg.jadebuddha.org/event/nikaya-reading-class-zoom-83/
LOCATION:TX
CATEGORIES:EDG Program
END:VEVENT
BEGIN:VEVENT
DTSTART;TZID=America/Chicago:20260325T180000
DTEND;TZID=America/Chicago:20260325T193000
DTSTAMP:20260423T171553
CREATED:20260110T134923Z
LAST-MODIFIED:20260110T134923Z
UID:6718-1774461600-1774467000@edg.jadebuddha.org
SUMMARY:Buddha’s Book Club (Zoom)
DESCRIPTION:Hosted by Bhikkhu Cintita at the Theravada Dhamma Society of Minnesota\nhttps://cintita.org/event-calendar/\nContact: tdsm.correspondence@gmail.com
URL:http://edg.jadebuddha.org/event/buddhas-book-club-zoom-34/
LOCATION:TX
CATEGORIES:EDG Program
END:VEVENT
BEGIN:VEVENT
DTSTART;TZID=America/Chicago:20260328T090000
DTEND;TZID=America/Chicago:20260328T103000
DTSTAMP:20260423T171553
CREATED:20260110T132932Z
LAST-MODIFIED:20260324T014714Z
UID:6696-1774688400-1774693800@edg.jadebuddha.org
SUMMARY:vSMG Meditation and Book Study (Zoom)
DESCRIPTION:vSMG (Virtual Satellite Meditation Group). Gently guided Vipassana Group Meditation 9:00am Central Time\, followed by a Book Study at 9:30am. Contact: vsmg.mgr@gmail.com \n 
URL:http://edg.jadebuddha.org/event/vsmg-meditation-and-book-study-zoom-95/
LOCATION:TX
CATEGORIES:EDG Program
END:VEVENT
BEGIN:VEVENT
DTSTART;TZID=America/Chicago:20260329T100000
DTEND;TZID=America/Chicago:20260329T113000
DTSTAMP:20260423T171553
CREATED:20260110T130726Z
LAST-MODIFIED:20260325T201617Z
UID:6676-1774778400-1774783800@edg.jadebuddha.org
SUMMARY:Meditation & Dharma talk by Venerable Ruli
DESCRIPTION:Guided meditation (10AM) and Dharma talk (10:30AM). Dharma talk will be delivered in person at Kwan Yin Hall. Join us in person or via Zoom.**NOTE**: The Venerable shared some materials and invites us to review them before his talk on Sunday. Have a look > here.
URL:http://edg.jadebuddha.org/event/meditation-dharma-talk-by-to-be-announced-5/
LOCATION:Jade Buddha Temple\, 6969 Westbranch Drive\, Houston\, TX\, 77072\, United States
CATEGORIES:EDG Program
END:VEVENT
BEGIN:VEVENT
DTSTART;TZID=America/Chicago:20260329T190000
DTEND;TZID=America/Chicago:20260329T203000
DTSTAMP:20260423T171553
CREATED:20260110T122828Z
LAST-MODIFIED:20260110T122828Z
UID:6641-1774810800-1774816200@edg.jadebuddha.org
SUMMARY:Nikaya Reading Class (Zoom)
DESCRIPTION:Nikaya Reading Class\n7:00PM Central time\nContact: nikaya.mgr@gmail.com
URL:http://edg.jadebuddha.org/event/nikaya-reading-class-zoom-79/
LOCATION:TX
CATEGORIES:EDG Program
END:VEVENT
BEGIN:VEVENT
DTSTART;TZID=America/Chicago:20260401T180000
DTEND;TZID=America/Chicago:20260401T193000
DTSTAMP:20260423T171553
CREATED:20260110T135030Z
LAST-MODIFIED:20260110T135030Z
UID:6720-1775066400-1775071800@edg.jadebuddha.org
SUMMARY:Buddha’s Book Club (Zoom)
DESCRIPTION:Hosted by Bhikkhu Cintita at the Theravada Dhamma Society of Minnesota\nhttps://cintita.org/event-calendar/\nContact: tdsm.correspondence@gmail.com \n 
URL:http://edg.jadebuddha.org/event/buddhas-book-club-zoom-35/
LOCATION:TX
CATEGORIES:EDG Program
END:VEVENT
BEGIN:VEVENT
DTSTART;TZID=America/Chicago:20260404T090000
DTEND;TZID=America/Chicago:20260404T103000
DTSTAMP:20260423T171553
CREATED:20260110T133027Z
LAST-MODIFIED:20260110T133027Z
UID:6698-1775293200-1775298600@edg.jadebuddha.org
SUMMARY:vSMG Meditation and Book Study (Zoom)
DESCRIPTION:vSMG (Virtual Satellite Meditation Group) Meditation and Book Study\nGently guided Vipassana Group Meditation 9:00am Central Time\nBook Study 9:30am\nContact: vsmg.mgr@gmail.com
URL:http://edg.jadebuddha.org/event/vsmg-meditation-and-book-study-zoom-96/
LOCATION:TX
CATEGORIES:EDG Program
END:VEVENT
BEGIN:VEVENT
DTSTART;TZID=America/Chicago:20260405T100000
DTEND;TZID=America/Chicago:20260405T113000
DTSTAMP:20260423T171553
CREATED:20260110T130840Z
LAST-MODIFIED:20260327T204350Z
UID:6678-1775383200-1775388600@edg.jadebuddha.org
SUMMARY:Meditation & Dharma talk by Venerable Samiddha on “Buddhist Scholastic Tradition: Yoga Master.”
DESCRIPTION:Guided meditation (10AM) and Dharma talk (10:30AM).  Dharma talk will be given remotely via Zoom. You’re warmly invited to join us in Kwan Yin Hall\, where the Zoom session will be projected for everyone to experience together.
URL:http://edg.jadebuddha.org/event/meditation-dharma-talk-by-venerable-samiddha-15/
LOCATION:Jade Buddha Temple\, 6969 Westbranch Drive\, Houston\, TX\, 77072\, United States
CATEGORIES:EDG Program
END:VEVENT
BEGIN:VEVENT
DTSTART;TZID=America/Chicago:20260406T190000
DTEND;TZID=America/Chicago:20260406T202000
DTSTAMP:20260423T171553
CREATED:20260110T123423Z
LAST-MODIFIED:20260406T010739Z
UID:6651-1775502000-1775506800@edg.jadebuddha.org
SUMMARY:Nikaya Reading Class (Zoom)
DESCRIPTION:Nikaya Reading Class\n7:00PM Central time\nContact: nikaya.mgr@gmail.com
URL:http://edg.jadebuddha.org/event/nikaya-reading-class-zoom-84/
LOCATION:TX
CATEGORIES:EDG Program
END:VEVENT
BEGIN:VEVENT
DTSTART;TZID=America/Chicago:20260408T180000
DTEND;TZID=America/Chicago:20260408T193000
DTSTAMP:20260423T171553
CREATED:20260110T135135Z
LAST-MODIFIED:20260110T135135Z
UID:6722-1775671200-1775676600@edg.jadebuddha.org
SUMMARY:Buddha’s Book Club (Zoom)
DESCRIPTION:Hosted by Bhikkhu Cintita at the Theravada Dhamma Society of Minnesota\nhttps://cintita.org/event-calendar/\nContact: tdsm.correspondence@gmail.com \n 
URL:http://edg.jadebuddha.org/event/buddhas-book-club-zoom-36/
LOCATION:TX
CATEGORIES:EDG Program
END:VEVENT
BEGIN:VEVENT
DTSTART;TZID=America/Chicago:20260411T090000
DTEND;TZID=America/Chicago:20260411T103000
DTSTAMP:20260423T171553
CREATED:20260110T133114Z
LAST-MODIFIED:20260110T133114Z
UID:6700-1775898000-1775903400@edg.jadebuddha.org
SUMMARY:vSMG Meditation and Book Study (Zoom)
DESCRIPTION:vSMG (Virtual Satellite Meditation Group) Meditation and Book Study\nGently guided Vipassana Group Meditation 9:00am Central Time\nBook Study 9:30am\nContact: vsmg.mgr@gmail.com
URL:http://edg.jadebuddha.org/event/vsmg-meditation-and-book-study-zoom-97/
LOCATION:TX
CATEGORIES:EDG Program
END:VEVENT
BEGIN:VEVENT
DTSTART;TZID=America/Chicago:20260412T100000
DTEND;TZID=America/Chicago:20260412T113000
DTSTAMP:20260423T171553
CREATED:20260110T130946Z
LAST-MODIFIED:20260327T204030Z
UID:6680-1775988000-1775993400@edg.jadebuddha.org
SUMMARY:Meditation & Dharma talk by Bhikkhu Cintita on "Reaching into the Unconscious."
DESCRIPTION:Guided meditation (10AM) and Dharma talk (10:30AM).  Dharma talk will be given remotely via Zoom. You’re warmly invited to join us in Kwan Yin Hall\, where the Zoom session will be projected for everyone to experience together.
URL:http://edg.jadebuddha.org/event/meditation-dharma-talk-by-bhikkhu-cintita-6/
LOCATION:Jade Buddha Temple\, 6969 Westbranch Drive\, Houston\, TX\, 77072\, United States
CATEGORIES:EDG Program
END:VEVENT
BEGIN:VEVENT
DTSTART;TZID=America/Chicago:20260413T190000
DTEND;TZID=America/Chicago:20260413T202000
DTSTAMP:20260423T171553
CREATED:20260110T123511Z
LAST-MODIFIED:20260406T010825Z
UID:6653-1776106800-1776111600@edg.jadebuddha.org
SUMMARY:Nikaya Reading Class (Zoom)
DESCRIPTION:Nikaya Reading Class\n7:00PM Central time\nContact: nikaya.mgr@gmail.com
URL:http://edg.jadebuddha.org/event/nikaya-reading-class-zoom-85/
LOCATION:TX
CATEGORIES:EDG Program
END:VEVENT
BEGIN:VEVENT
DTSTART;TZID=America/Chicago:20260415T180000
DTEND;TZID=America/Chicago:20260415T193000
DTSTAMP:20260423T171553
CREATED:20260406T013139Z
LAST-MODIFIED:20260406T013139Z
UID:6851-1776276000-1776281400@edg.jadebuddha.org
SUMMARY:Buddha’s Book Club (Zoom)
DESCRIPTION:Hosted by Bhikkhu Cintita at the Theravada Dhamma Society of Minnesota\nhttps://cintita.org/event-calendar/\nContact: tdsm.correspondence@gmail.com
URL:http://edg.jadebuddha.org/event/buddhas-book-club-zoom-29/
LOCATION:TX
CATEGORIES:EDG Program
END:VEVENT
BEGIN:VEVENT
DTSTART;VALUE=DATE:20260417
DTEND;VALUE=DATE:20260425
DTSTAMP:20260423T171553
CREATED:20260406T112233Z
LAST-MODIFIED:20260406T112301Z
UID:6885-1776384000-1777075199@edg.jadebuddha.org
SUMMARY:Bhante Gavesi\, Insight Meditation Retreat at American Bodhi Center
DESCRIPTION:A Malaysian Bhikkhu and Spiritual Advisor at Peace House (Penang)\, Bhante Gavesi has taught internationally for over two decades. His intensive retreat offers steady\, insightful guidance for deepening practice.
URL:http://edg.jadebuddha.org/event/bhante-gavesi-insight-meditation-retreat-at-american-bodhi-center-april-17-24/
LOCATION:American Bodhi Center\, 29123 Mellman Rd\, Hempstead\, TX\, 77445\, United States
CATEGORIES:Retreat
END:VEVENT
BEGIN:VEVENT
DTSTART;TZID=America/Chicago:20260418T090000
DTEND;TZID=America/Chicago:20260418T103000
DTSTAMP:20260423T171553
CREATED:20260406T012159Z
LAST-MODIFIED:20260406T012159Z
UID:6833-1776502800-1776508200@edg.jadebuddha.org
SUMMARY:vSMG Meditation and Book Study (Zoom)
DESCRIPTION:vSMG (Virtual Satellite Meditation Group) Meditation and Book Study\nGently guided Vipassana Group Meditation 9:00am Central Time\nBook Study 9:30am\nContact: vsmg.mgr@gmail.com
URL:http://edg.jadebuddha.org/event/vsmg-meditation-and-book-study-zoom-98/
LOCATION:TX
CATEGORIES:EDG Program
END:VEVENT
BEGIN:VEVENT
DTSTART;TZID=America/Chicago:20260419T100000
DTEND;TZID=America/Chicago:20260419T113000
DTSTAMP:20260423T171553
CREATED:20260406T014529Z
LAST-MODIFIED:20260406T014529Z
UID:6867-1776592800-1776598200@edg.jadebuddha.org
SUMMARY:Meditation & Dharma talk by Hunter White
DESCRIPTION:Guided meditation (10AM) and Dharma talk (10:30AM).  Dharma talk will be given in person\, at Kwan Yin Hall. This will also be available via Zoom\, for persons that cannot attend.
URL:http://edg.jadebuddha.org/event/meditation-dharma-talk-by-hunter-white-3/
LOCATION:Jade Buddha Temple\, 6969 Westbranch Drive\, Houston\, TX\, 77072\, United States
CATEGORIES:EDG Program
END:VEVENT
BEGIN:VEVENT
DTSTART;TZID=America/Chicago:20260420T190000
DTEND;TZID=America/Chicago:20260420T202000
DTSTAMP:20260423T171553
CREATED:20260406T011202Z
LAST-MODIFIED:20260406T011202Z
UID:6819-1776711600-1776716400@edg.jadebuddha.org
SUMMARY:Nikaya Reading Class (Zoom)
DESCRIPTION:Nikaya Reading Class\n7:00PM Central time\nContact: nikaya.mgr@gmail.com
URL:http://edg.jadebuddha.org/event/nikaya-reading-class-zoom-86/
LOCATION:TX
CATEGORIES:EDG Program
END:VEVENT
BEGIN:VEVENT
DTSTART;TZID=America/Chicago:20260422T180000
DTEND;TZID=America/Chicago:20260422T193000
DTSTAMP:20260423T171553
CREATED:20260406T013229Z
LAST-MODIFIED:20260406T013229Z
UID:6853-1776880800-1776886200@edg.jadebuddha.org
SUMMARY:Buddha’s Book Club (Zoom)
DESCRIPTION:Hosted by Bhikkhu Cintita at the Theravada Dhamma Society of Minnesota\nhttps://cintita.org/event-calendar/\nContact: tdsm.correspondence@gmail.com
URL:http://edg.jadebuddha.org/event/buddhas-book-club-zoom-37/
LOCATION:TX
CATEGORIES:EDG Program
END:VEVENT
BEGIN:VEVENT
DTSTART;TZID=America/Chicago:20260425T090000
DTEND;TZID=America/Chicago:20260425T103000
DTSTAMP:20260423T171553
CREATED:20260406T012253Z
LAST-MODIFIED:20260406T012253Z
UID:6835-1777107600-1777113000@edg.jadebuddha.org
SUMMARY:vSMG Meditation and Book Study (Zoom)
DESCRIPTION:vSMG (Virtual Satellite Meditation Group) Meditation and Book Study\nGently guided Vipassana Group Meditation 9:00am Central Time\nBook Study 9:30am\nContact: vsmg.mgr@gmail.com
URL:http://edg.jadebuddha.org/event/vsmg-meditation-and-book-study-zoom-99/
LOCATION:TX
CATEGORIES:EDG Program
END:VEVENT
END:VCALENDAR