BEGIN:VCALENDAR
VERSION:2.0
PRODID:-//English Dharma Group - ECPv6.15.3//NONSGML v1.0//EN
CALSCALE:GREGORIAN
METHOD:PUBLISH
X-ORIGINAL-URL:http://edg.jadebuddha.org
X-WR-CALDESC:Events for English Dharma Group
REFRESH-INTERVAL;VALUE=DURATION:PT1H
X-Robots-Tag:noindex
X-PUBLISHED-TTL:PT1H
BEGIN:VTIMEZONE
TZID:America/Chicago
BEGIN:DAYLIGHT
TZOFFSETFROM:-0600
TZOFFSETTO:-0500
TZNAME:CDT
DTSTART:20250309T080000
END:DAYLIGHT
BEGIN:STANDARD
TZOFFSETFROM:-0500
TZOFFSETTO:-0600
TZNAME:CST
DTSTART:20251102T070000
END:STANDARD
END:VTIMEZONE
BEGIN:VEVENT
DTSTART;TZID=America/Chicago:20251115T090000
DTEND;TZID=America/Chicago:20251115T140000
DTSTAMP:20260424T191902
CREATED:20251013T131857Z
LAST-MODIFIED:20251013T135625Z
UID:6442-1763197200-1763215200@edg.jadebuddha.org
SUMMARY:ABC Saturday Meditation
DESCRIPTION:American Bodhi Center (ABC) Saturday Meditation guided by Ven. Tong Hong\nFor more information see the ABC website (See “View Venue Website”\, below)
URL:http://edg.jadebuddha.org/event/abc-saturday-meditation-69/
LOCATION:American Bodhi Center\, 29123 Mellman Rd\, Hempstead\, TX\, 77445\, United States
CATEGORIES:Retreat
END:VEVENT
BEGIN:VEVENT
DTSTART;TZID=America/Chicago:20251115T100000
DTEND;TZID=America/Chicago:20251115T113000
DTSTAMP:20260424T191902
CREATED:20251013T131037Z
LAST-MODIFIED:20251013T135732Z
UID:6434-1763200800-1763206200@edg.jadebuddha.org
SUMMARY:vSMG Meditation and Book Study (Zoom)
DESCRIPTION:vSMG (Virtual Satellite Meditation Group) Meditation and Book Study\nGently guided Vipassana Group Meditation 9:00am Central Time\nBook Study 9:30am\nContact: vsmg.mgr@gmail.com
URL:http://edg.jadebuddha.org/event/vsmg-meditation-and-book-study-zoom-77/
LOCATION:TX
CATEGORIES:EDG Program
END:VEVENT
BEGIN:VEVENT
DTSTART;TZID=America/Chicago:20251115T100000
DTEND;TZID=America/Chicago:20251115T130000
DTSTAMP:20260424T191902
CREATED:20251105T102918Z
LAST-MODIFIED:20251105T102918Z
UID:6501-1763200800-1763211600@edg.jadebuddha.org
SUMMARY:Fund Raising Bazaar
DESCRIPTION:1. Support the English Dharma Group’s Coffee Stand\nWe’re excited to bring a gourmet coffee experience to this year’s event with a mobile espresso bar! If you’d like to help cover the costs for the coffee bar service\, we would be grateful for any contributions\, large or small. Any excess funds will go directly to support the temple. To donate\, please use one of the following methods: \nZelle: 6969tba@gmail.com (Please state that this is for the “EDG Bazaar”)\n(p/s: please email jadebuddhatx@gmail.com once payment is made ) \nCash/check: Please pass to Hunter White \n2. Prepare Homemade Food\, Snacks or Other Items to Sell at the Bazaar\nWe welcome donations of food\, snacks\, or other items for sale at the event. If you’d like to contribute\, please let us know in advance by emailing jadebuddhatx@gmail.com. \n3. Volunteer at the Event\nHelp us run the booth! We’re looking for volunteers to assist on November 15 from 10:00 AM to 1:00 PM. If you’re available\, contact jadebuddhatx@gmail.com to sign up.
URL:http://edg.jadebuddha.org/event/fund-raising-bazaar/
LOCATION:Jade Buddha Temple\, 6969 Westbranch Drive\, Houston\, TX\, 77072\, United States
CATEGORIES:EDG Program
END:VEVENT
END:VCALENDAR